BEGIN:VCALENDAR
VERSION:2.0
PRODID:-//La Salle University - ECPv6.15.20//NONSGML v1.0//EN
CALSCALE:GREGORIAN
METHOD:PUBLISH
X-ORIGINAL-URL:https://www.lasalle.edu
X-WR-CALDESC:Events for La Salle University
REFRESH-INTERVAL;VALUE=DURATION:PT1H
X-Robots-Tag:noindex
X-PUBLISHED-TTL:PT1H
BEGIN:VTIMEZONE
TZID:America/New_York
BEGIN:DAYLIGHT
TZOFFSETFROM:-0500
TZOFFSETTO:-0400
TZNAME:EDT
DTSTART:20240310T070000
END:DAYLIGHT
BEGIN:STANDARD
TZOFFSETFROM:-0400
TZOFFSETTO:-0500
TZNAME:EST
DTSTART:20241103T060000
END:STANDARD
BEGIN:DAYLIGHT
TZOFFSETFROM:-0500
TZOFFSETTO:-0400
TZNAME:EDT
DTSTART:20250309T070000
END:DAYLIGHT
BEGIN:STANDARD
TZOFFSETFROM:-0400
TZOFFSETTO:-0500
TZNAME:EST
DTSTART:20251102T060000
END:STANDARD
BEGIN:DAYLIGHT
TZOFFSETFROM:-0500
TZOFFSETTO:-0400
TZNAME:EDT
DTSTART:20260308T070000
END:DAYLIGHT
BEGIN:STANDARD
TZOFFSETFROM:-0400
TZOFFSETTO:-0500
TZNAME:EST
DTSTART:20261101T060000
END:STANDARD
END:VTIMEZONE
BEGIN:VEVENT
DTSTART;TZID=America/New_York:20251007T123000
DTEND;TZID=America/New_York:20251007T140000
DTSTAMP:20260421T131632
CREATED:20251004T013026Z
LAST-MODIFIED:20251007T173403Z
UID:10005091-1759840200-1759845600@www.lasalle.edu
SUMMARY:Deepher Dude
DESCRIPTION:Deepher Dude
URL:https://www.lasalle.edu/event/deepher-dude-22/
LOCATION:La Salle Union Lobby Table
CATEGORIES:Entertainment
END:VEVENT
BEGIN:VEVENT
DTSTART;TZID=America/New_York:20251002T123000
DTEND;TZID=America/New_York:20251002T140000
DTSTAMP:20260421T131632
CREATED:20250927T033043Z
LAST-MODIFIED:20251002T173206Z
UID:10005063-1759408200-1759413600@www.lasalle.edu
SUMMARY:Deepher Dude
DESCRIPTION:Deepher Dude
URL:https://www.lasalle.edu/event/deepher-dude-21/
LOCATION:La Salle Union Lobby Table
CATEGORIES:Entertainment
END:VEVENT
BEGIN:VEVENT
DTSTART;TZID=America/New_York:20250930T123000
DTEND;TZID=America/New_York:20250930T140000
DTSTAMP:20260421T131632
CREATED:20250925T234310Z
LAST-MODIFIED:20250930T173524Z
UID:10005054-1759235400-1759240800@www.lasalle.edu
SUMMARY:Deepher Dude
DESCRIPTION:Deepher Dude
URL:https://www.lasalle.edu/event/deepher-dude-20/
LOCATION:La Salle Union Lobby Table
CATEGORIES:Entertainment
END:VEVENT
BEGIN:VEVENT
DTSTART;TZID=America/New_York:20250925T123000
DTEND;TZID=America/New_York:20250925T140000
DTSTAMP:20260421T131632
CREATED:20250920T074958Z
LAST-MODIFIED:20250925T174522Z
UID:10005029-1758803400-1758808800@www.lasalle.edu
SUMMARY:Deepher Dude
DESCRIPTION:Deepher Dude
URL:https://www.lasalle.edu/event/deepher-dude-19/
LOCATION:La Salle Union Lobby Table
CATEGORIES:Entertainment
END:VEVENT
BEGIN:VEVENT
DTSTART;TZID=America/New_York:20250925T120000
DTEND;TZID=America/New_York:20250925T140000
DTSTAMP:20260421T131632
CREATED:20250921T043109Z
LAST-MODIFIED:20250925T174523Z
UID:10005032-1758801600-1758808800@www.lasalle.edu
SUMMARY:Employer Tabling: Evolution
DESCRIPTION:Stop by the Union lobby during free period to meet the representatives from Evolution! Learn more about what opportunities they might have that are available to you!
URL:https://www.lasalle.edu/event/employer-tabling-evolution/
LOCATION:La Salle Union Lobby Table
CATEGORIES:Job/Career
END:VEVENT
BEGIN:VEVENT
DTSTART;TZID=America/New_York:20250923T123000
DTEND;TZID=America/New_York:20250923T140000
DTSTAMP:20260421T131632
CREATED:20250919T025113Z
LAST-MODIFIED:20250923T175106Z
UID:10005020-1758630600-1758636000@www.lasalle.edu
SUMMARY:Commuter Coaches & BSU: Carnival/Fair
DESCRIPTION:Commuter Coaches & BSU: Carnival/Fair
URL:https://www.lasalle.edu/event/commuter-coaches-bsu-carnival-fair/
LOCATION:La Salle Union Lobby Table
CATEGORIES:Entertainment
END:VEVENT
BEGIN:VEVENT
DTSTART;TZID=America/New_York:20250923T123000
DTEND;TZID=America/New_York:20250923T140000
DTSTAMP:20260421T131632
CREATED:20250918T224931Z
LAST-MODIFIED:20250923T175105Z
UID:10005017-1758630600-1758636000@www.lasalle.edu
SUMMARY:Deepher Dude
DESCRIPTION:Deepher Dude
URL:https://www.lasalle.edu/event/deepher-dude-18/
LOCATION:La Salle Union Lobby Table
CATEGORIES:Entertainment
END:VEVENT
BEGIN:VEVENT
DTSTART;TZID=America/New_York:20250919T080000
DTEND;TZID=America/New_York:20250919T170000
DTSTAMP:20260421T131632
CREATED:20250917T005735Z
LAST-MODIFIED:20250919T203546Z
UID:10005006-1758268800-1758301200@www.lasalle.edu
SUMMARY:Deprung Gomang handicraft
DESCRIPTION:Deprung Gomang handicraft
URL:https://www.lasalle.edu/event/deprung-gomang-handicraft-5/
LOCATION:La Salle Union Lobby Table
CATEGORIES:Multicultural/Diversity
END:VEVENT
BEGIN:VEVENT
DTSTART;TZID=America/New_York:20250918T123000
DTEND;TZID=America/New_York:20250918T140000
DTSTAMP:20260421T131632
CREATED:20250916T184254Z
LAST-MODIFIED:20250918T173705Z
UID:10005002-1758198600-1758204000@www.lasalle.edu
SUMMARY:Deepher Dude
DESCRIPTION:Deepher Dude
URL:https://www.lasalle.edu/event/deepher-dude-17/
LOCATION:La Salle Union Lobby Table
CATEGORIES:Entertainment
END:VEVENT
BEGIN:VEVENT
DTSTART;TZID=America/New_York:20250918T080000
DTEND;TZID=America/New_York:20250918T170000
DTSTAMP:20260421T131632
CREATED:20250913T193645Z
LAST-MODIFIED:20250918T203526Z
UID:10004998-1758182400-1758214800@www.lasalle.edu
SUMMARY:Deprung Gomang handicraft
DESCRIPTION:Deprung Gomang handicraft
URL:https://www.lasalle.edu/event/deprung-gomang-handicraft-4/
LOCATION:La Salle Union Lobby Table
CATEGORIES:Multicultural/Diversity
END:VEVENT
BEGIN:VEVENT
DTSTART;TZID=America/New_York:20250917T080000
DTEND;TZID=America/New_York:20250917T170000
DTSTAMP:20260421T131632
CREATED:20250911T203108Z
LAST-MODIFIED:20250917T203507Z
UID:10004996-1758096000-1758128400@www.lasalle.edu
SUMMARY:Deprung Gomang handicraft
DESCRIPTION:Deprung Gomang handicraft
URL:https://www.lasalle.edu/event/deprung-gomang-handicraft-3/
LOCATION:La Salle Union Lobby Table
CATEGORIES:Multicultural/Diversity
END:VEVENT
BEGIN:VEVENT
DTSTART;TZID=America/New_York:20250916T123000
DTEND;TZID=America/New_York:20250916T140000
DTSTAMP:20260421T131632
CREATED:20250911T194106Z
LAST-MODIFIED:20250916T174658Z
UID:10004995-1758025800-1758031200@www.lasalle.edu
SUMMARY:Deepher Dude
DESCRIPTION:Deepher Dude
URL:https://www.lasalle.edu/event/deepher-dude-16/
LOCATION:La Salle Union Lobby Table
CATEGORIES:Entertainment
END:VEVENT
BEGIN:VEVENT
DTSTART;TZID=America/New_York:20250916T080000
DTEND;TZID=America/New_York:20250916T170000
DTSTAMP:20260421T131632
CREATED:20250910T235703Z
LAST-MODIFIED:20250916T203838Z
UID:10004994-1758009600-1758042000@www.lasalle.edu
SUMMARY:Deprung Gomang handicraft
DESCRIPTION:Deprung Gomang handicraft
URL:https://www.lasalle.edu/event/deprung-gomang-handicraft-2/
LOCATION:La Salle Union Lobby Table
CATEGORIES:Multicultural/Diversity
END:VEVENT
BEGIN:VEVENT
DTSTART;TZID=America/New_York:20250915T080000
DTEND;TZID=America/New_York:20250915T170000
DTSTAMP:20260421T131632
CREATED:20250909T123726Z
LAST-MODIFIED:20250915T204318Z
UID:10004993-1757923200-1757955600@www.lasalle.edu
SUMMARY:Deprung Gomang handicraft
DESCRIPTION:Deprung Gomang handicraft
URL:https://www.lasalle.edu/event/deprung-gomang-handicraft/
LOCATION:La Salle Union Lobby Table
CATEGORIES:Multicultural/Diversity
END:VEVENT
BEGIN:VEVENT
DTSTART;TZID=America/New_York:20250911T123000
DTEND;TZID=America/New_York:20250911T140000
DTSTAMP:20260421T131632
CREATED:20250908T123839Z
LAST-MODIFIED:20250911T173455Z
UID:10004989-1757593800-1757599200@www.lasalle.edu
SUMMARY:Deepher Dude
DESCRIPTION:Deepher Dude
URL:https://www.lasalle.edu/event/deepher-dude-15/
LOCATION:La Salle Union Lobby Table
CATEGORIES:Entertainment
END:VEVENT
BEGIN:VEVENT
DTSTART;TZID=America/New_York:20250909T123000
DTEND;TZID=America/New_York:20250909T140000
DTSTAMP:20260421T131632
CREATED:20250904T193517Z
LAST-MODIFIED:20250909T173502Z
UID:10004986-1757421000-1757426400@www.lasalle.edu
SUMMARY:Deepher Dude
DESCRIPTION:Deepher Dude
URL:https://www.lasalle.edu/event/deepher-dude-14/
LOCATION:La Salle Union Lobby Table
CATEGORIES:Entertainment
END:VEVENT
BEGIN:VEVENT
DTSTART;TZID=America/New_York:20250429T123000
DTEND;TZID=America/New_York:20250429T140000
DTSTAMP:20260421T131632
CREATED:20250423T023342Z
LAST-MODIFIED:20250429T173934Z
UID:10004556-1745929800-1745935200@www.lasalle.edu
SUMMARY:caregivers and parents event
DESCRIPTION:caregivers and parents event
URL:https://www.lasalle.edu/event/caregivers-and-parents-event/
LOCATION:La Salle Union Lobby Table
CATEGORIES:Entertainment
END:VEVENT
BEGIN:VEVENT
DTSTART;TZID=America/New_York:20250425T123000
DTEND;TZID=America/New_York:20250425T140000
DTSTAMP:20260421T131632
CREATED:20250421T194453Z
LAST-MODIFIED:20250425T174359Z
UID:10004548-1745584200-1745589600@www.lasalle.edu
SUMMARY:Meet the Sigmas
DESCRIPTION:Meet the Sigmas
URL:https://www.lasalle.edu/event/meet-the-sigmas-2/
LOCATION:La Salle Union Lobby Table
CATEGORIES:Leadership Development
END:VEVENT
BEGIN:VEVENT
DTSTART;TZID=America/New_York:20250415T123000
DTEND;TZID=America/New_York:20250415T140000
DTSTAMP:20260421T131632
CREATED:20250412T230858Z
LAST-MODIFIED:20250415T174533Z
UID:10004514-1744720200-1744725600@www.lasalle.edu
SUMMARY:Consent Pledge
DESCRIPTION:Sign our Consent Matters banner and learn more about tonight’s Light Up the Night event.
URL:https://www.lasalle.edu/event/consent-pledge/
LOCATION:La Salle Union Lobby Table
CATEGORIES:Wellness/Recreation
END:VEVENT
BEGIN:VEVENT
DTSTART;TZID=America/New_York:20250410T120000
DTEND;TZID=America/New_York:20250410T140000
DTSTAMP:20260421T131632
CREATED:20250408T184734Z
LAST-MODIFIED:20250410T174420Z
UID:10004477-1744286400-1744293600@www.lasalle.edu
SUMMARY:Employer Tabling: Lincoln Center
DESCRIPTION:Stop by the Union Lobby to meet with the representatives from the Lincoln Center from 12:00 to 2:00 PM. Learn more about what opportunities they might have available to you!
URL:https://www.lasalle.edu/event/employer-tabling-lincoln-center/
LOCATION:La Salle Union Lobby Table
CATEGORIES:Job/Career
END:VEVENT
BEGIN:VEVENT
DTSTART;TZID=America/New_York:20250409T140000
DTEND;TZID=America/New_York:20250409T150000
DTSTAMP:20260421T131632
CREATED:20250406T004756Z
LAST-MODIFIED:20250409T184812Z
UID:10004466-1744207200-1744210800@www.lasalle.edu
SUMMARY:Hot DoG!
DESCRIPTION:Hot DoG!
URL:https://www.lasalle.edu/event/hot-dog/
LOCATION:La Salle Union Lobby Table
CATEGORIES:University Celebrations
END:VEVENT
BEGIN:VEVENT
DTSTART;TZID=America/New_York:20250409T133000
DTEND;TZID=America/New_York:20250409T153000
DTSTAMP:20260421T131632
CREATED:20250406T033612Z
LAST-MODIFIED:20250409T184811Z
UID:10004467-1744205400-1744212600@www.lasalle.edu
SUMMARY:Candy Salad
DESCRIPTION:Candy Salad
URL:https://www.lasalle.edu/event/candy-salad/
LOCATION:La Salle Union Lobby Table
CATEGORIES:University Celebrations
END:VEVENT
BEGIN:VEVENT
DTSTART;TZID=America/New_York:20250409T113000
DTEND;TZID=America/New_York:20250409T133000
DTSTAMP:20260421T131632
CREATED:20250406T043639Z
LAST-MODIFIED:20250409T164525Z
UID:10004472-1744198200-1744205400@www.lasalle.edu
SUMMARY:Dumplings
DESCRIPTION:Dumplings
URL:https://www.lasalle.edu/event/dumplings/
LOCATION:La Salle Union Lobby Table
CATEGORIES:University Celebrations
END:VEVENT
BEGIN:VEVENT
DTSTART;TZID=America/New_York:20250409T090000
DTEND;TZID=America/New_York:20250409T170000
DTSTAMP:20260421T131632
CREATED:20250406T043638Z
LAST-MODIFIED:20250409T204451Z
UID:10004470-1744189200-1744218000@www.lasalle.edu
SUMMARY:Zen Zone
DESCRIPTION:Photo Op and Card Decorating
URL:https://www.lasalle.edu/event/zen-zone/
LOCATION:La Salle Union Lobby Table
CATEGORIES:University Celebrations
END:VEVENT
BEGIN:VEVENT
DTSTART;TZID=America/New_York:20250409T090000
DTEND;TZID=America/New_York:20250409T170000
DTSTAMP:20260421T131632
CREATED:20250406T043638Z
LAST-MODIFIED:20250409T204450Z
UID:10004471-1744189200-1744218000@www.lasalle.edu
SUMMARY:Photo Op and Card Decorating
DESCRIPTION:Photo Op and Card Decorating
URL:https://www.lasalle.edu/event/photo-op-and-card-decorating/
LOCATION:La Salle Union Lobby Table
CATEGORIES:University Celebrations
END:VEVENT
BEGIN:VEVENT
DTSTART;TZID=America/New_York:20250408T123000
DTEND;TZID=America/New_York:20250408T140000
DTSTAMP:20260421T131632
CREATED:20250405T194226Z
LAST-MODIFIED:20250408T175135Z
UID:10004461-1744115400-1744120800@www.lasalle.edu
SUMMARY:Consent is FRIES
DESCRIPTION:Consent is FRIES – What do fries have to do with consent? Check out our table to find out! Goodies and treats while supplies last.
URL:https://www.lasalle.edu/event/consent-is-fries/
LOCATION:La Salle Union Lobby Table
CATEGORIES:Wellness/Recreation
END:VEVENT
BEGIN:VEVENT
DTSTART;TZID=America/New_York:20250401T120000
DTEND;TZID=America/New_York:20250401T140000
DTSTAMP:20260421T131632
CREATED:20250327T190455Z
LAST-MODIFIED:20250401T174920Z
UID:10004437-1743508800-1743516000@www.lasalle.edu
SUMMARY:Employer Tabling: Full Circle Landscape Solutions
DESCRIPTION:Stop by the Union Lobby to meet with the representatives from Full Circle Landscape Solutions and see what career opportunities they may have for you!
URL:https://www.lasalle.edu/event/employer-tabling-full-circle-landscape-solutions/
LOCATION:La Salle Union Lobby Table
CATEGORIES:Job/Career
END:VEVENT
BEGIN:VEVENT
DTSTART;TZID=America/New_York:20250327T123000
DTEND;TZID=America/New_York:20250327T140000
DTSTAMP:20260421T131632
CREATED:20250309T093710Z
LAST-MODIFIED:20250327T174031Z
UID:10004387-1743078600-1743084000@www.lasalle.edu
SUMMARY:Prom Drive
DESCRIPTION:Prom Drive
URL:https://www.lasalle.edu/event/prom-drive-6/
LOCATION:La Salle Union Lobby Table
CATEGORIES:Leadership Development
END:VEVENT
BEGIN:VEVENT
DTSTART;TZID=America/New_York:20250327T120000
DTEND;TZID=America/New_York:20250327T140000
DTSTAMP:20260421T131632
CREATED:20250326T023657Z
LAST-MODIFIED:20250327T173735Z
UID:10004434-1743076800-1743084000@www.lasalle.edu
SUMMARY:Praise Dance Ministry Club
DESCRIPTION:Praise Dance Ministry Club
URL:https://www.lasalle.edu/event/praise-dance-ministry-club/
LOCATION:La Salle Union Lobby Table
CATEGORIES:Leadership Development
END:VEVENT
BEGIN:VEVENT
DTSTART;TZID=America/New_York:20250327T120000
DTEND;TZID=America/New_York:20250327T140000
DTSTAMP:20260421T131632
CREATED:20250309T091302Z
LAST-MODIFIED:20250327T173735Z
UID:10004386-1743076800-1743084000@www.lasalle.edu
SUMMARY:Ace Hiring tabling
DESCRIPTION:Ace Hiring tabling
URL:https://www.lasalle.edu/event/ace-hiring-tabling-4/
LOCATION:La Salle Union Lobby Table
CATEGORIES:Job/Career
END:VEVENT
END:VCALENDAR