BEGIN:VCALENDAR
VERSION:2.0
PRODID:-//La Salle University - ECPv6.15.20//NONSGML v1.0//EN
CALSCALE:GREGORIAN
METHOD:PUBLISH
X-ORIGINAL-URL:https://www.lasalle.edu
X-WR-CALDESC:Events for La Salle University
REFRESH-INTERVAL;VALUE=DURATION:PT1H
X-Robots-Tag:noindex
X-PUBLISHED-TTL:PT1H
BEGIN:VTIMEZONE
TZID:America/New_York
BEGIN:DAYLIGHT
TZOFFSETFROM:-0500
TZOFFSETTO:-0400
TZNAME:EDT
DTSTART:20240310T070000
END:DAYLIGHT
BEGIN:STANDARD
TZOFFSETFROM:-0400
TZOFFSETTO:-0500
TZNAME:EST
DTSTART:20241103T060000
END:STANDARD
BEGIN:DAYLIGHT
TZOFFSETFROM:-0500
TZOFFSETTO:-0400
TZNAME:EDT
DTSTART:20250309T070000
END:DAYLIGHT
BEGIN:STANDARD
TZOFFSETFROM:-0400
TZOFFSETTO:-0500
TZNAME:EST
DTSTART:20251102T060000
END:STANDARD
BEGIN:DAYLIGHT
TZOFFSETFROM:-0500
TZOFFSETTO:-0400
TZNAME:EDT
DTSTART:20260308T070000
END:DAYLIGHT
BEGIN:STANDARD
TZOFFSETFROM:-0400
TZOFFSETTO:-0500
TZNAME:EST
DTSTART:20261101T060000
END:STANDARD
END:VTIMEZONE
BEGIN:VEVENT
DTSTART;TZID=America/New_York:20250409T090000
DTEND;TZID=America/New_York:20250409T170000
DTSTAMP:20260422T132152
CREATED:20250406T043638Z
LAST-MODIFIED:20250409T204450Z
UID:10004471-1744189200-1744218000@www.lasalle.edu
SUMMARY:Photo Op and Card Decorating
DESCRIPTION:Photo Op and Card Decorating
URL:https://www.lasalle.edu/event/photo-op-and-card-decorating/
LOCATION:La Salle Union Lobby Table
CATEGORIES:University Celebrations
END:VEVENT
BEGIN:VEVENT
DTSTART;TZID=America/New_York:20250408T123000
DTEND;TZID=America/New_York:20250408T140000
DTSTAMP:20260422T132152
CREATED:20250405T194226Z
LAST-MODIFIED:20250408T175135Z
UID:10004461-1744115400-1744120800@www.lasalle.edu
SUMMARY:Consent is FRIES
DESCRIPTION:Consent is FRIES – What do fries have to do with consent? Check out our table to find out! Goodies and treats while supplies last.
URL:https://www.lasalle.edu/event/consent-is-fries/
LOCATION:La Salle Union Lobby Table
CATEGORIES:Wellness/Recreation
END:VEVENT
BEGIN:VEVENT
DTSTART;TZID=America/New_York:20250401T120000
DTEND;TZID=America/New_York:20250401T140000
DTSTAMP:20260422T132152
CREATED:20250327T190455Z
LAST-MODIFIED:20250401T174920Z
UID:10004437-1743508800-1743516000@www.lasalle.edu
SUMMARY:Employer Tabling: Full Circle Landscape Solutions
DESCRIPTION:Stop by the Union Lobby to meet with the representatives from Full Circle Landscape Solutions and see what career opportunities they may have for you!
URL:https://www.lasalle.edu/event/employer-tabling-full-circle-landscape-solutions/
LOCATION:La Salle Union Lobby Table
CATEGORIES:Job/Career
END:VEVENT
BEGIN:VEVENT
DTSTART;TZID=America/New_York:20250327T123000
DTEND;TZID=America/New_York:20250327T140000
DTSTAMP:20260422T132152
CREATED:20250309T093710Z
LAST-MODIFIED:20250327T174031Z
UID:10004387-1743078600-1743084000@www.lasalle.edu
SUMMARY:Prom Drive
DESCRIPTION:Prom Drive
URL:https://www.lasalle.edu/event/prom-drive-6/
LOCATION:La Salle Union Lobby Table
CATEGORIES:Leadership Development
END:VEVENT
BEGIN:VEVENT
DTSTART;TZID=America/New_York:20250327T120000
DTEND;TZID=America/New_York:20250327T140000
DTSTAMP:20260422T132152
CREATED:20250326T023657Z
LAST-MODIFIED:20250327T173735Z
UID:10004434-1743076800-1743084000@www.lasalle.edu
SUMMARY:Praise Dance Ministry Club
DESCRIPTION:Praise Dance Ministry Club
URL:https://www.lasalle.edu/event/praise-dance-ministry-club/
LOCATION:La Salle Union Lobby Table
CATEGORIES:Leadership Development
END:VEVENT
BEGIN:VEVENT
DTSTART;TZID=America/New_York:20250327T120000
DTEND;TZID=America/New_York:20250327T140000
DTSTAMP:20260422T132152
CREATED:20250309T091302Z
LAST-MODIFIED:20250327T173735Z
UID:10004386-1743076800-1743084000@www.lasalle.edu
SUMMARY:Ace Hiring tabling
DESCRIPTION:Ace Hiring tabling
URL:https://www.lasalle.edu/event/ace-hiring-tabling-4/
LOCATION:La Salle Union Lobby Table
CATEGORIES:Job/Career
END:VEVENT
BEGIN:VEVENT
DTSTART;TZID=America/New_York:20250326T120000
DTEND;TZID=America/New_York:20250326T140000
DTSTAMP:20260422T132152
CREATED:20250309T085500Z
LAST-MODIFIED:20250326T175051Z
UID:10004378-1742990400-1742997600@www.lasalle.edu
SUMMARY:Admissions
DESCRIPTION:Admissions
URL:https://www.lasalle.edu/event/admissions-6/
LOCATION:La Salle Union Lobby Table
CATEGORIES:Admissions
END:VEVENT
BEGIN:VEVENT
DTSTART;TZID=America/New_York:20250325T123000
DTEND;TZID=America/New_York:20250325T140000
DTSTAMP:20260422T132152
CREATED:20250309T084259Z
LAST-MODIFIED:20250325T175401Z
UID:10004371-1742905800-1742911200@www.lasalle.edu
SUMMARY:Prom Drive
DESCRIPTION:Prom Drive
URL:https://www.lasalle.edu/event/prom-drive-5/
LOCATION:La Salle Union Lobby Table
CATEGORIES:Leadership Development
END:VEVENT
BEGIN:VEVENT
DTSTART;TZID=America/New_York:20250324T120000
DTEND;TZID=America/New_York:20250324T140000
DTSTAMP:20260422T132152
CREATED:20250313T193940Z
LAST-MODIFIED:20250324T183554Z
UID:10004431-1742817600-1742824800@www.lasalle.edu
SUMMARY:commuter coaches
DESCRIPTION:commuter coaches
URL:https://www.lasalle.edu/event/commuter-coaches/
LOCATION:La Salle Union Lobby Table
CATEGORIES:Leadership Development
END:VEVENT
BEGIN:VEVENT
DTSTART;TZID=America/New_York:20250324T120000
DTEND;TZID=America/New_York:20250324T140000
DTSTAMP:20260422T132152
CREATED:20250309T083648Z
LAST-MODIFIED:20250324T183554Z
UID:10004365-1742817600-1742824800@www.lasalle.edu
SUMMARY:March Wellness Pop-up
DESCRIPTION:March Wellness Pop-up
URL:https://www.lasalle.edu/event/march-wellness-pop-up-3/
LOCATION:La Salle Union Lobby Table
CATEGORIES:Wellness/Recreation
END:VEVENT
BEGIN:VEVENT
DTSTART;TZID=America/New_York:20250314T130000
DTEND;TZID=America/New_York:20250314T143000
DTSTAMP:20260422T132152
CREATED:20250304T165032Z
LAST-MODIFIED:20250314T174428Z
UID:10004347-1741957200-1741962600@www.lasalle.edu
SUMMARY:Student Engagement Council
DESCRIPTION:Student Engagement Council
URL:https://www.lasalle.edu/event/student-engagement-council-29/
LOCATION:La Salle Union Lobby Table
CATEGORIES:Leadership Development
END:VEVENT
BEGIN:VEVENT
DTSTART;TZID=America/New_York:20250313T123000
DTEND;TZID=America/New_York:20250313T140000
DTSTAMP:20260422T132152
CREATED:20250304T163720Z
LAST-MODIFIED:20250313T174445Z
UID:10004345-1741869000-1741874400@www.lasalle.edu
SUMMARY:Prom Drive
DESCRIPTION:Prom Drive
URL:https://www.lasalle.edu/event/prom-drive-4/
LOCATION:La Salle Union Lobby Table
CATEGORIES:Leadership Development
END:VEVENT
BEGIN:VEVENT
DTSTART;TZID=America/New_York:20250311T130000
DTEND;TZID=America/New_York:20250311T140000
DTSTAMP:20260422T132152
CREATED:20250310T023325Z
LAST-MODIFIED:20250311T174628Z
UID:10004430-1741698000-1741701600@www.lasalle.edu
SUMMARY:Public Health Survey Table
DESCRIPTION:Public Health Survey Table
URL:https://www.lasalle.edu/event/public-health-survey-table-2/
LOCATION:La Salle Union Lobby Table
CATEGORIES:Leadership Development
END:VEVENT
BEGIN:VEVENT
DTSTART;TZID=America/New_York:20250311T123000
DTEND;TZID=America/New_York:20250311T140000
DTSTAMP:20260422T132152
CREATED:20250310T004243Z
LAST-MODIFIED:20250311T164527Z
UID:10004429-1741696200-1741701600@www.lasalle.edu
SUMMARY:Hijab Day
DESCRIPTION:Hijab Day
URL:https://www.lasalle.edu/event/hijab-day-2/
LOCATION:La Salle Union Lobby Table
CATEGORIES:Leadership Development
END:VEVENT
BEGIN:VEVENT
DTSTART;TZID=America/New_York:20250311T123000
DTEND;TZID=America/New_York:20250311T140000
DTSTAMP:20260422T132152
CREATED:20250310T004242Z
LAST-MODIFIED:20250311T174629Z
UID:10004428-1741696200-1741701600@www.lasalle.edu
SUMMARY:Hijab Day
DESCRIPTION:Hijab Day
URL:https://www.lasalle.edu/event/hijab-day/
LOCATION:La Salle Union Lobby Table
CATEGORIES:Leadership Development
END:VEVENT
BEGIN:VEVENT
DTSTART;TZID=America/New_York:20250311T123000
DTEND;TZID=America/New_York:20250311T140000
DTSTAMP:20260422T132152
CREATED:20250304T163057Z
LAST-MODIFIED:20250311T164528Z
UID:10004335-1741696200-1741701600@www.lasalle.edu
SUMMARY:Prom Drive
DESCRIPTION:Prom Drive
URL:https://www.lasalle.edu/event/prom-drive-3/
LOCATION:La Salle Union Lobby Table
CATEGORIES:Leadership Development
END:VEVENT
BEGIN:VEVENT
DTSTART;TZID=America/New_York:20250311T110000
DTEND;TZID=America/New_York:20250311T130000
DTSTAMP:20260422T132152
CREATED:20250304T163056Z
LAST-MODIFIED:20250311T164526Z
UID:10004333-1741690800-1741698000@www.lasalle.edu
SUMMARY:Center of Academic Achievement
DESCRIPTION:Center of Academic Achievement
URL:https://www.lasalle.edu/event/center-of-academic-achievement-3/
LOCATION:La Salle Union Lobby Table
CATEGORIES:Leadership Development
END:VEVENT
BEGIN:VEVENT
DTSTART;TZID=America/New_York:20250310T120000
DTEND;TZID=America/New_York:20250310T140000
DTSTAMP:20260422T132152
CREATED:20250304T154637Z
LAST-MODIFIED:20250310T174922Z
UID:10004330-1741608000-1741615200@www.lasalle.edu
SUMMARY:March Wellness Pop-up
DESCRIPTION:March Wellness Pop-up
URL:https://www.lasalle.edu/event/march-wellness-pop-up-2/
LOCATION:La Salle Union Lobby Table
CATEGORIES:Wellness/Recreation
END:VEVENT
BEGIN:VEVENT
DTSTART;TZID=America/New_York:20250307T110000
DTEND;TZID=America/New_York:20250307T130000
DTSTAMP:20260422T132152
CREATED:20250302T053244Z
LAST-MODIFIED:20250307T165324Z
UID:10004321-1741345200-1741352400@www.lasalle.edu
SUMMARY:Center of Academic Achievement
DESCRIPTION:Center of Academic Achievement
URL:https://www.lasalle.edu/event/center-of-academic-achievement-2/
LOCATION:La Salle Union Lobby Table
CATEGORIES:Leadership Development
END:VEVENT
BEGIN:VEVENT
DTSTART;TZID=America/New_York:20250306T123000
DTEND;TZID=America/New_York:20250306T140000
DTSTAMP:20260422T132152
CREATED:20250227T214123Z
LAST-MODIFIED:20250306T183645Z
UID:10004313-1741264200-1741269600@www.lasalle.edu
SUMMARY:Prom Drive
DESCRIPTION:Prom Drive
URL:https://www.lasalle.edu/event/prom-drive-2/
LOCATION:La Salle Union Lobby Table
CATEGORIES:Leadership Development
END:VEVENT
BEGIN:VEVENT
DTSTART;TZID=America/New_York:20250306T120000
DTEND;TZID=America/New_York:20250306T140000
DTSTAMP:20260422T132152
CREATED:20250304T023301Z
LAST-MODIFIED:20250306T183643Z
UID:10004327-1741262400-1741269600@www.lasalle.edu
SUMMARY:Admissions
DESCRIPTION:Admissions
URL:https://www.lasalle.edu/event/admissions-5/
LOCATION:La Salle Union Lobby Table
CATEGORIES:Admissions
END:VEVENT
BEGIN:VEVENT
DTSTART;TZID=America/New_York:20250304T123000
DTEND;TZID=America/New_York:20250304T140000
DTSTAMP:20260422T132152
CREATED:20250227T213116Z
LAST-MODIFIED:20250304T183650Z
UID:10004309-1741091400-1741096800@www.lasalle.edu
SUMMARY:Prom Drive
DESCRIPTION:Prom Drive
URL:https://www.lasalle.edu/event/prom-drive/
LOCATION:La Salle Union Lobby Table
CATEGORIES:Leadership Development
END:VEVENT
BEGIN:VEVENT
DTSTART;TZID=America/New_York:20250303T120000
DTEND;TZID=America/New_York:20250303T140000
DTSTAMP:20260422T132152
CREATED:20250226T205419Z
LAST-MODIFIED:20250303T183337Z
UID:10004307-1741003200-1741010400@www.lasalle.edu
SUMMARY:March Wellness Pop-up
DESCRIPTION:March Wellness Pop-up
URL:https://www.lasalle.edu/event/march-wellness-pop-up/
LOCATION:La Salle Union Lobby Table
CATEGORIES:Wellness/Recreation
END:VEVENT
BEGIN:VEVENT
DTSTART;TZID=America/New_York:20250227T123000
DTEND;TZID=America/New_York:20250227T140000
DTSTAMP:20260422T132152
CREATED:20250220T183743Z
LAST-MODIFIED:20250227T184729Z
UID:10004275-1740659400-1740664800@www.lasalle.edu
SUMMARY:"Glowing the Finer Way" - Zeta Phi Beta
DESCRIPTION:“Glowing the Finer Way” – Zeta Phi Beta
URL:https://www.lasalle.edu/event/glowing-the-finer-way-zeta-phi-beta/
LOCATION:La Salle Union Lobby Table
CATEGORIES:Leadership Development
END:VEVENT
BEGIN:VEVENT
DTSTART;TZID=America/New_York:20250225T123000
DTEND;TZID=America/New_York:20250225T140000
DTSTAMP:20260422T132152
CREATED:20250220T083543Z
LAST-MODIFIED:20250225T183310Z
UID:10004262-1740486600-1740492000@www.lasalle.edu
SUMMARY:Student Wellness
DESCRIPTION:Student Wellness
URL:https://www.lasalle.edu/event/student-wellness-4/
LOCATION:La Salle Union Lobby Table
CATEGORIES:Wellness/Recreation
END:VEVENT
BEGIN:VEVENT
DTSTART;TZID=America/New_York:20250218T123000
DTEND;TZID=America/New_York:20250218T140000
DTSTAMP:20260422T132152
CREATED:20250212T004121Z
LAST-MODIFIED:20250218T185318Z
UID:10004223-1739881800-1739887200@www.lasalle.edu
SUMMARY:Student Wellness
DESCRIPTION:Student Wellness
URL:https://www.lasalle.edu/event/student-wellness-3/
LOCATION:La Salle Union Lobby Table
CATEGORIES:Wellness/Recreation
END:VEVENT
BEGIN:VEVENT
DTSTART;TZID=America/New_York:20250218T120000
DTEND;TZID=America/New_York:20250218T140000
DTSTAMP:20260422T132153
CREATED:20250212T004120Z
LAST-MODIFIED:20250212T184555Z
UID:10004222-1739880000-1739887200@www.lasalle.edu
SUMMARY:Employer Tabling: University of St. Augustine for Health Sciences
DESCRIPTION:Stop by the Union Lobby during Free Period to connect with the representatives from University of St. Augustine for Health Sciences! Learn more about what opportunities they might have for you!
URL:https://www.lasalle.edu/event/employer-tabling-university-of-st-augustine-for-health-sciences-3/
LOCATION:La Salle Union Lobby Table
CATEGORIES:Job/Career
END:VEVENT
BEGIN:VEVENT
DTSTART;TZID=America/New_York:20250214T120000
DTEND;TZID=America/New_York:20250214T140000
DTSTAMP:20260422T132153
CREATED:20250207T204916Z
LAST-MODIFIED:20250213T174851Z
UID:10004214-1739534400-1739541600@www.lasalle.edu
SUMMARY:Honors Council
DESCRIPTION:Honors Council Information Table
URL:https://www.lasalle.edu/event/honors-council-3/
LOCATION:La Salle Union Lobby Table
CATEGORIES:Leadership Development
END:VEVENT
BEGIN:VEVENT
DTSTART;TZID=America/New_York:20250213T120000
DTEND;TZID=America/New_York:20250213T140000
DTSTAMP:20260422T132153
CREATED:20250210T223651Z
LAST-MODIFIED:20250213T184456Z
UID:10004220-1739448000-1739455200@www.lasalle.edu
SUMMARY:SGA: Shriners Fundraiser
DESCRIPTION:SGA Shriners Fundraiser
URL:https://www.lasalle.edu/event/sga-shriners-fundraiser-2/
LOCATION:La Salle Union Lobby Table
CATEGORIES:Leadership Development
END:VEVENT
BEGIN:VEVENT
DTSTART;TZID=America/New_York:20250212T120000
DTEND;TZID=America/New_York:20250212T140000
DTSTAMP:20260422T132153
CREATED:20250207T043833Z
LAST-MODIFIED:20250212T174504Z
UID:10004213-1739361600-1739368800@www.lasalle.edu
SUMMARY:Honors Council
DESCRIPTION:Honors Council Information Table
URL:https://www.lasalle.edu/event/honors-council-2/
LOCATION:La Salle Union Lobby Table
CATEGORIES:Leadership Development
END:VEVENT
END:VCALENDAR