BEGIN:VCALENDAR
VERSION:2.0
PRODID:-//La Salle University - ECPv6.15.20//NONSGML v1.0//EN
CALSCALE:GREGORIAN
METHOD:PUBLISH
X-ORIGINAL-URL:https://www.lasalle.edu
X-WR-CALDESC:Events for La Salle University
REFRESH-INTERVAL;VALUE=DURATION:PT1H
X-Robots-Tag:noindex
X-PUBLISHED-TTL:PT1H
BEGIN:VTIMEZONE
TZID:America/New_York
BEGIN:DAYLIGHT
TZOFFSETFROM:-0500
TZOFFSETTO:-0400
TZNAME:EDT
DTSTART:20230312T070000
END:DAYLIGHT
BEGIN:STANDARD
TZOFFSETFROM:-0400
TZOFFSETTO:-0500
TZNAME:EST
DTSTART:20231105T060000
END:STANDARD
BEGIN:DAYLIGHT
TZOFFSETFROM:-0500
TZOFFSETTO:-0400
TZNAME:EDT
DTSTART:20240310T070000
END:DAYLIGHT
BEGIN:STANDARD
TZOFFSETFROM:-0400
TZOFFSETTO:-0500
TZNAME:EST
DTSTART:20241103T060000
END:STANDARD
BEGIN:DAYLIGHT
TZOFFSETFROM:-0500
TZOFFSETTO:-0400
TZNAME:EDT
DTSTART:20250309T070000
END:DAYLIGHT
BEGIN:STANDARD
TZOFFSETFROM:-0400
TZOFFSETTO:-0500
TZNAME:EST
DTSTART:20251102T060000
END:STANDARD
BEGIN:DAYLIGHT
TZOFFSETFROM:-0500
TZOFFSETTO:-0400
TZNAME:EDT
DTSTART:20260308T070000
END:DAYLIGHT
BEGIN:STANDARD
TZOFFSETFROM:-0400
TZOFFSETTO:-0500
TZNAME:EST
DTSTART:20261101T060000
END:STANDARD
END:VTIMEZONE
BEGIN:VEVENT
DTSTART;TZID=America/New_York:20250225T123000
DTEND;TZID=America/New_York:20250225T140000
DTSTAMP:20260422T191741
CREATED:20250220T083543Z
LAST-MODIFIED:20250225T183310Z
UID:10004262-1740486600-1740492000@www.lasalle.edu
SUMMARY:Student Wellness
DESCRIPTION:Student Wellness
URL:https://www.lasalle.edu/event/student-wellness-4/
LOCATION:La Salle Union Lobby Table
CATEGORIES:Wellness/Recreation
END:VEVENT
BEGIN:VEVENT
DTSTART;TZID=America/New_York:20250218T123000
DTEND;TZID=America/New_York:20250218T140000
DTSTAMP:20260422T191741
CREATED:20250212T004121Z
LAST-MODIFIED:20250218T185318Z
UID:10004223-1739881800-1739887200@www.lasalle.edu
SUMMARY:Student Wellness
DESCRIPTION:Student Wellness
URL:https://www.lasalle.edu/event/student-wellness-3/
LOCATION:La Salle Union Lobby Table
CATEGORIES:Wellness/Recreation
END:VEVENT
BEGIN:VEVENT
DTSTART;TZID=America/New_York:20250218T120000
DTEND;TZID=America/New_York:20250218T140000
DTSTAMP:20260422T191741
CREATED:20250212T004120Z
LAST-MODIFIED:20250212T184555Z
UID:10004222-1739880000-1739887200@www.lasalle.edu
SUMMARY:Employer Tabling: University of St. Augustine for Health Sciences
DESCRIPTION:Stop by the Union Lobby during Free Period to connect with the representatives from University of St. Augustine for Health Sciences! Learn more about what opportunities they might have for you!
URL:https://www.lasalle.edu/event/employer-tabling-university-of-st-augustine-for-health-sciences-3/
LOCATION:La Salle Union Lobby Table
CATEGORIES:Job/Career
END:VEVENT
BEGIN:VEVENT
DTSTART;TZID=America/New_York:20250214T120000
DTEND;TZID=America/New_York:20250214T140000
DTSTAMP:20260422T191741
CREATED:20250207T204916Z
LAST-MODIFIED:20250213T174851Z
UID:10004214-1739534400-1739541600@www.lasalle.edu
SUMMARY:Honors Council
DESCRIPTION:Honors Council Information Table
URL:https://www.lasalle.edu/event/honors-council-3/
LOCATION:La Salle Union Lobby Table
CATEGORIES:Leadership Development
END:VEVENT
BEGIN:VEVENT
DTSTART;TZID=America/New_York:20250213T120000
DTEND;TZID=America/New_York:20250213T140000
DTSTAMP:20260422T191741
CREATED:20250210T223651Z
LAST-MODIFIED:20250213T184456Z
UID:10004220-1739448000-1739455200@www.lasalle.edu
SUMMARY:SGA: Shriners Fundraiser
DESCRIPTION:SGA Shriners Fundraiser
URL:https://www.lasalle.edu/event/sga-shriners-fundraiser-2/
LOCATION:La Salle Union Lobby Table
CATEGORIES:Leadership Development
END:VEVENT
BEGIN:VEVENT
DTSTART;TZID=America/New_York:20250212T120000
DTEND;TZID=America/New_York:20250212T140000
DTSTAMP:20260422T191741
CREATED:20250207T043833Z
LAST-MODIFIED:20250212T174504Z
UID:10004213-1739361600-1739368800@www.lasalle.edu
SUMMARY:Honors Council
DESCRIPTION:Honors Council Information Table
URL:https://www.lasalle.edu/event/honors-council-2/
LOCATION:La Salle Union Lobby Table
CATEGORIES:Leadership Development
END:VEVENT
BEGIN:VEVENT
DTSTART;TZID=America/New_York:20250211T123000
DTEND;TZID=America/New_York:20250211T140000
DTSTAMP:20260422T191741
CREATED:20250205T013347Z
LAST-MODIFIED:20250211T184445Z
UID:10004203-1739277000-1739282400@www.lasalle.edu
SUMMARY:Student Wellness
DESCRIPTION:Student Wellness
URL:https://www.lasalle.edu/event/student-wellness-2/
LOCATION:La Salle Union Lobby Table
CATEGORIES:Wellness/Recreation
END:VEVENT
BEGIN:VEVENT
DTSTART;TZID=America/New_York:20250211T120000
DTEND;TZID=America/New_York:20250211T140000
DTSTAMP:20260422T191741
CREATED:20250210T214758Z
LAST-MODIFIED:20250211T184444Z
UID:10004219-1739275200-1739282400@www.lasalle.edu
SUMMARY:SGA: Shriners Fundraiser
DESCRIPTION:SGA Shriners Fundraiser
URL:https://www.lasalle.edu/event/sga-shriners-fundraiser/
LOCATION:La Salle Union Lobby Table
CATEGORIES:Leadership Development
END:VEVENT
BEGIN:VEVENT
DTSTART;TZID=America/New_York:20250211T120000
DTEND;TZID=America/New_York:20250211T140000
DTSTAMP:20260422T191741
CREATED:20250204T133745Z
LAST-MODIFIED:20250211T184444Z
UID:10004182-1739275200-1739282400@www.lasalle.edu
SUMMARY:OLAS Valentine's Fundraiser
DESCRIPTION:OLAS Valentine’s Fundraiser
URL:https://www.lasalle.edu/event/olas-valentines-fundraiser-2/
LOCATION:La Salle Union Lobby Table
CATEGORIES:Fundraiser
END:VEVENT
BEGIN:VEVENT
DTSTART;TZID=America/New_York:20250206T123000
DTEND;TZID=America/New_York:20250206T140000
DTSTAMP:20260422T191741
CREATED:20250205T204538Z
LAST-MODIFIED:20250206T185003Z
UID:10004205-1738845000-1738850400@www.lasalle.edu
SUMMARY:OLAS
DESCRIPTION:OLAS
URL:https://www.lasalle.edu/event/olas/
LOCATION:La Salle Union Lobby Table
CATEGORIES:Entertainment
END:VEVENT
BEGIN:VEVENT
DTSTART;TZID=America/New_York:20250206T121500
DTEND;TZID=America/New_York:20250206T140000
DTSTAMP:20260422T191741
CREATED:20250203T193500Z
LAST-MODIFIED:20250206T185003Z
UID:10004177-1738844100-1738850400@www.lasalle.edu
SUMMARY:SGA: Shriners Fundraising
DESCRIPTION:Shriners Fundraising
URL:https://www.lasalle.edu/event/sga-shriners-fundraising-2/
LOCATION:La Salle Union Lobby Table
CATEGORIES:Leadership Development
END:VEVENT
BEGIN:VEVENT
DTSTART;TZID=America/New_York:20250204T123000
DTEND;TZID=America/New_York:20250204T140000
DTSTAMP:20260422T191741
CREATED:20250204T144058Z
LAST-MODIFIED:20250204T175610Z
UID:10004202-1738672200-1738677600@www.lasalle.edu
SUMMARY:Student Wellness
DESCRIPTION:Student Wellness
URL:https://www.lasalle.edu/event/student-wellness/
LOCATION:La Salle Union Lobby Table
CATEGORIES:Wellness/Recreation
END:VEVENT
BEGIN:VEVENT
DTSTART;TZID=America/New_York:20250204T121500
DTEND;TZID=America/New_York:20250204T140000
DTSTAMP:20260422T191741
CREATED:20250203T184312Z
LAST-MODIFIED:20250204T183820Z
UID:10004176-1738671300-1738677600@www.lasalle.edu
SUMMARY:SGA: Shriners Fundraising
DESCRIPTION:Shriners Fundraising
URL:https://www.lasalle.edu/event/sga-shriners-fundraising/
LOCATION:La Salle Union Lobby Table
CATEGORIES:Leadership Development
END:VEVENT
BEGIN:VEVENT
DTSTART;TZID=America/New_York:20250204T120000
DTEND;TZID=America/New_York:20250204T140000
DTSTAMP:20260422T191741
CREATED:20250203T220432Z
LAST-MODIFIED:20250204T175610Z
UID:10004179-1738670400-1738677600@www.lasalle.edu
SUMMARY:OLAS Valentine's Fundraiser
DESCRIPTION:OLAS Valentine’s Fundraiser
URL:https://www.lasalle.edu/event/olas-valentines-fundraiser/
LOCATION:La Salle Union Lobby Table
CATEGORIES:Fundraiser
END:VEVENT
BEGIN:VEVENT
DTSTART;TZID=America/New_York:20250130T123000
DTEND;TZID=America/New_York:20250130T140000
DTSTAMP:20260422T191741
CREATED:20250124T113141Z
LAST-MODIFIED:20250130T184229Z
UID:10004092-1738240200-1738245600@www.lasalle.edu
SUMMARY:ESA Interest Table
DESCRIPTION:ESA Interest Table
URL:https://www.lasalle.edu/event/esa-interest-table/
LOCATION:La Salle Union Lobby Table
CATEGORIES:Leadership Development
END:VEVENT
BEGIN:VEVENT
DTSTART;TZID=America/New_York:20250128T123000
DTEND;TZID=America/New_York:20250128T140000
DTSTAMP:20260422T191741
CREATED:20250116T083403Z
LAST-MODIFIED:20250128T184613Z
UID:10004074-1738067400-1738072800@www.lasalle.edu
SUMMARY:Wellness Pop-Up
DESCRIPTION:Wellness Pop-Up
URL:https://www.lasalle.edu/event/wellness-pop-up-3/
LOCATION:La Salle Union Lobby Table
CATEGORIES:Wellness/Recreation
END:VEVENT
BEGIN:VEVENT
DTSTART;TZID=America/New_York:20250127T123000
DTEND;TZID=America/New_York:20250127T140000
DTSTAMP:20260422T191741
CREATED:20250124T214525Z
LAST-MODIFIED:20250127T183357Z
UID:10004095-1737981000-1737986400@www.lasalle.edu
SUMMARY:Sigma Phi Lambda Sig Phive K Fundraiser
DESCRIPTION:Sigma Phi Lambda Sig Phive K Fundraiser
URL:https://www.lasalle.edu/event/sigma-phi-lambda-sig-phive-k-fundraiser/
LOCATION:La Salle Union Lobby Table
CATEGORIES:Fundraiser
END:VEVENT
BEGIN:VEVENT
DTSTART;TZID=America/New_York:20250121T123000
DTEND;TZID=America/New_York:20250121T140000
DTSTAMP:20260422T191741
CREATED:20250113T013533Z
LAST-MODIFIED:20250121T183402Z
UID:10004043-1737462600-1737468000@www.lasalle.edu
SUMMARY:Wellness Pop-Up
DESCRIPTION:Wellness Pop-Up
URL:https://www.lasalle.edu/event/wellness-pop-up-2/
LOCATION:La Salle Union Lobby Table
CATEGORIES:Wellness/Recreation
END:VEVENT
BEGIN:VEVENT
DTSTART;TZID=America/New_York:20250121T120000
DTEND;TZID=America/New_York:20250121T140000
DTSTAMP:20260422T191741
CREATED:20250114T174847Z
LAST-MODIFIED:20250121T183401Z
UID:10004067-1737460800-1737468000@www.lasalle.edu
SUMMARY:Employer tabling - MCC Family Services
DESCRIPTION:Stop by the Union Lobby during Free Period to connect with the representatives from MCC Family Services and learn more about what career opportunities they might have for you!
URL:https://www.lasalle.edu/event/employer-tabling-mcc-family-services/
LOCATION:La Salle Union Lobby Table
CATEGORIES:Job/Career
END:VEVENT
BEGIN:VEVENT
DTSTART;TZID=America/New_York:20250114T123000
DTEND;TZID=America/New_York:20250114T140000
DTSTAMP:20260422T191742
CREATED:20250113T203632Z
LAST-MODIFIED:20250114T181909Z
UID:10004063-1736857800-1736863200@www.lasalle.edu
SUMMARY:Employer Table
DESCRIPTION:Employer Table
URL:https://www.lasalle.edu/event/employer-table-5/
LOCATION:La Salle Union Lobby Table
CATEGORIES:Job/Career
END:VEVENT
BEGIN:VEVENT
DTSTART;TZID=America/New_York:20250114T123000
DTEND;TZID=America/New_York:20250114T140000
DTSTAMP:20260422T191742
CREATED:20250113T203455Z
LAST-MODIFIED:20250114T181909Z
UID:10004062-1736857800-1736863200@www.lasalle.edu
SUMMARY:Employer Table
DESCRIPTION:Employer Table
URL:https://www.lasalle.edu/event/employer-table-4/
LOCATION:La Salle Union Lobby Table
CATEGORIES:Job/Career
END:VEVENT
BEGIN:VEVENT
DTSTART;TZID=America/New_York:20250114T123000
DTEND;TZID=America/New_York:20250114T140000
DTSTAMP:20260422T191742
CREATED:20250111T053609Z
LAST-MODIFIED:20250114T181908Z
UID:10004034-1736857800-1736863200@www.lasalle.edu
SUMMARY:Wellness Pop-Up
DESCRIPTION:Wellness Pop-Up
URL:https://www.lasalle.edu/event/wellness-pop-up/
LOCATION:La Salle Union Lobby Table
CATEGORIES:Wellness/Recreation
END:VEVENT
BEGIN:VEVENT
DTSTART;TZID=America/New_York:20241213T130000
DTEND;TZID=America/New_York:20241213T143000
DTSTAMP:20260422T191742
CREATED:20241204T034250Z
LAST-MODIFIED:20241213T184223Z
UID:10003949-1734094800-1734100200@www.lasalle.edu
SUMMARY:Student Engagement Council
DESCRIPTION:Student Engagement Council
URL:https://www.lasalle.edu/event/student-engagement-council-16/
LOCATION:La Salle Union Lobby Table
CATEGORIES:Leadership Development
END:VEVENT
BEGIN:VEVENT
DTSTART;TZID=America/New_York:20241209T090000
DTEND;TZID=America/New_York:20241209T110000
DTSTAMP:20260422T191742
CREATED:20241205T003548Z
LAST-MODIFIED:20241209T154751Z
UID:10003963-1733734800-1733742000@www.lasalle.edu
SUMMARY:Stress Buster
DESCRIPTION:A de-stress table with coffee and snacks for students during finals week
URL:https://www.lasalle.edu/event/stress-buster/
LOCATION:La Salle Union Lobby Table
CATEGORIES:Wellness/Recreation
END:VEVENT
BEGIN:VEVENT
DTSTART;TZID=America/New_York:20241206T123000
DTEND;TZID=America/New_York:20241206T140000
DTSTAMP:20260422T191742
CREATED:20241124T153213Z
LAST-MODIFIED:20241206T043743Z
UID:10003931-1733488200-1733493600@www.lasalle.edu
SUMMARY:stressbusters
DESCRIPTION:stressbusters tabling
URL:https://www.lasalle.edu/event/stressbusters-5/
LOCATION:La Salle Union Lobby Table
CATEGORIES:Wellness/Recreation
END:VEVENT
BEGIN:VEVENT
DTSTART;TZID=America/New_York:20241205T123000
DTEND;TZID=America/New_York:20241205T140000
DTSTAMP:20260422T191742
CREATED:20241123T153414Z
LAST-MODIFIED:20241205T181622Z
UID:10003926-1733401800-1733407200@www.lasalle.edu
SUMMARY:stressbusters
DESCRIPTION:stressbusters tabling
URL:https://www.lasalle.edu/event/stressbusters-4/
LOCATION:La Salle Union Lobby Table
CATEGORIES:Wellness/Recreation
END:VEVENT
BEGIN:VEVENT
DTSTART;TZID=America/New_York:20241204T123000
DTEND;TZID=America/New_York:20241204T140000
DTSTAMP:20260422T191742
CREATED:20241123T104407Z
LAST-MODIFIED:20241204T184316Z
UID:10003923-1733315400-1733320800@www.lasalle.edu
SUMMARY:stressbusters
DESCRIPTION:stressbusters tabling
URL:https://www.lasalle.edu/event/stressbusters-3/
LOCATION:La Salle Union Lobby Table
CATEGORIES:Wellness/Recreation
END:VEVENT
BEGIN:VEVENT
DTSTART;TZID=America/New_York:20241203T123000
DTEND;TZID=America/New_York:20241203T140000
DTSTAMP:20260422T191742
CREATED:20241122T083953Z
LAST-MODIFIED:20241203T184016Z
UID:10003916-1733229000-1733234400@www.lasalle.edu
SUMMARY:stressbusters
DESCRIPTION:stressbusters tabling
URL:https://www.lasalle.edu/event/stressbusters-2/
LOCATION:La Salle Union Lobby Table
CATEGORIES:Wellness/Recreation
END:VEVENT
BEGIN:VEVENT
DTSTART;TZID=America/New_York:20241126T123000
DTEND;TZID=America/New_York:20241126T140000
DTSTAMP:20260422T191742
CREATED:20241105T013619Z
LAST-MODIFIED:20241126T183858Z
UID:10003871-1732624200-1732629600@www.lasalle.edu
SUMMARY:Wellness services Table
DESCRIPTION:Wellness services Table
URL:https://www.lasalle.edu/event/wellness-services-table-4/
LOCATION:La Salle Union Lobby Table
CATEGORIES:Multicultural/Diversity
END:VEVENT
BEGIN:VEVENT
DTSTART;TZID=America/New_York:20241125T071500
DTEND;TZID=America/New_York:20241125T180000
DTSTAMP:20260422T191742
CREATED:20241116T183713Z
LAST-MODIFIED:20241125T223550Z
UID:10003910-1732518900-1732557600@www.lasalle.edu
SUMMARY:SEC Pop-Up: Thanksgiving Board and Thankful for You Treats
DESCRIPTION:SEC Pop-Up: Thanksgiving Board and Thankful for You Treats
URL:https://www.lasalle.edu/event/sec-pop-up-thanksgiving-board-and-thankful-for-you-treats/
LOCATION:La Salle Union Lobby Table
CATEGORIES:Entertainment
END:VEVENT
END:VCALENDAR