BEGIN:VCALENDAR
VERSION:2.0
PRODID:-//La Salle University - ECPv6.15.20//NONSGML v1.0//EN
CALSCALE:GREGORIAN
METHOD:PUBLISH
X-ORIGINAL-URL:https://www.lasalle.edu
X-WR-CALDESC:Events for La Salle University
REFRESH-INTERVAL;VALUE=DURATION:PT1H
X-Robots-Tag:noindex
X-PUBLISHED-TTL:PT1H
BEGIN:VTIMEZONE
TZID:America/New_York
BEGIN:DAYLIGHT
TZOFFSETFROM:-0500
TZOFFSETTO:-0400
TZNAME:EDT
DTSTART:20230312T070000
END:DAYLIGHT
BEGIN:STANDARD
TZOFFSETFROM:-0400
TZOFFSETTO:-0500
TZNAME:EST
DTSTART:20231105T060000
END:STANDARD
BEGIN:DAYLIGHT
TZOFFSETFROM:-0500
TZOFFSETTO:-0400
TZNAME:EDT
DTSTART:20240310T070000
END:DAYLIGHT
BEGIN:STANDARD
TZOFFSETFROM:-0400
TZOFFSETTO:-0500
TZNAME:EST
DTSTART:20241103T060000
END:STANDARD
BEGIN:DAYLIGHT
TZOFFSETFROM:-0500
TZOFFSETTO:-0400
TZNAME:EDT
DTSTART:20250309T070000
END:DAYLIGHT
BEGIN:STANDARD
TZOFFSETFROM:-0400
TZOFFSETTO:-0500
TZNAME:EST
DTSTART:20251102T060000
END:STANDARD
END:VTIMEZONE
BEGIN:VEVENT
DTSTART;TZID=America/New_York:20241129T130000
DTEND;TZID=America/New_York:20241129T143000
DTSTAMP:20260421T165558
CREATED:20241105T014129Z
LAST-MODIFIED:20241129T183746Z
UID:10003879-1732885200-1732890600@www.lasalle.edu
SUMMARY:Student Engagement Council
DESCRIPTION:Student Engagement Council
URL:https://www.lasalle.edu/event/student-engagement-council-14/
LOCATION:La Salle Union McShain Boardroom
CATEGORIES:Leadership Development
END:VEVENT
BEGIN:VEVENT
DTSTART;TZID=America/New_York:20241120T100000
DTEND;TZID=America/New_York:20241120T110000
DTSTAMP:20260421T165558
CREATED:20241104T095130Z
LAST-MODIFIED:20241120T153839Z
UID:10003850-1732096800-1732100400@www.lasalle.edu
SUMMARY:Academic Leadership Team
DESCRIPTION:Academic Leadership Team
URL:https://www.lasalle.edu/event/academic-leadership-team-26/
LOCATION:La Salle Union McShain Boardroom
CATEGORIES:Leadership Development
END:VEVENT
BEGIN:VEVENT
DTSTART;TZID=America/New_York:20241115T130000
DTEND;TZID=America/New_York:20241115T143000
DTSTAMP:20260421T165558
CREATED:20241104T083733Z
LAST-MODIFIED:20241115T174038Z
UID:10003831-1731675600-1731681000@www.lasalle.edu
SUMMARY:Student Engagement Council
DESCRIPTION:Student Engagement Council
URL:https://www.lasalle.edu/event/student-engagement-council-12/
LOCATION:La Salle Union McShain Boardroom
CATEGORIES:Leadership Development
END:VEVENT
BEGIN:VEVENT
DTSTART;TZID=America/New_York:20241114T123000
DTEND;TZID=America/New_York:20241114T133000
DTSTAMP:20260421T165558
CREATED:20241104T074625Z
LAST-MODIFIED:20241114T180023Z
UID:10003822-1731587400-1731591000@www.lasalle.edu
SUMMARY:Curriculum Committee and Academic Affairs
DESCRIPTION:Curriculum Committee and Academic Affairs
URL:https://www.lasalle.edu/event/curriculum-committee-and-academic-affairs-3/
LOCATION:La Salle Union McShain Boardroom
CATEGORIES:Meeting - General
END:VEVENT
BEGIN:VEVENT
DTSTART;TZID=America/New_York:20241108T130000
DTEND;TZID=America/New_York:20241108T143000
DTSTAMP:20260421T165558
CREATED:20241104T053456Z
LAST-MODIFIED:20241108T183514Z
UID:10003781-1731070800-1731076200@www.lasalle.edu
SUMMARY:Student Engagement Council
DESCRIPTION:Student Engagement Council
URL:https://www.lasalle.edu/event/student-engagement-council-11/
LOCATION:La Salle Union McShain Boardroom
CATEGORIES:Leadership Development
END:VEVENT
BEGIN:VEVENT
DTSTART;TZID=America/New_York:20241101T130000
DTEND;TZID=America/New_York:20241101T143000
DTSTAMP:20260421T165558
CREATED:20241031T084827Z
LAST-MODIFIED:20241101T173857Z
UID:10003732-1730466000-1730471400@www.lasalle.edu
SUMMARY:Student Engagement Council
DESCRIPTION:Student Engagement Council
URL:https://www.lasalle.edu/event/student-engagement-council-10/
LOCATION:La Salle Union McShain Boardroom
CATEGORIES:Leadership Development
END:VEVENT
BEGIN:VEVENT
DTSTART;TZID=America/New_York:20241026T070000
DTEND;TZID=America/New_York:20241026T150000
DTSTAMP:20260421T165558
CREATED:20241025T203743Z
LAST-MODIFIED:20241026T183612Z
UID:10003690-1729926000-1729954800@www.lasalle.edu
SUMMARY:Fall Open House 2
DESCRIPTION:Set-up day: Fall Open House 2
URL:https://www.lasalle.edu/event/fall-open-house-2-2/
LOCATION:La Salle Union McShain Boardroom
CATEGORIES:Admissions
END:VEVENT
BEGIN:VEVENT
DTSTART;TZID=America/New_York:20241025T130000
DTEND;TZID=America/New_York:20241025T143000
DTSTAMP:20260421T165558
CREATED:20241024T184059Z
LAST-MODIFIED:20241025T174705Z
UID:10003677-1729861200-1729866600@www.lasalle.edu
SUMMARY:Student Engagement Council
DESCRIPTION:Student Engagement Council
URL:https://www.lasalle.edu/event/student-engagement-council-9/
LOCATION:La Salle Union McShain Boardroom
CATEGORIES:Leadership Development
END:VEVENT
BEGIN:VEVENT
DTSTART;TZID=America/New_York:20241024T120000
DTEND;TZID=America/New_York:20241024T140000
DTSTAMP:20260421T165558
CREATED:20241023T184338Z
LAST-MODIFIED:20241024T174646Z
UID:10003665-1729771200-1729778400@www.lasalle.edu
SUMMARY:PSAC Quarterly Meeting
DESCRIPTION:PSAC Quarterly Meeting
URL:https://www.lasalle.edu/event/psac-quarterly-meeting/
LOCATION:La Salle Union McShain Boardroom
CATEGORIES:Meeting - General
END:VEVENT
BEGIN:VEVENT
DTSTART;TZID=America/New_York:20241018T130000
DTEND;TZID=America/New_York:20241018T143000
DTSTAMP:20260421T165558
CREATED:20241017T013655Z
LAST-MODIFIED:20241018T174654Z
UID:10003575-1729256400-1729261800@www.lasalle.edu
SUMMARY:Student Engagement Council
DESCRIPTION:Student Engagement Council
URL:https://www.lasalle.edu/event/student-engagement-council-8/
LOCATION:La Salle Union McShain Boardroom
CATEGORIES:Leadership Development
END:VEVENT
BEGIN:VEVENT
DTSTART;TZID=America/New_York:20241017T123000
DTEND;TZID=America/New_York:20241017T133000
DTSTAMP:20260421T165558
CREATED:20241015T233359Z
LAST-MODIFIED:20241017T164425Z
UID:10003570-1729168200-1729171800@www.lasalle.edu
SUMMARY:Curriculum Committee and Academic Affairs
DESCRIPTION:Curriculum Committee and Academic Affairs
URL:https://www.lasalle.edu/event/curriculum-committee-and-academic-affairs-2/
LOCATION:La Salle Union McShain Boardroom
CATEGORIES:Meeting - General
END:VEVENT
BEGIN:VEVENT
DTSTART;TZID=America/New_York:20241016T100000
DTEND;TZID=America/New_York:20241016T110000
DTSTAMP:20260421T165558
CREATED:20241014T164345Z
LAST-MODIFIED:20241016T134846Z
UID:10003557-1729072800-1729076400@www.lasalle.edu
SUMMARY:Academic Leadership Team
DESCRIPTION:Academic Leadership Team
URL:https://www.lasalle.edu/event/academic-leadership-team-25/
LOCATION:La Salle Union McShain Boardroom
CATEGORIES:Leadership Development
END:VEVENT
BEGIN:VEVENT
DTSTART;TZID=America/New_York:20241011T120000
DTEND;TZID=America/New_York:20241011T133000
DTSTAMP:20260421T165558
CREATED:20241010T183912Z
LAST-MODIFIED:20241011T164551Z
UID:10003543-1728648000-1728653400@www.lasalle.edu
SUMMARY:SDCL Meeting
DESCRIPTION:SDCL Meeting
URL:https://www.lasalle.edu/event/sdcl-meeting/
LOCATION:La Salle Union McShain Boardroom
CATEGORIES:Meeting - General
END:VEVENT
BEGIN:VEVENT
DTSTART;TZID=America/New_York:20241004T130000
DTEND;TZID=America/New_York:20241004T143000
DTSTAMP:20260421T165558
CREATED:20241001T223946Z
LAST-MODIFIED:20241004T183040Z
UID:10003493-1728046800-1728052200@www.lasalle.edu
SUMMARY:Student Engagement Council
DESCRIPTION:Student Engagement Council
URL:https://www.lasalle.edu/event/student-engagement-council-6/
LOCATION:La Salle Union McShain Boardroom
CATEGORIES:Leadership Development
END:VEVENT
BEGIN:VEVENT
DTSTART;TZID=America/New_York:20240927T130000
DTEND;TZID=America/New_York:20240927T143000
DTSTAMP:20260421T165558
CREATED:20240925T034506Z
LAST-MODIFIED:20240927T174819Z
UID:10003447-1727442000-1727447400@www.lasalle.edu
SUMMARY:Student Engagement Council
DESCRIPTION:Student Engagement Council
URL:https://www.lasalle.edu/event/student-engagement-council-5/
LOCATION:La Salle Union McShain Boardroom
CATEGORIES:Leadership Development
END:VEVENT
BEGIN:VEVENT
DTSTART;TZID=America/New_York:20240920T130000
DTEND;TZID=America/New_York:20240920T143000
DTSTAMP:20260421T165558
CREATED:20240918T154530Z
LAST-MODIFIED:20240920T174858Z
UID:10003403-1726837200-1726842600@www.lasalle.edu
SUMMARY:Student Engagement Council
DESCRIPTION:Student Engagement Council
URL:https://www.lasalle.edu/event/student-engagement-council-4/
LOCATION:La Salle Union McShain Boardroom
CATEGORIES:Leadership Development
END:VEVENT
BEGIN:VEVENT
DTSTART;TZID=America/New_York:20240918T100000
DTEND;TZID=America/New_York:20240918T110000
DTSTAMP:20260421T165558
CREATED:20240915T064741Z
LAST-MODIFIED:20240918T143857Z
UID:10003387-1726653600-1726657200@www.lasalle.edu
SUMMARY:Academic Leadership Team
DESCRIPTION:Academic Leadership Team
URL:https://www.lasalle.edu/event/academic-leadership-team-24/
LOCATION:La Salle Union McShain Boardroom
CATEGORIES:Leadership Development
END:VEVENT
BEGIN:VEVENT
DTSTART;TZID=America/New_York:20240913T130000
DTEND;TZID=America/New_York:20240913T143000
DTSTAMP:20260421T165558
CREATED:20240911T124123Z
LAST-MODIFIED:20240913T175055Z
UID:10003363-1726232400-1726237800@www.lasalle.edu
SUMMARY:Student Engagement Council
DESCRIPTION:Student Engagement Council
URL:https://www.lasalle.edu/event/student-engagement-council-3/
LOCATION:La Salle Union McShain Boardroom
CATEGORIES:Leadership Development
END:VEVENT
BEGIN:VEVENT
DTSTART;TZID=America/New_York:20240912T123000
DTEND;TZID=America/New_York:20240912T133000
DTSTAMP:20260421T165558
CREATED:20240910T233922Z
LAST-MODIFIED:20240912T174133Z
UID:10003351-1726144200-1726147800@www.lasalle.edu
SUMMARY:Curriculum Committee and Academic Affairs
DESCRIPTION:Curriculum Committee and Academic Affairs
URL:https://www.lasalle.edu/event/curriculum-committee-and-academic-affairs/
LOCATION:La Salle Union McShain Boardroom
CATEGORIES:Meeting - General
END:VEVENT
BEGIN:VEVENT
DTSTART;TZID=America/New_York:20240906T130000
DTEND;TZID=America/New_York:20240906T143000
DTSTAMP:20260421T165558
CREATED:20240902T224312Z
LAST-MODIFIED:20240906T174640Z
UID:10003313-1725627600-1725633000@www.lasalle.edu
SUMMARY:Student Engagement Council
DESCRIPTION:Student Engagement Council
URL:https://www.lasalle.edu/event/student-engagement-council-2/
LOCATION:La Salle Union McShain Boardroom
CATEGORIES:Leadership Development
END:VEVENT
BEGIN:VEVENT
DTSTART;TZID=America/New_York:20240830T130000
DTEND;TZID=America/New_York:20240830T143000
DTSTAMP:20260421T165558
CREATED:20240823T193416Z
LAST-MODIFIED:20240830T165038Z
UID:10003292-1725022800-1725028200@www.lasalle.edu
SUMMARY:Student Engagement Council
DESCRIPTION:Student Engagement Council
URL:https://www.lasalle.edu/event/student-engagement-council/
LOCATION:La Salle Union McShain Boardroom
CATEGORIES:Leadership Development
END:VEVENT
BEGIN:VEVENT
DTSTART;TZID=America/New_York:20240621T090000
DTEND;TZID=America/New_York:20240621T160000
DTSTAMP:20260421T165558
CREATED:20240611T173906Z
LAST-MODIFIED:20240621T193927Z
UID:10002954-1718960400-1718985600@www.lasalle.edu
SUMMARY:Interview
DESCRIPTION:Interview
URL:https://www.lasalle.edu/event/interview-4/
LOCATION:La Salle Union McShain Boardroom
CATEGORIES:Meeting - General
END:VEVENT
BEGIN:VEVENT
DTSTART;TZID=America/New_York:20240619T093000
DTEND;TZID=America/New_York:20240619T223000
DTSTAMP:20260421T165558
CREATED:20230816T181222Z
LAST-MODIFIED:20240103T075256Z
UID:10001710-1718789400-1718836200@www.lasalle.edu
SUMMARY:Academic Leadership Team
DESCRIPTION:Academic Leadership Team
URL:https://www.lasalle.edu/event/academic-leadership-team-23/
LOCATION:La Salle Union McShain Boardroom
CATEGORIES:Meeting - General
END:VEVENT
BEGIN:VEVENT
DTSTART;TZID=America/New_York:20240605T093000
DTEND;TZID=America/New_York:20240605T223000
DTSTAMP:20260421T165558
CREATED:20230816T181221Z
LAST-MODIFIED:20240103T075255Z
UID:10001763-1717579800-1717626600@www.lasalle.edu
SUMMARY:Academic Leadership Team
DESCRIPTION:Academic Leadership Team
URL:https://www.lasalle.edu/event/academic-leadership-team-22/
LOCATION:La Salle Union McShain Boardroom
CATEGORIES:Meeting - General
END:VEVENT
BEGIN:VEVENT
DTSTART;TZID=America/New_York:20240522T093000
DTEND;TZID=America/New_York:20240522T223000
DTSTAMP:20260421T165558
CREATED:20230816T181221Z
LAST-MODIFIED:20240103T075255Z
UID:10001762-1716370200-1716417000@www.lasalle.edu
SUMMARY:Academic Leadership Team
DESCRIPTION:Academic Leadership Team
URL:https://www.lasalle.edu/event/academic-leadership-team-21/
LOCATION:La Salle Union McShain Boardroom
CATEGORIES:Meeting - General
END:VEVENT
BEGIN:VEVENT
DTSTART;TZID=America/New_York:20240514T123000
DTEND;TZID=America/New_York:20240514T133000
DTSTAMP:20260421T165558
CREATED:20230816T181221Z
LAST-MODIFIED:20240514T163907Z
UID:10001761-1715689800-1715693400@www.lasalle.edu
SUMMARY:Academic Affairs Meeting
DESCRIPTION:Academic Affairs Meeting
URL:https://www.lasalle.edu/event/academic-affairs-meeting-9/
LOCATION:La Salle Union McShain Boardroom
CATEGORIES:Meeting - General
END:VEVENT
BEGIN:VEVENT
DTSTART;TZID=America/New_York:20240508T093000
DTEND;TZID=America/New_York:20240508T223000
DTSTAMP:20260421T165558
CREATED:20230816T181221Z
LAST-MODIFIED:20240103T075250Z
UID:10001760-1715160600-1715207400@www.lasalle.edu
SUMMARY:Academic Leadership Team
DESCRIPTION:Academic Leadership Team
URL:https://www.lasalle.edu/event/academic-leadership-team-20/
LOCATION:La Salle Union McShain Boardroom
CATEGORIES:Meeting - General
END:VEVENT
BEGIN:VEVENT
DTSTART;TZID=America/New_York:20240503T190000
DTEND;TZID=America/New_York:20240503T204500
DTSTAMP:20260421T165558
CREATED:20240501T013730Z
LAST-MODIFIED:20240504T003624Z
UID:10002905-1714762800-1714769100@www.lasalle.edu
SUMMARY:Zeta Phi Beta
DESCRIPTION:Zeta Phi Beta Interest Meeting
URL:https://www.lasalle.edu/event/zeta-phi-beta/
LOCATION:La Salle Union McShain Boardroom
CATEGORIES:Leadership Development
END:VEVENT
BEGIN:VEVENT
DTSTART;TZID=America/New_York:20240502T123000
DTEND;TZID=America/New_York:20240502T134500
DTSTAMP:20260421T165558
CREATED:20230816T181221Z
LAST-MODIFIED:20240502T173533Z
UID:10001759-1714653000-1714657500@www.lasalle.edu
SUMMARY:University Curriculum Committee
DESCRIPTION:University Curriculum Committee
URL:https://www.lasalle.edu/event/university-curriculum-committee-9/
LOCATION:La Salle Union McShain Boardroom
CATEGORIES:Meeting - General
END:VEVENT
BEGIN:VEVENT
DTSTART;TZID=America/New_York:20240426T130000
DTEND;TZID=America/New_York:20240426T140000
DTSTAMP:20260421T165558
CREATED:20240425T043604Z
LAST-MODIFIED:20240426T174436Z
UID:10002879-1714136400-1714140000@www.lasalle.edu
SUMMARY:T&E Meeting
DESCRIPTION:T&E Meeting
URL:https://www.lasalle.edu/event/te-meeting/
LOCATION:La Salle Union McShain Boardroom
CATEGORIES:Meeting - General
END:VEVENT
END:VCALENDAR