BEGIN:VCALENDAR
VERSION:2.0
PRODID:-//La Salle University - ECPv6.15.20//NONSGML v1.0//EN
CALSCALE:GREGORIAN
METHOD:PUBLISH
X-WR-CALNAME:La Salle University
X-ORIGINAL-URL:https://www.lasalle.edu
X-WR-CALDESC:Events for La Salle University
REFRESH-INTERVAL;VALUE=DURATION:PT1H
X-Robots-Tag:noindex
X-PUBLISHED-TTL:PT1H
BEGIN:VTIMEZONE
TZID:America/New_York
BEGIN:DAYLIGHT
TZOFFSETFROM:-0500
TZOFFSETTO:-0400
TZNAME:EDT
DTSTART:20220313T070000
END:DAYLIGHT
BEGIN:STANDARD
TZOFFSETFROM:-0400
TZOFFSETTO:-0500
TZNAME:EST
DTSTART:20221106T060000
END:STANDARD
BEGIN:DAYLIGHT
TZOFFSETFROM:-0500
TZOFFSETTO:-0400
TZNAME:EDT
DTSTART:20230312T070000
END:DAYLIGHT
BEGIN:STANDARD
TZOFFSETFROM:-0400
TZOFFSETTO:-0500
TZNAME:EST
DTSTART:20231105T060000
END:STANDARD
BEGIN:DAYLIGHT
TZOFFSETFROM:-0500
TZOFFSETTO:-0400
TZNAME:EDT
DTSTART:20240310T070000
END:DAYLIGHT
BEGIN:STANDARD
TZOFFSETFROM:-0400
TZOFFSETTO:-0500
TZNAME:EST
DTSTART:20241103T060000
END:STANDARD
BEGIN:DAYLIGHT
TZOFFSETFROM:-0500
TZOFFSETTO:-0400
TZNAME:EDT
DTSTART:20250309T070000
END:DAYLIGHT
BEGIN:STANDARD
TZOFFSETFROM:-0400
TZOFFSETTO:-0500
TZNAME:EST
DTSTART:20251102T060000
END:STANDARD
END:VTIMEZONE
BEGIN:VEVENT
DTSTART;TZID=America/New_York:20240313T093000
DTEND;TZID=America/New_York:20240313T223000
DTSTAMP:20260422T065249
CREATED:20230816T181217Z
LAST-MODIFIED:20240103T075218Z
UID:10001741-1710322200-1710369000@www.lasalle.edu
SUMMARY:Academic Leadership Team
DESCRIPTION:Academic Leadership Team
URL:https://www.lasalle.edu/event/academic-leadership-team-16/
LOCATION:La Salle Union McShain Boardroom
CATEGORIES:Meeting - General
END:VEVENT
BEGIN:VEVENT
DTSTART;TZID=America/New_York:20240307T123000
DTEND;TZID=America/New_York:20240307T134500
DTSTAMP:20260422T065249
CREATED:20230816T181216Z
LAST-MODIFIED:20240307T183852Z
UID:10001738-1709814600-1709819100@www.lasalle.edu
SUMMARY:University Curriculum Committee
DESCRIPTION:University Curriculum Committee
URL:https://www.lasalle.edu/event/university-curriculum-committee-7/
LOCATION:La Salle Union McShain Boardroom
CATEGORIES:Meeting - General
END:VEVENT
BEGIN:VEVENT
DTSTART;TZID=America/New_York:20240228T093000
DTEND;TZID=America/New_York:20240228T223000
DTSTAMP:20260422T065249
CREATED:20230816T181216Z
LAST-MODIFIED:20240103T075208Z
UID:10001737-1709112600-1709159400@www.lasalle.edu
SUMMARY:Academic Leadership Team
DESCRIPTION:Academic Leadership Team
URL:https://www.lasalle.edu/event/academic-leadership-team-15/
LOCATION:La Salle Union McShain Boardroom
CATEGORIES:Meeting - General
END:VEVENT
BEGIN:VEVENT
DTSTART;TZID=America/New_York:20240220T123000
DTEND;TZID=America/New_York:20240220T133000
DTSTAMP:20260422T065249
CREATED:20230816T181215Z
LAST-MODIFIED:20240214T074739Z
UID:10001735-1708432200-1708435800@www.lasalle.edu
SUMMARY:Academic Affairs Meeting
DESCRIPTION:Academic Affairs Meeting
URL:https://www.lasalle.edu/event/academic-affairs-meeting-6/
LOCATION:La Salle Union McShain Boardroom
CATEGORIES:Meeting - General
END:VEVENT
BEGIN:VEVENT
DTSTART;TZID=America/New_York:20240214T093000
DTEND;TZID=America/New_York:20240214T223000
DTSTAMP:20260422T065249
CREATED:20230816T181215Z
LAST-MODIFIED:20240103T075156Z
UID:10001734-1707903000-1707949800@www.lasalle.edu
SUMMARY:Academic Leadership Team
DESCRIPTION:Academic Leadership Team
URL:https://www.lasalle.edu/event/academic-leadership-team-14/
LOCATION:La Salle Union McShain Boardroom
CATEGORIES:Meeting - General
END:VEVENT
BEGIN:VEVENT
DTSTART;TZID=America/New_York:20240208T123000
DTEND;TZID=America/New_York:20240208T134500
DTSTAMP:20260422T065249
CREATED:20230816T181215Z
LAST-MODIFIED:20240206T024136Z
UID:10001733-1707395400-1707399900@www.lasalle.edu
SUMMARY:University Curriculum Committee
DESCRIPTION:University Curriculum Committee
URL:https://www.lasalle.edu/event/university-curriculum-committee-6/
LOCATION:La Salle Union McShain Boardroom
CATEGORIES:Meeting - General
END:VEVENT
BEGIN:VEVENT
DTSTART;TZID=America/New_York:20240131T093000
DTEND;TZID=America/New_York:20240131T223000
DTSTAMP:20260422T065249
CREATED:20230816T181215Z
LAST-MODIFIED:20240103T075151Z
UID:10001732-1706693400-1706740200@www.lasalle.edu
SUMMARY:Academic Leadership Team
DESCRIPTION:Academic Leadership Team
URL:https://www.lasalle.edu/event/academic-leadership-team-13/
LOCATION:La Salle Union McShain Boardroom
CATEGORIES:Meeting - General
END:VEVENT
BEGIN:VEVENT
DTSTART;TZID=America/New_York:20240126T123000
DTEND;TZID=America/New_York:20240126T173000
DTSTAMP:20260422T065249
CREATED:20230816T181214Z
LAST-MODIFIED:20240103T075144Z
UID:10001730-1706272200-1706290200@www.lasalle.edu
SUMMARY:Tenure and Promotion Committee
DESCRIPTION:Tenure and Promotion Committee
URL:https://www.lasalle.edu/event/tenure-and-promotion-committee-12/
LOCATION:La Salle Union McShain Boardroom
CATEGORIES:Meeting - General
END:VEVENT
BEGIN:VEVENT
DTSTART;TZID=America/New_York:20240119T123000
DTEND;TZID=America/New_York:20240119T173000
DTSTAMP:20260422T065249
CREATED:20230816T181214Z
LAST-MODIFIED:20240103T075139Z
UID:10001729-1705667400-1705685400@www.lasalle.edu
SUMMARY:Tenure and Promotion Committee
DESCRIPTION:Tenure and Promotion Committee
URL:https://www.lasalle.edu/event/tenure-and-promotion-committee-11/
LOCATION:La Salle Union McShain Boardroom
CATEGORIES:Meeting - General
END:VEVENT
BEGIN:VEVENT
DTSTART;TZID=America/New_York:20240117T093000
DTEND;TZID=America/New_York:20240117T103000
DTSTAMP:20260422T065249
CREATED:20230816T181213Z
LAST-MODIFIED:20240103T075136Z
UID:10001727-1705483800-1705487400@www.lasalle.edu
SUMMARY:Academic Leadership Team
DESCRIPTION:Academic Leadership Team
URL:https://www.lasalle.edu/event/academic-leadership-team-12/
LOCATION:La Salle Union McShain Boardroom
CATEGORIES:Meeting - General
END:VEVENT
BEGIN:VEVENT
DTSTART;TZID=America/New_York:20240116T123000
DTEND;TZID=America/New_York:20240116T133000
DTSTAMP:20260422T065249
CREATED:20230816T181213Z
LAST-MODIFIED:20240116T144146Z
UID:10001726-1705408200-1705411800@www.lasalle.edu
SUMMARY:Academic Affairs Meeting
DESCRIPTION:Academic Affairs Meeting
URL:https://www.lasalle.edu/event/academic-affairs-meeting-5/
LOCATION:La Salle Union McShain Boardroom
CATEGORIES:Meeting - General
END:VEVENT
BEGIN:VEVENT
DTSTART;TZID=America/New_York:20240112T123000
DTEND;TZID=America/New_York:20240112T173000
DTSTAMP:20260422T065249
CREATED:20230816T181213Z
LAST-MODIFIED:20240103T075133Z
UID:10001725-1705062600-1705080600@www.lasalle.edu
SUMMARY:Tenure and Promotion Committee
DESCRIPTION:Tenure and Promotion Committee
URL:https://www.lasalle.edu/event/tenure-and-promotion-committee-10/
LOCATION:La Salle Union McShain Boardroom
CATEGORIES:Meeting - General
END:VEVENT
BEGIN:VEVENT
DTSTART;TZID=America/New_York:20240111T123000
DTEND;TZID=America/New_York:20240111T134500
DTSTAMP:20260422T065249
CREATED:20230816T181213Z
LAST-MODIFIED:20240111T124444Z
UID:10001724-1704976200-1704980700@www.lasalle.edu
SUMMARY:University Curriculum Committee
DESCRIPTION:University Curriculum Committee
URL:https://www.lasalle.edu/event/university-curriculum-committee-5/
LOCATION:La Salle Union McShain Boardroom
CATEGORIES:Meeting - General
END:VEVENT
BEGIN:VEVENT
DTSTART;TZID=America/New_York:20240105T123000
DTEND;TZID=America/New_York:20240105T173000
DTSTAMP:20260422T065249
CREATED:20230816T181213Z
LAST-MODIFIED:20240103T075130Z
UID:10001723-1704457800-1704475800@www.lasalle.edu
SUMMARY:Tenure and Promotion Committee
DESCRIPTION:Tenure and Promotion Committee
URL:https://www.lasalle.edu/event/tenure-and-promotion-committee-9/
LOCATION:La Salle Union McShain Boardroom
CATEGORIES:Meeting - General
END:VEVENT
BEGIN:VEVENT
DTSTART;TZID=America/New_York:20240103T093000
DTEND;TZID=America/New_York:20240103T223000
DTSTAMP:20260422T065249
CREATED:20230816T181212Z
LAST-MODIFIED:20240103T075129Z
UID:10001722-1704274200-1704321000@www.lasalle.edu
SUMMARY:Academic Leadership Team
DESCRIPTION:Academic Leadership Team
URL:https://www.lasalle.edu/event/academic-leadership-team-11/
LOCATION:La Salle Union McShain Boardroom
CATEGORIES:Meeting - General
END:VEVENT
BEGIN:VEVENT
DTSTART;TZID=America/New_York:20231220T093000
DTEND;TZID=America/New_York:20231220T103000
DTSTAMP:20260422T065249
CREATED:20230816T181212Z
LAST-MODIFIED:20231219T222134Z
UID:10001721-1703064600-1703068200@www.lasalle.edu
SUMMARY:Academic Leadership Team
DESCRIPTION:Academic Leadership Team
URL:https://www.lasalle.edu/event/academic-leadership-team-10/
LOCATION:La Salle Union McShain Boardroom
CATEGORIES:Meeting - General
END:VEVENT
BEGIN:VEVENT
DTSTART;TZID=America/New_York:20231214T123000
DTEND;TZID=America/New_York:20231214T134500
DTSTAMP:20260422T065250
CREATED:20230816T181212Z
LAST-MODIFIED:20231213T013959Z
UID:10001719-1702557000-1702561500@www.lasalle.edu
SUMMARY:University Curriculum Committee
DESCRIPTION:University Curriculum Committee
URL:https://www.lasalle.edu/event/university-curriculum-committee-4/
LOCATION:La Salle Union McShain Boardroom
CATEGORIES:Meeting - General
END:VEVENT
BEGIN:VEVENT
DTSTART;TZID=America/New_York:20231212T123000
DTEND;TZID=America/New_York:20231212T133000
DTSTAMP:20260422T065250
CREATED:20230816T181211Z
LAST-MODIFIED:20231212T003904Z
UID:10001717-1702384200-1702387800@www.lasalle.edu
SUMMARY:Academic Affairs Meeting
DESCRIPTION:Academic Affairs Meeting
URL:https://www.lasalle.edu/event/academic-affairs-meeting-4/
LOCATION:La Salle Union McShain Boardroom
CATEGORIES:Meeting - General
END:VEVENT
BEGIN:VEVENT
DTSTART;TZID=America/New_York:20231208T123000
DTEND;TZID=America/New_York:20231208T173000
DTSTAMP:20260422T065250
CREATED:20230816T181211Z
LAST-MODIFIED:20231208T204031Z
UID:10001716-1702038600-1702056600@www.lasalle.edu
SUMMARY:Tenure and Promotion Committee
DESCRIPTION:Tenure and Promotion Committee
URL:https://www.lasalle.edu/event/tenure-and-promotion-committee-7/
LOCATION:La Salle Union McShain Boardroom
CATEGORIES:Meeting - General
END:VEVENT
BEGIN:VEVENT
DTSTART;TZID=America/New_York:20231206T093000
DTEND;TZID=America/New_York:20231206T103000
DTSTAMP:20260422T065250
CREATED:20230816T181211Z
LAST-MODIFIED:20231205T183732Z
UID:10001714-1701855000-1701858600@www.lasalle.edu
SUMMARY:Academic Leadership Team
DESCRIPTION:Academic Leadership Team
URL:https://www.lasalle.edu/event/academic-leadership-team-9/
LOCATION:La Salle Union McShain Boardroom
CATEGORIES:Meeting - General
END:VEVENT
BEGIN:VEVENT
DTSTART;TZID=America/New_York:20231201T123000
DTEND;TZID=America/New_York:20231201T173000
DTSTAMP:20260422T065250
CREATED:20230816T181210Z
LAST-MODIFIED:20231201T144035Z
UID:10001712-1701433800-1701451800@www.lasalle.edu
SUMMARY:Tenure and Promotion Committee
DESCRIPTION:Tenure and Promotion Committee
URL:https://www.lasalle.edu/event/tenure-and-promotion-committee-6/
LOCATION:La Salle Union McShain Boardroom
CATEGORIES:Meeting - General
END:VEVENT
BEGIN:VEVENT
DTSTART;TZID=America/New_York:20231128T123000
DTEND;TZID=America/New_York:20231128T133000
DTSTAMP:20260422T065250
CREATED:20230816T153437Z
LAST-MODIFIED:20231127T173729Z
UID:10001708-1701174600-1701178200@www.lasalle.edu
SUMMARY:Academic Affairs Meeting
DESCRIPTION:Academic Affairs Meeting
URL:https://www.lasalle.edu/event/academic-affairs-meeting-3/
LOCATION:La Salle Union McShain Boardroom
CATEGORIES:Meeting - General
END:VEVENT
BEGIN:VEVENT
DTSTART;TZID=America/New_York:20231121T093000
DTEND;TZID=America/New_York:20231121T223000
DTSTAMP:20260422T065250
CREATED:20230816T153436Z
LAST-MODIFIED:20231121T114108Z
UID:10001706-1700559000-1700605800@www.lasalle.edu
SUMMARY:Academic Leadership Team
DESCRIPTION:Academic Leadership Team
URL:https://www.lasalle.edu/event/academic-leadership-team-8/
LOCATION:La Salle Union McShain Boardroom
CATEGORIES:Meeting - General
END:VEVENT
BEGIN:VEVENT
DTSTART;TZID=America/New_York:20231117T123000
DTEND;TZID=America/New_York:20231117T173000
DTSTAMP:20260422T065250
CREATED:20230816T153436Z
LAST-MODIFIED:20231117T084633Z
UID:10001705-1700224200-1700242200@www.lasalle.edu
SUMMARY:Tenure and Promotion Committee
DESCRIPTION:Tenure and Promotion Committee
URL:https://www.lasalle.edu/event/tenure-and-promotion-committee-5/
LOCATION:La Salle Union McShain Boardroom
CATEGORIES:Meeting - General
END:VEVENT
BEGIN:VEVENT
DTSTART;TZID=America/New_York:20231110T123000
DTEND;TZID=America/New_York:20231110T173000
DTSTAMP:20260422T065250
CREATED:20230816T153435Z
LAST-MODIFIED:20231111T034410Z
UID:10001702-1699619400-1699637400@www.lasalle.edu
SUMMARY:Tenure and Promotion Committee
DESCRIPTION:Tenure and Promotion Committee
URL:https://www.lasalle.edu/event/tenure-and-promotion-committee-4/
LOCATION:La Salle Union McShain Boardroom
CATEGORIES:Meeting - General
END:VEVENT
BEGIN:VEVENT
DTSTART;TZID=America/New_York:20231109T123000
DTEND;TZID=America/New_York:20231109T134500
DTSTAMP:20260422T065250
CREATED:20230816T153435Z
LAST-MODIFIED:20231111T034408Z
UID:10001701-1699533000-1699537500@www.lasalle.edu
SUMMARY:University Curriculum Committee
DESCRIPTION:University Curriculum Committee
URL:https://www.lasalle.edu/event/university-curriculum-committee-3/
LOCATION:La Salle Union McShain Boardroom
CATEGORIES:Meeting - General
END:VEVENT
BEGIN:VEVENT
DTSTART;TZID=America/New_York:20231108T093000
DTEND;TZID=America/New_York:20231108T223000
DTSTAMP:20260422T065250
CREATED:20230816T153434Z
LAST-MODIFIED:20231111T034407Z
UID:10001699-1699435800-1699482600@www.lasalle.edu
SUMMARY:Academic Leadership Team
DESCRIPTION:Academic Leadership Team
URL:https://www.lasalle.edu/event/academic-leadership-team-7/
LOCATION:La Salle Union McShain Boardroom
CATEGORIES:Meeting - General
END:VEVENT
BEGIN:VEVENT
DTSTART;TZID=America/New_York:20231103T123000
DTEND;TZID=America/New_York:20231103T173000
DTSTAMP:20260422T065250
CREATED:20230816T153434Z
LAST-MODIFIED:20231102T214757Z
UID:10001698-1699014600-1699032600@www.lasalle.edu
SUMMARY:Tenure and Promotion Committee
DESCRIPTION:Tenure and Promotion Committee
URL:https://www.lasalle.edu/event/tenure-and-promotion-committee-3/
LOCATION:La Salle Union McShain Boardroom
CATEGORIES:Meeting - General
END:VEVENT
BEGIN:VEVENT
DTSTART;TZID=America/New_York:20231027T123000
DTEND;TZID=America/New_York:20231027T173000
DTSTAMP:20260422T065250
CREATED:20230816T153433Z
LAST-MODIFIED:20231025T174536Z
UID:10001696-1698409800-1698427800@www.lasalle.edu
SUMMARY:Tenure and Promotion Committee
DESCRIPTION:Tenure and Promotion Committee
URL:https://www.lasalle.edu/event/tenure-and-promotion-committee-2/
LOCATION:La Salle Union McShain Boardroom
CATEGORIES:Meeting - General
END:VEVENT
BEGIN:VEVENT
DTSTART;TZID=America/New_York:20231025T093000
DTEND;TZID=America/New_York:20231025T103000
DTSTAMP:20260422T065250
CREATED:20230816T153433Z
LAST-MODIFIED:20231024T174405Z
UID:10001694-1698226200-1698229800@www.lasalle.edu
SUMMARY:Academic Leadership Team
DESCRIPTION:Academic Leadership Team
URL:https://www.lasalle.edu/event/academic-leadership-team-6/
LOCATION:La Salle Union McShain Boardroom
CATEGORIES:Meeting - General
END:VEVENT
END:VCALENDAR