BEGIN:VCALENDAR
VERSION:2.0
PRODID:-//La Salle University - ECPv6.15.20//NONSGML v1.0//EN
CALSCALE:GREGORIAN
METHOD:PUBLISH
X-ORIGINAL-URL:https://www.lasalle.edu
X-WR-CALDESC:Events for La Salle University
REFRESH-INTERVAL;VALUE=DURATION:PT1H
X-Robots-Tag:noindex
X-PUBLISHED-TTL:PT1H
BEGIN:VTIMEZONE
TZID:America/New_York
BEGIN:DAYLIGHT
TZOFFSETFROM:-0500
TZOFFSETTO:-0400
TZNAME:EDT
DTSTART:20220313T070000
END:DAYLIGHT
BEGIN:STANDARD
TZOFFSETFROM:-0400
TZOFFSETTO:-0500
TZNAME:EST
DTSTART:20221106T060000
END:STANDARD
BEGIN:DAYLIGHT
TZOFFSETFROM:-0500
TZOFFSETTO:-0400
TZNAME:EDT
DTSTART:20230312T070000
END:DAYLIGHT
BEGIN:STANDARD
TZOFFSETFROM:-0400
TZOFFSETTO:-0500
TZNAME:EST
DTSTART:20231105T060000
END:STANDARD
BEGIN:DAYLIGHT
TZOFFSETFROM:-0500
TZOFFSETTO:-0400
TZNAME:EDT
DTSTART:20240310T070000
END:DAYLIGHT
BEGIN:STANDARD
TZOFFSETFROM:-0400
TZOFFSETTO:-0500
TZNAME:EST
DTSTART:20241103T060000
END:STANDARD
END:VTIMEZONE
BEGIN:VEVENT
DTSTART;TZID=America/New_York:20230913T093000
DTEND;TZID=America/New_York:20230913T223000
DTSTAMP:20260422T163930
CREATED:20230816T153428Z
LAST-MODIFIED:20230912T202755Z
UID:10001674-1694597400-1694644200@www.lasalle.edu
SUMMARY:Academic Leadership Team
DESCRIPTION:Academic Leadership Team
URL:https://www.lasalle.edu/event/academic-leadership-team-3/
LOCATION:La Salle Union McShain Boardroom
CATEGORIES:Meeting - General
END:VEVENT
BEGIN:VEVENT
DTSTART;TZID=America/New_York:20230905T123000
DTEND;TZID=America/New_York:20230905T133000
DTSTAMP:20260422T163930
CREATED:20230816T153426Z
LAST-MODIFIED:20230816T181203Z
UID:10001667-1693917000-1693920600@www.lasalle.edu
SUMMARY:Academic Affairs Meeting
DESCRIPTION:Academic Affairs Meeting
URL:https://www.lasalle.edu/event/academic-affairs-meeting/
LOCATION:La Salle Union McShain Boardroom
CATEGORIES:Meeting - General
END:VEVENT
BEGIN:VEVENT
DTSTART;TZID=America/New_York:20230830T093000
DTEND;TZID=America/New_York:20230830T223000
DTSTAMP:20260422T163930
CREATED:20230816T153426Z
LAST-MODIFIED:20230816T181203Z
UID:10001665-1693387800-1693434600@www.lasalle.edu
SUMMARY:Academic Leadership Team
DESCRIPTION:Academic Leadership Team
URL:https://www.lasalle.edu/event/academic-leadership-team-2/
LOCATION:La Salle Union McShain Boardroom
CATEGORIES:Meeting - General
END:VEVENT
BEGIN:VEVENT
DTSTART;TZID=America/New_York:20230823T100000
DTEND;TZID=America/New_York:20230823T150000
DTSTAMP:20260422T163930
CREATED:20230816T153425Z
LAST-MODIFIED:20230816T181202Z
UID:10001662-1692784800-1692802800@www.lasalle.edu
SUMMARY:Commuter Coach Training
DESCRIPTION:Commuter Connector Training
URL:https://www.lasalle.edu/event/commuter-coach-training/
LOCATION:La Salle Union McShain Boardroom
CATEGORIES:Leadership Development
END:VEVENT
BEGIN:VEVENT
DTSTART;TZID=America/New_York:20230816T150000
DTEND;TZID=America/New_York:20230816T163000
DTSTAMP:20260422T163930
CREATED:20230816T153424Z
LAST-MODIFIED:20230816T181202Z
UID:10001660-1692198000-1692203400@www.lasalle.edu
SUMMARY:Academic Leadership Team
DESCRIPTION:Academic Leadership Team
URL:https://www.lasalle.edu/event/academic-leadership-team/
LOCATION:La Salle Union McShain Boardroom
CATEGORIES:Meeting - General
END:VEVENT
END:VCALENDAR