BEGIN:VCALENDAR
VERSION:2.0
PRODID:-//La Salle University - ECPv6.15.20//NONSGML v1.0//EN
CALSCALE:GREGORIAN
METHOD:PUBLISH
X-ORIGINAL-URL:https://www.lasalle.edu
X-WR-CALDESC:Events for La Salle University
REFRESH-INTERVAL;VALUE=DURATION:PT1H
X-Robots-Tag:noindex
X-PUBLISHED-TTL:PT1H
BEGIN:VTIMEZONE
TZID:America/New_York
BEGIN:DAYLIGHT
TZOFFSETFROM:-0500
TZOFFSETTO:-0400
TZNAME:EDT
DTSTART:20240310T070000
END:DAYLIGHT
BEGIN:STANDARD
TZOFFSETFROM:-0400
TZOFFSETTO:-0500
TZNAME:EST
DTSTART:20241103T060000
END:STANDARD
BEGIN:DAYLIGHT
TZOFFSETFROM:-0500
TZOFFSETTO:-0400
TZNAME:EDT
DTSTART:20250309T070000
END:DAYLIGHT
BEGIN:STANDARD
TZOFFSETFROM:-0400
TZOFFSETTO:-0500
TZNAME:EST
DTSTART:20251102T060000
END:STANDARD
BEGIN:DAYLIGHT
TZOFFSETFROM:-0500
TZOFFSETTO:-0400
TZNAME:EDT
DTSTART:20260308T070000
END:DAYLIGHT
BEGIN:STANDARD
TZOFFSETFROM:-0400
TZOFFSETTO:-0500
TZNAME:EST
DTSTART:20261101T060000
END:STANDARD
BEGIN:DAYLIGHT
TZOFFSETFROM:-0500
TZOFFSETTO:-0400
TZNAME:EDT
DTSTART:20270314T070000
END:DAYLIGHT
BEGIN:STANDARD
TZOFFSETFROM:-0400
TZOFFSETTO:-0500
TZNAME:EST
DTSTART:20271107T060000
END:STANDARD
END:VTIMEZONE
BEGIN:VEVENT
DTSTART;TZID=America/New_York:20260418T070000
DTEND;TZID=America/New_York:20260418T170000
DTSTAMP:20260421T195056
CREATED:20260416T083601Z
LAST-MODIFIED:20260418T203846Z
UID:10005726-1776495600-1776531600@www.lasalle.edu
SUMMARY:B&G Day
DESCRIPTION:B&G Day
URL:https://www.lasalle.edu/event/bg-day-12/
LOCATION:La Salle Union Music Room
CATEGORIES:Admissions
END:VEVENT
BEGIN:VEVENT
DTSTART;TZID=America/New_York:20260417T200000
DTEND;TZID=America/New_York:20260417T220000
DTSTAMP:20260421T195056
CREATED:20260415T053803Z
LAST-MODIFIED:20260418T014747Z
UID:10005722-1776456000-1776463200@www.lasalle.edu
SUMMARY:LNL - Film (Minecraft Movie)
DESCRIPTION:LNL – Film (Minecraft Movie)
URL:https://www.lasalle.edu/event/lnl-film-minecraft-movie/
LOCATION:La Salle Union Music Room
CATEGORIES:Entertainment
END:VEVENT
BEGIN:VEVENT
DTSTART;TZID=America/New_York:20260417T090000
DTEND;TZID=America/New_York:20260417T170000
DTSTAMP:20260421T195056
CREATED:20260411T223129Z
LAST-MODIFIED:20260417T204026Z
UID:10005709-1776416400-1776445200@www.lasalle.edu
SUMMARY:B&G set up
DESCRIPTION:B&G set up
URL:https://www.lasalle.edu/event/bg-set-up-11/
LOCATION:La Salle Union Music Room
CATEGORIES:Admissions
END:VEVENT
BEGIN:VEVENT
DTSTART;TZID=America/New_York:20260414T170000
DTEND;TZID=America/New_York:20260414T220000
DTSTAMP:20260421T195056
CREATED:20260411T043541Z
LAST-MODIFIED:20260415T023700Z
UID:10005700-1776186000-1776204000@www.lasalle.edu
SUMMARY:The masque
DESCRIPTION:The masque
URL:https://www.lasalle.edu/event/the-masque-63/
LOCATION:La Salle Union Music Room
CATEGORIES:Entertainment
END:VEVENT
BEGIN:VEVENT
DTSTART;TZID=America/New_York:20260411T070000
DTEND;TZID=America/New_York:20260411T170000
DTSTAMP:20260421T195056
CREATED:20260410T214043Z
LAST-MODIFIED:20260411T203623Z
UID:10005691-1775890800-1775926800@www.lasalle.edu
SUMMARY:B&G Day
DESCRIPTION:B&G Day
URL:https://www.lasalle.edu/event/bg-day-9/
LOCATION:La Salle Union Music Room
CATEGORIES:Admissions
END:VEVENT
BEGIN:VEVENT
DTSTART;TZID=America/New_York:20260410T090000
DTEND;TZID=America/New_York:20260410T170000
DTSTAMP:20260421T195056
CREATED:20260308T104630Z
LAST-MODIFIED:20260410T204032Z
UID:10005669-1775811600-1775840400@www.lasalle.edu
SUMMARY:B&G set up
DESCRIPTION:B&G set up
URL:https://www.lasalle.edu/event/bg-set-up-8/
LOCATION:La Salle Union Music Room
CATEGORIES:Admissions
END:VEVENT
BEGIN:VEVENT
DTSTART;TZID=America/New_York:20260409T090000
DTEND;TZID=America/New_York:20260409T170000
DTSTAMP:20260421T195056
CREATED:20260331T225242Z
LAST-MODIFIED:20260409T204129Z
UID:10005687-1775725200-1775754000@www.lasalle.edu
SUMMARY:B&G set up
DESCRIPTION:B&G set up
URL:https://www.lasalle.edu/event/bg-set-up-10/
LOCATION:La Salle Union Music Room
CATEGORIES:Admissions
END:VEVENT
BEGIN:VEVENT
DTSTART;TZID=America/New_York:20260327T200000
DTEND;TZID=America/New_York:20260327T220000
DTSTAMP:20260421T195056
CREATED:20260308T084753Z
LAST-MODIFIED:20260328T014008Z
UID:10005630-1774641600-1774648800@www.lasalle.edu
SUMMARY:LNL- Shamrock Shakes & Luck of the Irish
DESCRIPTION:LNL- Shamrock Shakes & Luck of the Irish
URL:https://www.lasalle.edu/event/lnl-shamrock-shakes-luck-of-the-irish/
LOCATION:La Salle Union Music Room
CATEGORIES:Entertainment
END:VEVENT
BEGIN:VEVENT
DTSTART;TZID=America/New_York:20260326T180000
DTEND;TZID=America/New_York:20260326T220000
DTSTAMP:20260421T195056
CREATED:20260308T084751Z
LAST-MODIFIED:20260327T014309Z
UID:10005626-1774548000-1774562400@www.lasalle.edu
SUMMARY:The masque
DESCRIPTION:The masque
URL:https://www.lasalle.edu/event/the-masque-55/
LOCATION:La Salle Union Music Room
CATEGORIES:Entertainment
END:VEVENT
BEGIN:VEVENT
DTSTART;TZID=America/New_York:20260311T173000
DTEND;TZID=America/New_York:20260311T193000
DTSTAMP:20260421T195056
CREATED:20260303T014129Z
LAST-MODIFIED:20260306T155100Z
UID:10005604-1773250200-1773257400@www.lasalle.edu
SUMMARY:EDC  Forum
DESCRIPTION:The education department will be hosting their annual forum for all education majors to come and speak with companies hiring specifically for education careers.
URL:https://www.lasalle.edu/event/edc-forum/
LOCATION:La Salle Union Music Room
CATEGORIES:Conference
END:VEVENT
BEGIN:VEVENT
DTSTART;TZID=America/New_York:20260205T180000
DTEND;TZID=America/New_York:20260205T210000
DTSTAMP:20260421T195056
CREATED:20260129T093317Z
LAST-MODIFIED:20260206T013847Z
UID:10005473-1770314400-1770325200@www.lasalle.edu
SUMMARY:Phi Mu
DESCRIPTION:Phi Mu Event
URL:https://www.lasalle.edu/event/phi-mu-3/
LOCATION:La Salle Union Music Room
CATEGORIES:Service
END:VEVENT
BEGIN:VEVENT
DTSTART;TZID=America/New_York:20260203T120000
DTEND;TZID=America/New_York:20260203T140000
DTSTAMP:20260421T195056
CREATED:20260128T065342Z
LAST-MODIFIED:20260203T185422Z
UID:10005460-1770120000-1770127200@www.lasalle.edu
SUMMARY:BSU Black His Mixer
DESCRIPTION:BSU Black His Mixer
URL:https://www.lasalle.edu/event/bsu-black-his-mixer/
LOCATION:La Salle Union Music Room
CATEGORIES:Entertainment
END:VEVENT
BEGIN:VEVENT
DTSTART;TZID=America/New_York:20260129T183000
DTEND;TZID=America/New_York:20260129T220000
DTSTAMP:20260421T195056
CREATED:20251220T234531Z
LAST-MODIFIED:20260130T024035Z
UID:10005399-1769711400-1769724000@www.lasalle.edu
SUMMARY:Sorority recruitmenrt
DESCRIPTION:Sorority recruitment
URL:https://www.lasalle.edu/event/sorority-recruitmenrt-13/
LOCATION:La Salle Union Music Room
CATEGORIES:Meeting - General
END:VEVENT
BEGIN:VEVENT
DTSTART;TZID=America/New_York:20260128T183000
DTEND;TZID=America/New_York:20260128T220000
DTSTAMP:20260421T195056
CREATED:20251205T173228Z
LAST-MODIFIED:20260129T023718Z
UID:10005387-1769625000-1769637600@www.lasalle.edu
SUMMARY:Sorority recruitmenrt
DESCRIPTION:Sorority recruitment
URL:https://www.lasalle.edu/event/sorority-recruitmenrt-11/
LOCATION:La Salle Union Music Room
CATEGORIES:Meeting - General
END:VEVENT
BEGIN:VEVENT
DTSTART;TZID=America/New_York:20260127T183000
DTEND;TZID=America/New_York:20260127T220000
DTSTAMP:20260421T195056
CREATED:20251205T173227Z
LAST-MODIFIED:20260128T023944Z
UID:10005386-1769538600-1769551200@www.lasalle.edu
SUMMARY:Sorority recruitmenrt
DESCRIPTION:Sorority recruitment
URL:https://www.lasalle.edu/event/sorority-recruitmenrt-10/
LOCATION:La Salle Union Music Room
CATEGORIES:Meeting - General
END:VEVENT
BEGIN:VEVENT
DTSTART;TZID=America/New_York:20260126T183000
DTEND;TZID=America/New_York:20260126T220000
DTSTAMP:20260421T195056
CREATED:20251205T163818Z
LAST-MODIFIED:20260127T025546Z
UID:10005383-1769452200-1769464800@www.lasalle.edu
SUMMARY:Sorority recruitmenrt
DESCRIPTION:Sorority recruitment
URL:https://www.lasalle.edu/event/sorority-recruitmenrt-7/
LOCATION:La Salle Union Music Room
CATEGORIES:Meeting - General
END:VEVENT
BEGIN:VEVENT
DTSTART;TZID=America/New_York:20260122T183000
DTEND;TZID=America/New_York:20260122T220000
DTSTAMP:20260421T195056
CREATED:20251205T163817Z
LAST-MODIFIED:20260123T023558Z
UID:10005381-1769106600-1769119200@www.lasalle.edu
SUMMARY:Sorority recruitmenrt
DESCRIPTION:Sorority recruitment
URL:https://www.lasalle.edu/event/sorority-recruitmenrt-6/
LOCATION:La Salle Union Music Room
CATEGORIES:Meeting - General
END:VEVENT
BEGIN:VEVENT
DTSTART;TZID=America/New_York:20260121T170000
DTEND;TZID=America/New_York:20260121T200000
DTSTAMP:20260421T195056
CREATED:20251205T163403Z
LAST-MODIFIED:20260122T003837Z
UID:10005379-1769014800-1769025600@www.lasalle.edu
SUMMARY:Sorority recruitmenrt
DESCRIPTION:Sorority recruitment
URL:https://www.lasalle.edu/event/sorority-recruitmenrt-4/
LOCATION:La Salle Union Music Room
CATEGORIES:Meeting - General
END:VEVENT
BEGIN:VEVENT
DTSTART;TZID=America/New_York:20260120T173000
DTEND;TZID=America/New_York:20260120T220000
DTSTAMP:20260421T195056
CREATED:20251205T163303Z
LAST-MODIFIED:20260121T023955Z
UID:10005375-1768930200-1768946400@www.lasalle.edu
SUMMARY:Sorority recruitmenrt
DESCRIPTION:Sorority recruitment
URL:https://www.lasalle.edu/event/sorority-recruitmenrt/
LOCATION:La Salle Union Music Room
CATEGORIES:Meeting - General
END:VEVENT
BEGIN:VEVENT
DTSTART;TZID=America/New_York:20260120T123000
DTEND;TZID=America/New_York:20260120T140000
DTSTAMP:20260421T195056
CREATED:20251205T163302Z
LAST-MODIFIED:20260120T174301Z
UID:10005374-1768912200-1768917600@www.lasalle.edu
SUMMARY:Sorority recruitment
DESCRIPTION:Sorority recruitment
URL:https://www.lasalle.edu/event/sorority-recruitment-40/
LOCATION:La Salle Union Music Room
CATEGORIES:Meeting - General
END:VEVENT
BEGIN:VEVENT
DTSTART;TZID=America/New_York:20251118T120000
DTEND;TZID=America/New_York:20251118T140000
DTSTAMP:20260421T195056
CREATED:20251112T023306Z
LAST-MODIFIED:20251112T123109Z
UID:10005282-1763467200-1763474400@www.lasalle.edu
SUMMARY:Thanksgiving HR Lunch
DESCRIPTION:HR Thanksgiving employee lunch
URL:https://www.lasalle.edu/event/thanksgiving-hr-lunch/
LOCATION:La Salle Union Music Room
CATEGORIES:University Celebrations
END:VEVENT
BEGIN:VEVENT
DTSTART;TZID=America/New_York:20251108T110000
DTEND;TZID=America/New_York:20251108T160000
DTSTAMP:20260421T195056
CREATED:20251103T094821Z
LAST-MODIFIED:20251108T203220Z
UID:10005235-1762599600-1762617600@www.lasalle.edu
SUMMARY:Sigma Phi Lambda 90th Reunion
DESCRIPTION:Sigma Phi Lambda 90th Reunion
URL:https://www.lasalle.edu/event/sigma-phi-lambda-90th-reunion/
LOCATION:La Salle Union Music Room
CATEGORIES:University Celebrations
END:VEVENT
BEGIN:VEVENT
DTSTART;TZID=America/New_York:20251105T120000
DTEND;TZID=America/New_York:20251105T140000
DTSTAMP:20260421T195056
CREATED:20251101T024610Z
LAST-MODIFIED:20251105T185035Z
UID:10005214-1762344000-1762351200@www.lasalle.edu
SUMMARY:Kindness Kits
DESCRIPTION:homecoming week event
URL:https://www.lasalle.edu/event/kindness-kits/
LOCATION:La Salle Union Music Room
CATEGORIES:University Celebrations
END:VEVENT
BEGIN:VEVENT
DTSTART;TZID=America/New_York:20251028T110000
DTEND;TZID=America/New_York:20251028T160000
DTSTAMP:20260421T195056
CREATED:20251024T013910Z
LAST-MODIFIED:20251028T193544Z
UID:10005175-1761649200-1761667200@www.lasalle.edu
SUMMARY:Tips\, Tricks\, & Treats Career Readiness Fair
DESCRIPTION:Tips\, Tricks\, & Treats: Career Readiness Fair  Join us for an exciting opportunity to connect with employers and alumni from a wide range of career fields and industries. Meet recruiters who are seeking students for leadership programs\, internships\, co-ops\, and full-time positions.  📄 Bring copies of your resume to share with employers. 👔 Professional dress is required.  Event Highlights:  Complimentary snacks 🍬  Employers will be set up in a fun “trick-or-treat” style layout—collect candy\, swag\, and career advice while learning about open opportunities!  Career Readiness Stations in the Music Room – open to all undergraduate students! Get support with:  Resume reviews  Practicing your 30-second elevator pitch  Accessing the pop-up Career Closet for professional dress  Free professional headshots (12:00–3:00 p.m.) 📸  Career Closet available to all students  📍 Location: Founders Hall Atrium & Music Room
URL:https://www.lasalle.edu/event/tips-tricks-treats-career-readiness-fair-3/
LOCATION:La Salle Union Music Room
CATEGORIES:Job/Career
END:VEVENT
BEGIN:VEVENT
DTSTART;TZID=America/New_York:20251023T120000
DTEND;TZID=America/New_York:20251023T140000
DTSTAMP:20260421T195056
CREATED:20251021T074746Z
LAST-MODIFIED:20251022T183450Z
UID:10005155-1761220800-1761228000@www.lasalle.edu
SUMMARY:Humanities Week Program
DESCRIPTION:Humanities Week Program
URL:https://www.lasalle.edu/event/humanities-week-program-4/
LOCATION:La Salle Union Music Room
CATEGORIES:Multicultural/Diversity
END:VEVENT
BEGIN:VEVENT
DTSTART;TZID=America/New_York:20251022T120000
DTEND;TZID=America/New_York:20251022T210000
DTSTAMP:20260421T195056
CREATED:20251016T194940Z
LAST-MODIFIED:20251023T003344Z
UID:10005145-1761134400-1761166800@www.lasalle.edu
SUMMARY:Humanities Week Program
DESCRIPTION:Humanities Week Program
URL:https://www.lasalle.edu/event/humanities-week-program-3/
LOCATION:La Salle Union Music Room
CATEGORIES:Multicultural/Diversity
END:VEVENT
BEGIN:VEVENT
DTSTART;TZID=America/New_York:20251021T120000
DTEND;TZID=America/New_York:20251021T140000
DTSTAMP:20260421T195056
CREATED:20251016T185043Z
LAST-MODIFIED:20251021T173136Z
UID:10005140-1761048000-1761055200@www.lasalle.edu
SUMMARY:Humanities Week Program
DESCRIPTION:Humanities Week Program
URL:https://www.lasalle.edu/event/humanities-week-program-2/
LOCATION:La Salle Union Music Room
CATEGORIES:Multicultural/Diversity
END:VEVENT
BEGIN:VEVENT
DTSTART;TZID=America/New_York:20251020T120000
DTEND;TZID=America/New_York:20251020T140000
DTSTAMP:20260421T195056
CREATED:20251014T214806Z
LAST-MODIFIED:20251020T173149Z
UID:10005134-1760961600-1760968800@www.lasalle.edu
SUMMARY:Humanities Week Program
DESCRIPTION:Humanities Week Program
URL:https://www.lasalle.edu/event/humanities-week-program/
LOCATION:La Salle Union Music Room
CATEGORIES:Multicultural/Diversity
END:VEVENT
BEGIN:VEVENT
DTSTART;TZID=America/New_York:20251014T070000
DTEND;TZID=America/New_York:20251014T150000
DTSTAMP:20260421T195056
CREATED:20251008T204658Z
LAST-MODIFIED:20251014T183100Z
UID:10005112-1760425200-1760454000@www.lasalle.edu
SUMMARY:Destination La Salle
DESCRIPTION:Destination La Salle
URL:https://www.lasalle.edu/event/destination-la-salle-3/
LOCATION:La Salle Union Music Room
CATEGORIES:University Celebrations
END:VEVENT
BEGIN:VEVENT
DTSTART;TZID=America/New_York:20251004T070000
DTEND;TZID=America/New_York:20251004T150000
DTSTAMP:20260421T195057
CREATED:20251002T003453Z
LAST-MODIFIED:20251004T183037Z
UID:10005078-1759561200-1759590000@www.lasalle.edu
SUMMARY:Fall Open House
DESCRIPTION:Fall Open House.  Across multiple locations around campus (Library\, Union\, Holroyd\, Hayman).
URL:https://www.lasalle.edu/event/fall-open-house-8/
LOCATION:La Salle Union Music Room
CATEGORIES:University Celebrations
END:VEVENT
END:VCALENDAR