BEGIN:VCALENDAR
VERSION:2.0
PRODID:-//La Salle University - ECPv6.15.20//NONSGML v1.0//EN
CALSCALE:GREGORIAN
METHOD:PUBLISH
X-ORIGINAL-URL:https://www.lasalle.edu
X-WR-CALDESC:Events for La Salle University
REFRESH-INTERVAL;VALUE=DURATION:PT1H
X-Robots-Tag:noindex
X-PUBLISHED-TTL:PT1H
BEGIN:VTIMEZONE
TZID:America/New_York
BEGIN:DAYLIGHT
TZOFFSETFROM:-0500
TZOFFSETTO:-0400
TZNAME:EDT
DTSTART:20240310T070000
END:DAYLIGHT
BEGIN:STANDARD
TZOFFSETFROM:-0400
TZOFFSETTO:-0500
TZNAME:EST
DTSTART:20241103T060000
END:STANDARD
BEGIN:DAYLIGHT
TZOFFSETFROM:-0500
TZOFFSETTO:-0400
TZNAME:EDT
DTSTART:20250309T070000
END:DAYLIGHT
BEGIN:STANDARD
TZOFFSETFROM:-0400
TZOFFSETTO:-0500
TZNAME:EST
DTSTART:20251102T060000
END:STANDARD
BEGIN:DAYLIGHT
TZOFFSETFROM:-0500
TZOFFSETTO:-0400
TZNAME:EDT
DTSTART:20260308T070000
END:DAYLIGHT
BEGIN:STANDARD
TZOFFSETFROM:-0400
TZOFFSETTO:-0500
TZNAME:EST
DTSTART:20261101T060000
END:STANDARD
END:VTIMEZONE
BEGIN:VEVENT
DTSTART;TZID=America/New_York:20250511T070000
DTEND;TZID=America/New_York:20250511T230000
DTSTAMP:20260422T070046
CREATED:20250510T033645Z
LAST-MODIFIED:20250512T033515Z
UID:10004615-1746946800-1747004400@www.lasalle.edu
SUMMARY:Commencement
DESCRIPTION:Commencement
URL:https://www.lasalle.edu/event/commencement-31/
LOCATION:La Salle Union Music Room
CATEGORIES:University Celebrations
END:VEVENT
BEGIN:VEVENT
DTSTART;TZID=America/New_York:20250510T070000
DTEND;TZID=America/New_York:20250510T230000
DTSTAMP:20260422T070046
CREATED:20250508T133704Z
LAST-MODIFIED:20250511T033208Z
UID:10004606-1746860400-1746918000@www.lasalle.edu
SUMMARY:Commencement
DESCRIPTION:Commencement
URL:https://www.lasalle.edu/event/commencement-24/
LOCATION:La Salle Union Music Room
CATEGORIES:University Celebrations
END:VEVENT
BEGIN:VEVENT
DTSTART;TZID=America/New_York:20250509T070000
DTEND;TZID=America/New_York:20250509T230000
DTSTAMP:20260422T070047
CREATED:20250507T014936Z
LAST-MODIFIED:20250510T033313Z
UID:10004597-1746774000-1746831600@www.lasalle.edu
SUMMARY:Commencement
DESCRIPTION:Commencement
URL:https://www.lasalle.edu/event/commencement-16/
LOCATION:La Salle Union Music Room
CATEGORIES:University Celebrations
END:VEVENT
BEGIN:VEVENT
DTSTART;TZID=America/New_York:20250508T070000
DTEND;TZID=America/New_York:20250508T230000
DTSTAMP:20260422T070047
CREATED:20250503T043836Z
LAST-MODIFIED:20250509T023751Z
UID:10004596-1746687600-1746745200@www.lasalle.edu
SUMMARY:Commencement
DESCRIPTION:Commencement
URL:https://www.lasalle.edu/event/commencement-15/
LOCATION:La Salle Union Music Room
CATEGORIES:University Celebrations
END:VEVENT
BEGIN:VEVENT
DTSTART;TZID=America/New_York:20250507T070000
DTEND;TZID=America/New_York:20250507T230000
DTSTAMP:20260422T070047
CREATED:20250501T185506Z
LAST-MODIFIED:20250508T023934Z
UID:10004586-1746601200-1746658800@www.lasalle.edu
SUMMARY:Commencement
DESCRIPTION:Commencement
URL:https://www.lasalle.edu/event/commencement-6/
LOCATION:La Salle Union Music Room
CATEGORIES:University Celebrations
END:VEVENT
BEGIN:VEVENT
DTSTART;TZID=America/New_York:20250418T130000
DTEND;TZID=America/New_York:20250418T143000
DTSTAMP:20260422T070047
CREATED:20250414T214032Z
LAST-MODIFIED:20250418T164236Z
UID:10004527-1744981200-1744986600@www.lasalle.edu
SUMMARY:Student Engagement Council
DESCRIPTION:Student Engagement Council
URL:https://www.lasalle.edu/event/student-engagement-council-34/
LOCATION:La Salle Union Music Room
CATEGORIES:Leadership Development
END:VEVENT
BEGIN:VEVENT
DTSTART;TZID=America/New_York:20250416T173000
DTEND;TZID=America/New_York:20250416T193000
DTSTAMP:20260422T070047
CREATED:20250414T163001Z
LAST-MODIFIED:20250416T223752Z
UID:10004522-1744824600-1744831800@www.lasalle.edu
SUMMARY:Seder Meal
DESCRIPTION:Seder Meal
URL:https://www.lasalle.edu/event/seder-meal/
LOCATION:La Salle Union Music Room
CATEGORIES:Multicultural/Diversity
END:VEVENT
BEGIN:VEVENT
DTSTART;TZID=America/New_York:20250414T153000
DTEND;TZID=America/New_York:20250414T173000
DTSTAMP:20260422T070047
CREATED:20250412T004014Z
LAST-MODIFIED:20250414T204211Z
UID:10004509-1744644600-1744651800@www.lasalle.edu
SUMMARY:Resume Bingo
DESCRIPTION:🎉 Resume Bingo: Play\, Learn\, and Level Up Your Resume! 🎉   🔎 Want to make your resume stand out? Not sure how to email a professor or potential employer? Join us for Resume Bingo\, where we’ll break down the essentials of a great resume—while playing a game!   📅 Date:   📍 Location:   ⏰ Time:    🎯 What you’ll gain:  ✅ Resume must-haves (and what to avoid!)  ✅ Pro tips for emailing staff\, faculty\, and employers  ✅ Fun\, prizes\, and the chance to improve your job-seeking skills   ✨ Bring your friends\, your competitive spirit\, and get ready to win while you learn!
URL:https://www.lasalle.edu/event/resume-bingo/
LOCATION:La Salle Union Music Room
CATEGORIES:Job/Career
END:VEVENT
BEGIN:VEVENT
DTSTART;TZID=America/New_York:20250412T070000
DTEND;TZID=America/New_York:20250412T170000
DTSTAMP:20260422T070047
CREATED:20250411T103750Z
LAST-MODIFIED:20250412T204809Z
UID:10004500-1744441200-1744477200@www.lasalle.edu
SUMMARY:Blue and Gold 2
DESCRIPTION:Blue and Gold 2
URL:https://www.lasalle.edu/event/blue-and-gold-2-6/
LOCATION:La Salle Union Music Room
CATEGORIES:Admissions
END:VEVENT
BEGIN:VEVENT
DTSTART;TZID=America/New_York:20250411T090000
DTEND;TZID=America/New_York:20250411T170000
DTSTAMP:20260422T070047
CREATED:20250408T203630Z
LAST-MODIFIED:20250411T204245Z
UID:10004485-1744362000-1744390800@www.lasalle.edu
SUMMARY:SET UP DAY: Blue and Gold 2
DESCRIPTION:SET UP DAY: Blue and Gold 2
URL:https://www.lasalle.edu/event/set-up-day-blue-and-gold-2-5/
LOCATION:La Salle Union Music Room
CATEGORIES:Admissions
END:VEVENT
BEGIN:VEVENT
DTSTART;TZID=America/New_York:20250405T070000
DTEND;TZID=America/New_York:20250405T170000
DTSTAMP:20260422T070047
CREATED:20250403T194007Z
LAST-MODIFIED:20250405T204427Z
UID:10004448-1743836400-1743872400@www.lasalle.edu
SUMMARY:Blue and Gold 1
DESCRIPTION:Blue and Gold 1
URL:https://www.lasalle.edu/event/blue-and-gold-1-5/
LOCATION:La Salle Union Music Room
CATEGORIES:Admissions
END:VEVENT
BEGIN:VEVENT
DTSTART;TZID=America/New_York:20250404T090000
DTEND;TZID=America/New_York:20250404T170000
DTSTAMP:20260422T070047
CREATED:20250309T105457Z
LAST-MODIFIED:20250404T213927Z
UID:10004417-1743757200-1743786000@www.lasalle.edu
SUMMARY:SET UP DAY: Blue and Gold 1
DESCRIPTION:SET UP DAY: Blue and Gold 1
URL:https://www.lasalle.edu/event/set-up-day-blue-and-gold-1-4/
LOCATION:La Salle Union Music Room
CATEGORIES:Admissions
END:VEVENT
BEGIN:VEVENT
DTSTART;TZID=America/New_York:20250401T120000
DTEND;TZID=America/New_York:20250401T140000
DTSTAMP:20260422T070047
CREATED:20250309T095025Z
LAST-MODIFIED:20250331T193718Z
UID:10004404-1743508800-1743516000@www.lasalle.edu
SUMMARY:Wellness Fair
DESCRIPTION:Wellness Fair
URL:https://www.lasalle.edu/event/wellness-fair-4/
LOCATION:La Salle Union Music Room
CATEGORIES:Wellness/Recreation
END:VEVENT
BEGIN:VEVENT
DTSTART;TZID=America/New_York:20250327T070000
DTEND;TZID=America/New_York:20250327T170000
DTSTAMP:20260422T070047
CREATED:20250309T091301Z
LAST-MODIFIED:20250327T204658Z
UID:10004383-1743058800-1743094800@www.lasalle.edu
SUMMARY:Explorer for a Day 3
DESCRIPTION:Explorer for a Day 3
URL:https://www.lasalle.edu/event/explorer-for-a-day-3/
LOCATION:La Salle Union Music Room
CATEGORIES:Admissions
END:VEVENT
BEGIN:VEVENT
DTSTART;TZID=America/New_York:20250326T143000
DTEND;TZID=America/New_York:20250326T153000
DTSTAMP:20260422T070047
CREATED:20250325T014757Z
LAST-MODIFIED:20250326T183658Z
UID:10004433-1742999400-1743003000@www.lasalle.edu
SUMMARY:Advancement meeting
DESCRIPTION:Advancement meeting
URL:https://www.lasalle.edu/event/advancement-meeting-2/
LOCATION:La Salle Union Music Room
CATEGORIES:Meeting - General
END:VEVENT
BEGIN:VEVENT
DTSTART;TZID=America/New_York:20250326T080000
DTEND;TZID=America/New_York:20250326T100000
DTSTAMP:20260422T070047
CREATED:20250325T014755Z
LAST-MODIFIED:20250326T133438Z
UID:10004432-1742976000-1742983200@www.lasalle.edu
SUMMARY:Advancement meeting
DESCRIPTION:Advancement meeting
URL:https://www.lasalle.edu/event/advancement-meeting/
LOCATION:La Salle Union Music Room
CATEGORIES:Meeting - General
END:VEVENT
BEGIN:VEVENT
DTSTART;TZID=America/New_York:20250319T173000
DTEND;TZID=America/New_York:20250319T200000
DTSTAMP:20260422T070047
CREATED:20250309T074940Z
LAST-MODIFIED:20250320T003240Z
UID:10004360-1742405400-1742414400@www.lasalle.edu
SUMMARY:EDM Rehearsal
DESCRIPTION:EDM Rehearsal
URL:https://www.lasalle.edu/event/edm-rehearsal-2/
LOCATION:La Salle Union Music Room
CATEGORIES:Leadership Development
END:VEVENT
BEGIN:VEVENT
DTSTART;TZID=America/New_York:20250306T140000
DTEND;TZID=America/New_York:20250306T153000
DTSTAMP:20260422T070047
CREATED:20250301T143008Z
LAST-MODIFIED:20250306T193907Z
UID:10004316-1741269600-1741275000@www.lasalle.edu
SUMMARY:Art and Activism
DESCRIPTION:I can send later
URL:https://www.lasalle.edu/event/art-and-activism/
LOCATION:La Salle Union Music Room
CATEGORIES:Lectures/Speakers
END:VEVENT
BEGIN:VEVENT
DTSTART;TZID=America/New_York:20250303T153000
DTEND;TZID=America/New_York:20250303T170000
DTSTAMP:20260422T070047
CREATED:20250221T124850Z
LAST-MODIFIED:20250303T213852Z
UID:10004288-1741015800-1741021200@www.lasalle.edu
SUMMARY:Brotherly Love & Direct Action
DESCRIPTION:Gabe Christy of the podcast Labor Jawn will give a talk on Philadelphia’s working-class radicals 1688-1835
URL:https://www.lasalle.edu/event/brotherly-love-direct-action/
LOCATION:La Salle Union Music Room
CATEGORIES:Lectures/Speakers
END:VEVENT
BEGIN:VEVENT
DTSTART;TZID=America/New_York:20250227T170000
DTEND;TZID=America/New_York:20250227T193000
DTSTAMP:20260422T070047
CREATED:20250225T223540Z
LAST-MODIFIED:20250227T235207Z
UID:10004303-1740675600-1740684600@www.lasalle.edu
SUMMARY:Zeta Phi Beta - Movie
DESCRIPTION:Zeta Phi Beta – Movie
URL:https://www.lasalle.edu/event/zeta-phi-beta-movie/
LOCATION:La Salle Union Music Room
CATEGORIES:Leadership Development
END:VEVENT
BEGIN:VEVENT
DTSTART;TZID=America/New_York:20250225T173000
DTEND;TZID=America/New_York:20250225T200000
DTSTAMP:20260422T070047
CREATED:20250220T084035Z
LAST-MODIFIED:20250226T004345Z
UID:10004267-1740504600-1740513600@www.lasalle.edu
SUMMARY:EDM Rehearsal
DESCRIPTION:EDM Rehearsal
URL:https://www.lasalle.edu/event/edm-rehearsal/
LOCATION:La Salle Union Music Room
CATEGORIES:Leadership Development
END:VEVENT
BEGIN:VEVENT
DTSTART;TZID=America/New_York:20250225T070000
DTEND;TZID=America/New_York:20250225T170000
DTSTAMP:20260422T070047
CREATED:20250220T084034Z
LAST-MODIFIED:20250225T215009Z
UID:10004266-1740466800-1740502800@www.lasalle.edu
SUMMARY:Explorer for a Day 2
DESCRIPTION:Explorer for a Day 2
URL:https://www.lasalle.edu/event/explorer-for-a-day-2-3/
LOCATION:La Salle Union Music Room
CATEGORIES:Admissions
END:VEVENT
BEGIN:VEVENT
DTSTART;TZID=America/New_York:20250222T200000
DTEND;TZID=America/New_York:20250222T220000
DTSTAMP:20260422T070047
CREATED:20250218T224510Z
LAST-MODIFIED:20250223T014841Z
UID:10004253-1740254400-1740261600@www.lasalle.edu
SUMMARY:Late Night La Salle - Art Show
DESCRIPTION:Late Night La Salle – Escape Room
URL:https://www.lasalle.edu/event/late-night-la-salle-art-show-2/
LOCATION:La Salle Union Music Room
CATEGORIES:Entertainment
END:VEVENT
BEGIN:VEVENT
DTSTART;TZID=America/New_York:20250220T123000
DTEND;TZID=America/New_York:20250220T140000
DTSTAMP:20260422T070047
CREATED:20250218T004135Z
LAST-MODIFIED:20250219T194945Z
UID:10004252-1740054600-1740060000@www.lasalle.edu
SUMMARY:FYE Event
DESCRIPTION:FYE
URL:https://www.lasalle.edu/event/fye-event/
LOCATION:La Salle Union Music Room
CATEGORIES:Leadership Development
END:VEVENT
BEGIN:VEVENT
DTSTART;TZID=America/New_York:20250219T113000
DTEND;TZID=America/New_York:20250219T140000
DTSTAMP:20260422T070047
CREATED:20250213T024921Z
LAST-MODIFIED:20250217T214208Z
UID:10004235-1739964600-1739973600@www.lasalle.edu
SUMMARY:PSAC Applicants/President Allen-Pizza Lunch
DESCRIPTION:PSAC Applicants/President Allen-Pizza Lunch
URL:https://www.lasalle.edu/event/psac-applicants-president-allen-pizza-lunch/
LOCATION:La Salle Union Music Room
CATEGORIES:Meeting - General
END:VEVENT
BEGIN:VEVENT
DTSTART;TZID=America/New_York:20250217T070000
DTEND;TZID=America/New_York:20250217T170000
DTSTAMP:20260422T070047
CREATED:20250204T134843Z
LAST-MODIFIED:20250217T214444Z
UID:10004192-1739775600-1739811600@www.lasalle.edu
SUMMARY:Explorer for a Day 1
DESCRIPTION:Explorer for a Day 1
URL:https://www.lasalle.edu/event/explorer-for-a-day-1/
LOCATION:La Salle Union Music Room
CATEGORIES:Admissions
END:VEVENT
BEGIN:VEVENT
DTSTART;TZID=America/New_York:20250211T113000
DTEND;TZID=America/New_York:20250211T133000
DTSTAMP:20260422T070047
CREATED:20250206T003347Z
LAST-MODIFIED:20250210T144813Z
UID:10004207-1739273400-1739280600@www.lasalle.edu
SUMMARY:PSAC Transition Lunch Meeting
DESCRIPTION:PSAC Transition Lunch Meeting
URL:https://www.lasalle.edu/event/psac-transition-lunch-meeting/
LOCATION:La Salle Union Music Room
CATEGORIES:Meeting - General
END:VEVENT
BEGIN:VEVENT
DTSTART;TZID=America/New_York:20250208T190000
DTEND;TZID=America/New_York:20250208T220000
DTSTAMP:20260422T070047
CREATED:20250202T104945Z
LAST-MODIFIED:20250209T023342Z
UID:10004157-1739041200-1739052000@www.lasalle.edu
SUMMARY:LNL - Student Art Show & Fashion Show
DESCRIPTION:LNL – Student Art Show & Fashion Show
URL:https://www.lasalle.edu/event/lnl-student-art-show-fashion-show/
LOCATION:La Salle Union Music Room
CATEGORIES:Entertainment
END:VEVENT
BEGIN:VEVENT
DTSTART;TZID=America/New_York:20250130T160000
DTEND;TZID=America/New_York:20250130T180000
DTSTAMP:20260422T070047
CREATED:20250124T113142Z
LAST-MODIFIED:20250130T224029Z
UID:10004093-1738252800-1738260000@www.lasalle.edu
SUMMARY:OLAS event
DESCRIPTION:OLAS Welcome Event
URL:https://www.lasalle.edu/event/olas-event/
LOCATION:La Salle Union Music Room
CATEGORIES:Multicultural/Diversity
END:VEVENT
BEGIN:VEVENT
DTSTART;TZID=America/New_York:20250130T104500
DTEND;TZID=America/New_York:20250130T121500
DTSTAMP:20260422T070047
CREATED:20250121T234439Z
LAST-MODIFIED:20250130T164225Z
UID:10004083-1738233900-1738239300@www.lasalle.edu
SUMMARY:Admissions Group Tour
DESCRIPTION:Admissions Group Tour
URL:https://www.lasalle.edu/event/admissions-group-tour-10/
LOCATION:La Salle Union Music Room
CATEGORIES:Admissions
END:VEVENT
END:VCALENDAR