BEGIN:VCALENDAR
VERSION:2.0
PRODID:-//La Salle University - ECPv6.15.20//NONSGML v1.0//EN
CALSCALE:GREGORIAN
METHOD:PUBLISH
X-ORIGINAL-URL:https://www.lasalle.edu
X-WR-CALDESC:Events for La Salle University
REFRESH-INTERVAL;VALUE=DURATION:PT1H
X-Robots-Tag:noindex
X-PUBLISHED-TTL:PT1H
BEGIN:VTIMEZONE
TZID:America/New_York
BEGIN:DAYLIGHT
TZOFFSETFROM:-0500
TZOFFSETTO:-0400
TZNAME:EDT
DTSTART:20220313T070000
END:DAYLIGHT
BEGIN:STANDARD
TZOFFSETFROM:-0400
TZOFFSETTO:-0500
TZNAME:EST
DTSTART:20221106T060000
END:STANDARD
BEGIN:DAYLIGHT
TZOFFSETFROM:-0500
TZOFFSETTO:-0400
TZNAME:EDT
DTSTART:20230312T070000
END:DAYLIGHT
BEGIN:STANDARD
TZOFFSETFROM:-0400
TZOFFSETTO:-0500
TZNAME:EST
DTSTART:20231105T060000
END:STANDARD
BEGIN:DAYLIGHT
TZOFFSETFROM:-0500
TZOFFSETTO:-0400
TZNAME:EDT
DTSTART:20240310T070000
END:DAYLIGHT
BEGIN:STANDARD
TZOFFSETFROM:-0400
TZOFFSETTO:-0500
TZNAME:EST
DTSTART:20241103T060000
END:STANDARD
BEGIN:DAYLIGHT
TZOFFSETFROM:-0500
TZOFFSETTO:-0400
TZNAME:EDT
DTSTART:20250309T070000
END:DAYLIGHT
BEGIN:STANDARD
TZOFFSETFROM:-0400
TZOFFSETTO:-0500
TZNAME:EST
DTSTART:20251102T060000
END:STANDARD
END:VTIMEZONE
BEGIN:VEVENT
DTSTART;TZID=America/New_York:20241011T130000
DTEND;TZID=America/New_York:20241011T143000
DTSTAMP:20260423T043303
CREATED:20241006T004552Z
LAST-MODIFIED:20241011T173959Z
UID:10003529-1728651600-1728657000@www.lasalle.edu
SUMMARY:Student Engagement Council
DESCRIPTION:Student Engagement Council
URL:https://www.lasalle.edu/event/student-engagement-council-7/
LOCATION:La Salle Union Music Room
CATEGORIES:Leadership Development
END:VEVENT
BEGIN:VEVENT
DTSTART;TZID=America/New_York:20240919T163000
DTEND;TZID=America/New_York:20240919T180000
DTSTAMP:20260423T043303
CREATED:20240917T194445Z
LAST-MODIFIED:20240919T213831Z
UID:10003399-1726763400-1726768800@www.lasalle.edu
SUMMARY:Education Open House
DESCRIPTION:Education Department Open House
URL:https://www.lasalle.edu/event/education-open-house/
LOCATION:La Salle Union Music Room
CATEGORIES:Leadership Development
END:VEVENT
BEGIN:VEVENT
DTSTART;TZID=America/New_York:20240916T170000
DTEND;TZID=America/New_York:20240916T180000
DTSTAMP:20260423T043303
CREATED:20240912T203729Z
LAST-MODIFIED:20240916T214420Z
UID:10003374-1726506000-1726509600@www.lasalle.edu
SUMMARY:AASL General Body Meeting
DESCRIPTION:AASL General Body Meeting
URL:https://www.lasalle.edu/event/aasl-general-body-meeting/
LOCATION:La Salle Union Music Room
CATEGORIES:Leadership Development
END:VEVENT
BEGIN:VEVENT
DTSTART;TZID=America/New_York:20240912T190000
DTEND;TZID=America/New_York:20240912T210000
DTSTAMP:20260423T043303
CREATED:20240911T124121Z
LAST-MODIFIED:20240913T004645Z
UID:10003361-1726167600-1726174800@www.lasalle.edu
SUMMARY:Democracy Matters Meeting
DESCRIPTION:Democracy Matters Meeting
URL:https://www.lasalle.edu/event/democracy-matters-meeting/
LOCATION:La Salle Union Music Room
CATEGORIES:Leadership Development
END:VEVENT
BEGIN:VEVENT
DTSTART;TZID=America/New_York:20240911T100000
DTEND;TZID=America/New_York:20240911T140000
DTSTAMP:20260423T043303
CREATED:20240907T134243Z
LAST-MODIFIED:20240911T174454Z
UID:10003339-1726048800-1726063200@www.lasalle.edu
SUMMARY:Employee Benefits Fair
DESCRIPTION:Employee Benefits Fair
URL:https://www.lasalle.edu/event/employee-benefits-fair-3/
LOCATION:La Salle Union Music Room
CATEGORIES:Meeting - General
END:VEVENT
BEGIN:VEVENT
DTSTART;TZID=America/New_York:20240904T153000
DTEND;TZID=America/New_York:20240904T170000
DTSTAMP:20260423T043303
CREATED:20240901T034259Z
LAST-MODIFIED:20240904T204751Z
UID:10003310-1725463800-1725469200@www.lasalle.edu
SUMMARY:Student-Athlete Title IX/AOD
DESCRIPTION:Student-Athlete Title IX/AOD
URL:https://www.lasalle.edu/event/student-athlete-title-ix-aod/
LOCATION:La Salle Union Music Room
CATEGORIES:Meeting - General
END:VEVENT
BEGIN:VEVENT
DTSTART;TZID=America/New_York:20240730T183000
DTEND;TZID=America/New_York:20240730T200000
DTSTAMP:20260423T043303
CREATED:20240603T224300Z
LAST-MODIFIED:20240730T234815Z
UID:10002950-1722364200-1722369600@www.lasalle.edu
SUMMARY:LEAP 30 Credit Club Event
DESCRIPTION:LEAP 30 Credit Club Event
URL:https://www.lasalle.edu/event/leap-30-credit-club-event/
LOCATION:La Salle Union Music Room
CATEGORIES:Leadership Development
END:VEVENT
BEGIN:VEVENT
DTSTART;TZID=America/New_York:20240508T170000
DTEND;TZID=America/New_York:20240508T200000
DTSTAMP:20260423T043303
CREATED:20240504T013546Z
LAST-MODIFIED:20240508T233556Z
UID:10002917-1715187600-1715198400@www.lasalle.edu
SUMMARY:Rowing Banquet
DESCRIPTION:Rowing Banquet
URL:https://www.lasalle.edu/event/rowing-banquet/
LOCATION:La Salle Union Music Room
CATEGORIES:Athletic Competition
END:VEVENT
BEGIN:VEVENT
DTSTART;TZID=America/New_York:20240502T170000
DTEND;TZID=America/New_York:20240502T210000
DTSTAMP:20260423T043303
CREATED:20231102T214928Z
LAST-MODIFIED:20240503T004810Z
UID:10001968-1714669200-1714683600@www.lasalle.edu
SUMMARY:Accounting Awards
DESCRIPTION:Accounting Awards
URL:https://www.lasalle.edu/event/accounting-awards-2/
LOCATION:La Salle Union Music Room
CATEGORIES:Leadership Development
END:VEVENT
BEGIN:VEVENT
DTSTART;TZID=America/New_York:20240418T190000
DTEND;TZID=America/New_York:20240418T220000
DTSTAMP:20260423T043303
CREATED:20240418T083157Z
LAST-MODIFIED:20240419T013852Z
UID:10002843-1713466800-1713477600@www.lasalle.edu
SUMMARY:RSA Movie and Beer Night
DESCRIPTION:RSA Movie and Beer Night
URL:https://www.lasalle.edu/event/rsa-movie-and-beer-night/
LOCATION:La Salle Union Music Room
CATEGORIES:Leadership Development
END:VEVENT
BEGIN:VEVENT
DTSTART;TZID=America/New_York:20240418T160000
DTEND;TZID=America/New_York:20240418T183000
DTSTAMP:20260423T043303
CREATED:20240418T014936Z
LAST-MODIFIED:20240418T213633Z
UID:10002839-1713456000-1713465000@www.lasalle.edu
SUMMARY:Tri Alpha Induction Ceremony
DESCRIPTION:Tri Alpha Induction Ceremony
URL:https://www.lasalle.edu/event/tri-alpha-induction-ceremony/
LOCATION:La Salle Union Music Room
CATEGORIES:Leadership Development
END:VEVENT
BEGIN:VEVENT
DTSTART;TZID=America/New_York:20240411T123000
DTEND;TZID=America/New_York:20240411T140000
DTSTAMP:20260423T043303
CREATED:20240408T234903Z
LAST-MODIFIED:20240411T173433Z
UID:10002798-1712838600-1712844000@www.lasalle.edu
SUMMARY:Basic Needs Closet
DESCRIPTION:Explorers care\, ESA\, Phi Mu\, Gamma Phi Beta\, and Alpha Theta Alpha are hosting a clothing\, basic needs\, and other item drive that will allow us to create a basic needs closet.
URL:https://www.lasalle.edu/event/basic-needs-closet-2/
LOCATION:La Salle Union Music Room
CATEGORIES:Leadership Development
END:VEVENT
BEGIN:VEVENT
DTSTART;TZID=America/New_York:20240409T123000
DTEND;TZID=America/New_York:20240409T140000
DTSTAMP:20260423T043303
CREATED:20240405T124531Z
LAST-MODIFIED:20240409T173449Z
UID:10002791-1712665800-1712671200@www.lasalle.edu
SUMMARY:Basic Needs Closet
DESCRIPTION:Explorers care\, ESA\, Phi Mu\, Gamma Phi Beta\, and Alpha Theta Alpha are hosting a clothing\, basic needs\, and other item drive that will allow us to create a basic needs closet.
URL:https://www.lasalle.edu/event/basic-needs-closet/
LOCATION:La Salle Union Music Room
CATEGORIES:Leadership Development
END:VEVENT
BEGIN:VEVENT
DTSTART;TZID=America/New_York:20240404T123000
DTEND;TZID=America/New_York:20240404T140000
DTSTAMP:20260423T043303
CREATED:20240401T105449Z
LAST-MODIFIED:20240404T173623Z
UID:10002776-1712233800-1712239200@www.lasalle.edu
SUMMARY:Majors Fair
DESCRIPTION:Majors Fair
URL:https://www.lasalle.edu/event/majors-fair-2/
LOCATION:La Salle Union Music Room
CATEGORIES:Leadership Development
END:VEVENT
BEGIN:VEVENT
DTSTART;TZID=America/New_York:20240326T093000
DTEND;TZID=America/New_York:20240326T153000
DTSTAMP:20260423T043303
CREATED:20231115T073835Z
LAST-MODIFIED:20240326T183839Z
UID:10001995-1711445400-1711467000@www.lasalle.edu
SUMMARY:Wellness Fair
DESCRIPTION:We all deserve to be well and promote wellness for one another. The Wellness Fair features activities\, games\, food\, and prizes focused on our La Salle 8 Points of Wellness:  Physical\, Emotional\, Social\, Spiritual\, Intellectual\, Occupational\, Financial\, and Environmental wellbeing. The Wellness Fair will be held on Tuesday\, March 26th between 11 a.m. and 2 p.m. in the Union Ballroom and Music Room.  Invest in your wellbeing and join us for the Third Annual La Salle Wellness Fair!
URL:https://www.lasalle.edu/event/wellness-fair-2/
LOCATION:La Salle Union Music Room
CATEGORIES:Wellness/Recreation
END:VEVENT
BEGIN:VEVENT
DTSTART;TZID=America/New_York:20240321T173000
DTEND;TZID=America/New_York:20240321T193000
DTSTAMP:20260423T043303
CREATED:20240310T083824Z
LAST-MODIFIED:20240321T224816Z
UID:10002722-1711042200-1711049400@www.lasalle.edu
SUMMARY:Bob Ross Paint Night
DESCRIPTION:Enjoy snacks and a painting tutorial with Bob Rossi.
URL:https://www.lasalle.edu/event/bob-ross-paint-night/
LOCATION:La Salle Union Music Room
CATEGORIES:Entertainment
END:VEVENT
BEGIN:VEVENT
DTSTART;TZID=America/New_York:20240307T123000
DTEND;TZID=America/New_York:20240307T140000
DTSTAMP:20260423T043303
CREATED:20240304T173919Z
LAST-MODIFIED:20240304T173954Z
UID:10002703-1709814600-1709820000@www.lasalle.edu
SUMMARY:Sacred Writing Series: “Writing” the Face of God?
DESCRIPTION:Father Silouan Justiniano\, MFAMonastery of St. Dionysios the Areopagite (ROCOR)\, St. James\, N.Y \n\n\n\nOriginally from Puerto Rico\, Fr. Silouan Justiniano is a priest-monk\, icon painter\, and writer. He obtained a BFA from the School of Visual Arts (N.Y.) and an MFA in painting from Hunter College of the City University of New York. \n\n\n\nFr. Silouan’s formative years as a painter began with graffiti. He has also experimented with various styles of figuration and abstraction. He transitioned from contemporary art to icon painting once he embarked on the monastic life. His icons entail the synthesis of multiple styles\, both within and outside the confines of the Byzantine tradition\, including a dialogical approach towards modern painting.  \n\n\n\nFr. Silouan’s articles have appeared in various publications in the US and abroad\, including Analogia\, Zhivopis\, The Gifts Almanac\, Sacred Web: A Journal of Tradition and Modernity\, and Luvah: Journal of the Creative Imagination. He is also an editor and contributor to the Orthodox Arts Journal. He has received grants and awards from the Catholic Art Institute and the Joan Mitchell Foundation.  \n\n\n\nEach event in the Sacred Writing Series is free and open to the public.
URL:https://www.lasalle.edu/event/sacred-writing-series-writing-the-face-of-god/
LOCATION:La Salle Union Music Room
ATTACH;FMTTYPE=image/png:https://www.lasalle.edu/wp-content/uploads/2024/03/Untitled-3-2.png
END:VEVENT
BEGIN:VEVENT
DTSTART;TZID=America/New_York:20240226T160000
DTEND;TZID=America/New_York:20240226T174500
DTSTAMP:20260423T043303
CREATED:20240221T221729Z
LAST-MODIFIED:20240226T224305Z
UID:10002649-1708963200-1708969500@www.lasalle.edu
SUMMARY:Black Town Hall Sponsored by SGA and AASL
DESCRIPTION:Black Town Hall Feb. 26 at 4:30 p.m. Union Music Room  Hosted by AASL and the Student Government Association\, students will attend a town hall with President Daniel J. Allen\, Ph.D.\, Vice President of Student Development and Campus Life Gabrielle St. Léger\, Ed.D.\, and Dean of Students TiRease Holmes.
URL:https://www.lasalle.edu/event/black-town-hall-sponsored-by-sga-and-aasl/
LOCATION:La Salle Union Music Room
CATEGORIES:Multicultural/Diversity
END:VEVENT
BEGIN:VEVENT
DTSTART;TZID=America/New_York:20240221T150000
DTEND;TZID=America/New_York:20240221T170000
DTSTAMP:20260423T043303
CREATED:20231219T212359Z
LAST-MODIFIED:20240214T074742Z
UID:10002075-1708527600-1708534800@www.lasalle.edu
SUMMARY:Dr. Frederick Engram Fireside chat on Black Liberation for Black History month
DESCRIPTION:Details coming
URL:https://www.lasalle.edu/event/dr-frederick-engram-fireside-chat-on-black-liberation-for-black-history-month/
LOCATION:La Salle Union Music Room
CATEGORIES:Lectures/Speakers
END:VEVENT
BEGIN:VEVENT
DTSTART;TZID=America/New_York:20240213T163000
DTEND;TZID=America/New_York:20240213T183000
DTSTAMP:20260423T043303
CREATED:20240121T184046Z
LAST-MODIFIED:20240211T054130Z
UID:10002516-1707841800-1707849000@www.lasalle.edu
SUMMARY:Reflect Round Table 1
DESCRIPTION:Come join us for Reflect’s first Round Table of the spring semester! Never been to a Round Table before? That’s totally okay–We love having new members. Come join us in a safe place with great people to talk about mental health to create a more welcoming and inclusive campus community!
URL:https://www.lasalle.edu/event/reflect-round-table-1-2/
LOCATION:La Salle Union Music Room
CATEGORIES:Academic-DAY,Wellness/Recreation
END:VEVENT
BEGIN:VEVENT
DTSTART;TZID=America/New_York:20231109T120000
DTEND;TZID=America/New_York:20231109T140000
DTSTAMP:20260423T043303
CREATED:20231023T174449Z
LAST-MODIFIED:20231111T034407Z
UID:10001867-1699531200-1699538400@www.lasalle.edu
SUMMARY:Honored to be Honored:  Tri Alpha  Interest Meeting
DESCRIPTION:First Gen Day
URL:https://www.lasalle.edu/event/ohonored-to-be-honored-tri-alpha-interest-meeting/
LOCATION:La Salle Union Music Room
CATEGORIES:Leadership Development
END:VEVENT
BEGIN:VEVENT
DTSTART;TZID=America/New_York:20231106T120000
DTEND;TZID=America/New_York:20231106T140000
DTSTAMP:20260423T043303
CREATED:20231023T174445Z
LAST-MODIFIED:20231111T034402Z
UID:10001865-1699272000-1699279200@www.lasalle.edu
SUMMARY:The Time Benders: Controlling time\, Taking Controlling your Life
DESCRIPTION:The Time Benders: Controlling time\, Taking Controlling your Life
URL:https://www.lasalle.edu/event/the-time-benders-controlling-time-taking-controlling-your-life/
LOCATION:La Salle Union Music Room
CATEGORIES:Leadership Development
END:VEVENT
BEGIN:VEVENT
DTSTART;TZID=America/New_York:20231103T090000
DTEND;TZID=America/New_York:20231103T120000
DTSTAMP:20260423T043303
CREATED:20231014T143940Z
LAST-MODIFIED:20231102T214756Z
UID:10001793-1699002000-1699012800@www.lasalle.edu
SUMMARY:ADP Info Session for School Counselors
DESCRIPTION:Academic Discovery Program (ADP) Information Sessions for School District of Philadelphia Counselors  Dates: 10/17\, 10/20\, 10/24\, 10/26\, 10/31\, 11/3  Time: 10:00am -11:30am Location: Union Music Room
URL:https://www.lasalle.edu/event/adp-info-session-for-school-counselors-4/
LOCATION:La Salle Union Music Room
CATEGORIES:Meeting - General
END:VEVENT
BEGIN:VEVENT
DTSTART;TZID=America/New_York:20231031T090000
DTEND;TZID=America/New_York:20231031T120000
DTSTAMP:20260423T043303
CREATED:20231014T143938Z
LAST-MODIFIED:20231025T174538Z
UID:10001789-1698742800-1698753600@www.lasalle.edu
SUMMARY:ADP Info Session for School Counselors
DESCRIPTION:Academic Discovery Program (ADP) Information Sessions for School District of Philadelphia Counselors  Dates: 10/17\, 10/20\, 10/24\, 10/26\, 10/31\, 11/3  Time: 10:00am -11:30am Location: Union Music Room
URL:https://www.lasalle.edu/event/adp-info-session-for-school-counselors-3/
LOCATION:La Salle Union Music Room
CATEGORIES:Meeting - General
END:VEVENT
BEGIN:VEVENT
DTSTART;TZID=America/New_York:20231027T090000
DTEND;TZID=America/New_York:20231027T120000
DTSTAMP:20260423T043303
CREATED:20231014T143936Z
LAST-MODIFIED:20231025T174536Z
UID:10001787-1698397200-1698408000@www.lasalle.edu
SUMMARY:ADP Info Session for School Counselors
DESCRIPTION:Academic Discovery Program (ADP) Information Sessions for School District of Philadelphia Counselors  Dates: 10/17\, 10/20\, 10/24\, 10/26\, 10/31\, 11/3  Time: 10:00am -11:30am Location: Union Music Room
URL:https://www.lasalle.edu/event/adp-info-session-for-school-counselors-2/
LOCATION:La Salle Union Music Room
CATEGORIES:Meeting - General
END:VEVENT
BEGIN:VEVENT
DTSTART;TZID=America/New_York:20231024T090000
DTEND;TZID=America/New_York:20231024T120000
DTSTAMP:20260423T043303
CREATED:20231014T143932Z
LAST-MODIFIED:20231023T174436Z
UID:10001781-1698138000-1698148800@www.lasalle.edu
SUMMARY:ADP Info Session for School Counselors
DESCRIPTION:Academic Discovery Program (ADP) Information Sessions for School District of Philadelphia Counselors  Dates: 10/17\, 10/20\, 10/24\, 10/26\, 10/31\, 11/3  Time: 10:00am -11:30am Location: Union Music Room
URL:https://www.lasalle.edu/event/adp-info-session-for-school-counselors/
LOCATION:La Salle Union Music Room
CATEGORIES:Meeting - General
END:VEVENT
BEGIN:VEVENT
DTSTART;TZID=America/New_York:20230921T163000
DTEND;TZID=America/New_York:20230921T183000
DTSTAMP:20260423T043303
CREATED:20230816T153429Z
LAST-MODIFIED:20230912T202800Z
UID:10001678-1695313800-1695321000@www.lasalle.edu
SUMMARY:Welcome Back MIC reception
DESCRIPTION:Welcome Back MIC reception
URL:https://www.lasalle.edu/event/welcome-back-mic-reception/
LOCATION:La Salle Union Music Room
CATEGORIES:Multicultural/Diversity
END:VEVENT
BEGIN:VEVENT
DTSTART;TZID=America/New_York:20230824T140000
DTEND;TZID=America/New_York:20230824T153000
DTSTAMP:20260423T043303
CREATED:20230816T153425Z
LAST-MODIFIED:20230816T181203Z
UID:10001663-1692885600-1692891000@www.lasalle.edu
SUMMARY:President's Meet and Greet with Parents
DESCRIPTION:Presidents Meet and Greet with Parents
URL:https://www.lasalle.edu/event/presidents-meet-and-greet-with-parents/
LOCATION:La Salle Union Music Room
CATEGORIES:University Celebrations
END:VEVENT
END:VCALENDAR