BEGIN:VCALENDAR
VERSION:2.0
PRODID:-//La Salle University - ECPv6.15.20//NONSGML v1.0//EN
CALSCALE:GREGORIAN
METHOD:PUBLISH
X-ORIGINAL-URL:https://www.lasalle.edu
X-WR-CALDESC:Events for La Salle University
REFRESH-INTERVAL;VALUE=DURATION:PT1H
X-Robots-Tag:noindex
X-PUBLISHED-TTL:PT1H
BEGIN:VTIMEZONE
TZID:America/New_York
BEGIN:DAYLIGHT
TZOFFSETFROM:-0500
TZOFFSETTO:-0400
TZNAME:EDT
DTSTART:20230312T070000
END:DAYLIGHT
BEGIN:STANDARD
TZOFFSETFROM:-0400
TZOFFSETTO:-0500
TZNAME:EST
DTSTART:20231105T060000
END:STANDARD
BEGIN:DAYLIGHT
TZOFFSETFROM:-0500
TZOFFSETTO:-0400
TZNAME:EDT
DTSTART:20240310T070000
END:DAYLIGHT
BEGIN:STANDARD
TZOFFSETFROM:-0400
TZOFFSETTO:-0500
TZNAME:EST
DTSTART:20241103T060000
END:STANDARD
BEGIN:DAYLIGHT
TZOFFSETFROM:-0500
TZOFFSETTO:-0400
TZNAME:EDT
DTSTART:20250309T070000
END:DAYLIGHT
BEGIN:STANDARD
TZOFFSETFROM:-0400
TZOFFSETTO:-0500
TZNAME:EST
DTSTART:20251102T060000
END:STANDARD
END:VTIMEZONE
BEGIN:VEVENT
DTSTART;TZID=America/New_York:20240825T000000
DTEND;TZID=America/New_York:20240825T235959
DTSTAMP:20260421T050856
CREATED:20240822T211845Z
LAST-MODIFIED:20240822T211845Z
UID:10003087-1724544000-1724630399@www.lasalle.edu
SUMMARY:Summer II Online Courses End
DESCRIPTION:
URL:https://www.lasalle.edu/event/summer-ii-online-courses-end-4/
LOCATION:Online
CATEGORIES:Academic-DAY,Academic-EVE
END:VEVENT
BEGIN:VEVENT
DTSTART;TZID=America/New_York:20240825T000000
DTEND;TZID=America/New_York:20240825T235959
DTSTAMP:20260421T050856
CREATED:20240822T211844Z
LAST-MODIFIED:20240822T211844Z
UID:10003086-1724544000-1724630399@www.lasalle.edu
SUMMARY:RN-BSN/FNP/ANP ONLINE II Courses End
DESCRIPTION:
URL:https://www.lasalle.edu/event/rn-bsn-fnp-anp-online-ii-courses-end-10/
LOCATION:Online
CATEGORIES:Academic-EVE
END:VEVENT
BEGIN:VEVENT
DTSTART;TZID=America/New_York:20240825T000000
DTEND;TZID=America/New_York:20240825T235959
DTSTAMP:20260421T050856
CREATED:20240118T165937Z
LAST-MODIFIED:20240118T165937Z
UID:10002280-1724544000-1724630399@www.lasalle.edu
SUMMARY:RN-BSN/FNP/ANP ONLINE II Courses End
DESCRIPTION:
URL:https://www.lasalle.edu/event/rn-bsn-fnp-anp-online-ii-courses-end-7/
LOCATION:Online
CATEGORIES:Academic-EVE
END:VEVENT
BEGIN:VEVENT
DTSTART;TZID=America/New_York:20240821T000000
DTEND;TZID=America/New_York:20240821T235959
DTSTAMP:20260421T050856
CREATED:20240822T211832Z
LAST-MODIFIED:20240822T211832Z
UID:10003084-1724198400-1724284799@www.lasalle.edu
SUMMARY:MBA ONLINE I Last Day to Add a Course
DESCRIPTION:
URL:https://www.lasalle.edu/event/mba-online-i-last-day-to-add-a-course-12/
LOCATION:Online
CATEGORIES:Academic-GRAD
END:VEVENT
BEGIN:VEVENT
DTSTART;TZID=America/New_York:20240821T000000
DTEND;TZID=America/New_York:20240821T235959
DTSTAMP:20260421T050856
CREATED:20240822T211832Z
LAST-MODIFIED:20240822T211832Z
UID:10003085-1724198400-1724284799@www.lasalle.edu
SUMMARY:RN-BSN/FNP/ANP ONLINE I Last Day to Add a Course
DESCRIPTION:
URL:https://www.lasalle.edu/event/rn-bsn-fnp-anp-online-i-last-day-to-add-a-course-12/
LOCATION:Online
CATEGORIES:Academic-EVE
END:VEVENT
BEGIN:VEVENT
DTSTART;TZID=America/New_York:20240821T000000
DTEND;TZID=America/New_York:20240821T235959
DTSTAMP:20260421T050856
CREATED:20240118T165740Z
LAST-MODIFIED:20240118T165740Z
UID:10002279-1724198400-1724284799@www.lasalle.edu
SUMMARY:RN-BSN/FNP/ANP ONLINE I Last Day to Add a Course
DESCRIPTION:
URL:https://www.lasalle.edu/event/rn-bsn-fnp-anp-online-i-last-day-to-add-a-course-8/
LOCATION:Online
CATEGORIES:Academic-EVE
END:VEVENT
BEGIN:VEVENT
DTSTART;TZID=America/New_York:20240821T000000
DTEND;TZID=America/New_York:20240821T235959
DTSTAMP:20260421T050856
CREATED:20240118T165739Z
LAST-MODIFIED:20240118T165739Z
UID:10002278-1724198400-1724284799@www.lasalle.edu
SUMMARY:MBA ONLINE I Last Day to Add a Course
DESCRIPTION:
URL:https://www.lasalle.edu/event/mba-online-i-last-day-to-add-a-course-8/
LOCATION:Online
CATEGORIES:Academic-GRAD
END:VEVENT
BEGIN:VEVENT
DTSTART;TZID=America/New_York:20240813T000000
DTEND;TZID=America/New_York:20240813T235959
DTSTAMP:20260421T050856
CREATED:20240822T211801Z
LAST-MODIFIED:20240822T211801Z
UID:10003080-1723507200-1723593599@www.lasalle.edu
SUMMARY:12-Week Pre-SLH Online Grades Due
DESCRIPTION:
URL:https://www.lasalle.edu/event/12-week-pre-slh-online-grades-due-4/
LOCATION:Online
CATEGORIES:Academic-DAY,Academic-EVE
END:VEVENT
BEGIN:VEVENT
DTSTART;TZID=America/New_York:20240810T000000
DTEND;TZID=America/New_York:20240810T235959
DTSTAMP:20260421T050856
CREATED:20240822T211759Z
LAST-MODIFIED:20240822T211759Z
UID:10003078-1723248000-1723334399@www.lasalle.edu
SUMMARY:RN-BSN/FNP/ANP ONLINE II Last Day for Withdrawal
DESCRIPTION:
URL:https://www.lasalle.edu/event/rn-bsn-fnp-anp-online-ii-last-day-for-withdrawal-10/
LOCATION:Online
CATEGORIES:Academic-EVE
END:VEVENT
BEGIN:VEVENT
DTSTART;TZID=America/New_York:20240810T000000
DTEND;TZID=America/New_York:20240810T235959
DTSTAMP:20260421T050856
CREATED:20240118T165721Z
LAST-MODIFIED:20240118T165721Z
UID:10002272-1723248000-1723334399@www.lasalle.edu
SUMMARY:RN-BSN/FNP/ANP ONLINE II Last Day for Withdrawal
DESCRIPTION:
URL:https://www.lasalle.edu/event/rn-bsn-fnp-anp-online-ii-last-day-for-withdrawal-7/
LOCATION:Online
CATEGORIES:Academic-EVE
END:VEVENT
BEGIN:VEVENT
DTSTART;TZID=America/New_York:20240808T000000
DTEND;TZID=America/New_York:20240808T235959
DTSTAMP:20260421T050856
CREATED:20240822T211758Z
LAST-MODIFIED:20240822T211758Z
UID:10003077-1723075200-1723161599@www.lasalle.edu
SUMMARY:SWK Summer Semester Courses End
DESCRIPTION:
URL:https://www.lasalle.edu/event/swk-summer-semester-courses-end/
LOCATION:Online
CATEGORIES:Academic-DAY,Academic-EVE
END:VEVENT
BEGIN:VEVENT
DTSTART;TZID=America/New_York:20240808T000000
DTEND;TZID=America/New_York:20240808T235959
DTSTAMP:20260421T050856
CREATED:20240822T211757Z
LAST-MODIFIED:20240822T211757Z
UID:10003076-1723075200-1723161599@www.lasalle.edu
SUMMARY:Summer II Online Last Day for Withdrawal
DESCRIPTION:
URL:https://www.lasalle.edu/event/summer-ii-online-last-day-for-withdrawal-4/
LOCATION:Online
CATEGORIES:Academic-DAY,Academic-EVE
END:VEVENT
BEGIN:VEVENT
DTSTART;TZID=America/New_York:20240808T000000
DTEND;TZID=America/New_York:20240808T235959
DTSTAMP:20260421T050856
CREATED:20240822T211746Z
LAST-MODIFIED:20240822T211746Z
UID:10003075-1723075200-1723161599@www.lasalle.edu
SUMMARY:12-Week Pre-SLH Online Courses End
DESCRIPTION:
URL:https://www.lasalle.edu/event/12-week-pre-slh-online-courses-end-4/
LOCATION:Online
CATEGORIES:Academic-DAY,Academic-EVE
END:VEVENT
BEGIN:VEVENT
DTSTART;TZID=America/New_York:20240719T000000
DTEND;TZID=America/New_York:20240719T235959
DTSTAMP:20260421T050856
CREATED:20240822T211715Z
LAST-MODIFIED:20240822T211715Z
UID:10003064-1721347200-1721433599@www.lasalle.edu
SUMMARY:MBA ONLINE I Grades Due
DESCRIPTION:
URL:https://www.lasalle.edu/event/mba-online-i-grades-due-11/
LOCATION:Online
CATEGORIES:Academic-GRAD
END:VEVENT
BEGIN:VEVENT
DTSTART;TZID=America/New_York:20240719T000000
DTEND;TZID=America/New_York:20240719T235959
DTSTAMP:20260421T050856
CREATED:20240118T165344Z
LAST-MODIFIED:20240118T165344Z
UID:10002258-1721347200-1721433599@www.lasalle.edu
SUMMARY:MBA ONLINE I Grades Due
DESCRIPTION:
URL:https://www.lasalle.edu/event/mba-online-i-grades-due-7/
LOCATION:Online
CATEGORIES:Academic-GRAD
END:VEVENT
BEGIN:VEVENT
DTSTART;TZID=America/New_York:20240718T000000
DTEND;TZID=America/New_York:20240718T235959
DTSTAMP:20260421T050857
CREATED:20240822T211713Z
LAST-MODIFIED:20240822T211713Z
UID:10003062-1721260800-1721347199@www.lasalle.edu
SUMMARY:Summer II Online Last Day for Filing P/F Option
DESCRIPTION:
URL:https://www.lasalle.edu/event/summer-ii-online-last-day-for-filing-p-f-option-4/
LOCATION:Online
CATEGORIES:Academic-DAY,Academic-EVE
END:VEVENT
BEGIN:VEVENT
DTSTART;TZID=America/New_York:20240718T000000
DTEND;TZID=America/New_York:20240718T235959
DTSTAMP:20260421T050857
CREATED:20240822T211712Z
LAST-MODIFIED:20240822T211712Z
UID:10003061-1721260800-1721347199@www.lasalle.edu
SUMMARY:RN-BSN/FNP/ANP ONLINE II Last Day for Filing P/F Option
DESCRIPTION:
URL:https://www.lasalle.edu/event/rn-bsn-fnp-anp-online-ii-last-day-for-filing-p-f-option-10/
LOCATION:Online
CATEGORIES:Academic-EVE
END:VEVENT
BEGIN:VEVENT
DTSTART;TZID=America/New_York:20240718T000000
DTEND;TZID=America/New_York:20240718T235959
DTSTAMP:20260421T050857
CREATED:20240118T165341Z
LAST-MODIFIED:20240118T165341Z
UID:10002255-1721260800-1721347199@www.lasalle.edu
SUMMARY:RN-BSN/FNP/ANP ONLINE II Last Day for Filing P/F Option
DESCRIPTION:
URL:https://www.lasalle.edu/event/rn-bsn-fnp-anp-online-ii-last-day-for-filing-p-f-option-7/
LOCATION:Online
CATEGORIES:Academic-EVE
END:VEVENT
BEGIN:VEVENT
DTSTART;TZID=America/New_York:20240715T000000
DTEND;TZID=America/New_York:20240715T235959
DTSTAMP:20260421T050857
CREATED:20240822T211700Z
LAST-MODIFIED:20240822T211700Z
UID:10003059-1721001600-1721087999@www.lasalle.edu
SUMMARY:12-Week Pre-SLH Online Last Day for Withdrawal
DESCRIPTION:
URL:https://www.lasalle.edu/event/12-week-pre-slh-online-last-day-for-withdrawal-4/
LOCATION:Online
CATEGORIES:Academic-DAY,Academic-EVE
END:VEVENT
BEGIN:VEVENT
DTSTART;TZID=America/New_York:20240714T000000
DTEND;TZID=America/New_York:20240714T235959
DTSTAMP:20260421T050857
CREATED:20240822T211659Z
LAST-MODIFIED:20240822T211659Z
UID:10003058-1720915200-1721001599@www.lasalle.edu
SUMMARY:MBA ONLINE I Courses End
DESCRIPTION:
URL:https://www.lasalle.edu/event/mba-online-i-courses-end-11/
LOCATION:Online
CATEGORIES:Academic-GRAD
END:VEVENT
BEGIN:VEVENT
DTSTART;TZID=America/New_York:20240714T000000
DTEND;TZID=America/New_York:20240714T235959
DTSTAMP:20260421T050857
CREATED:20240118T165328Z
LAST-MODIFIED:20240118T165328Z
UID:10002252-1720915200-1721001599@www.lasalle.edu
SUMMARY:MBA ONLINE I Courses End
DESCRIPTION:
URL:https://www.lasalle.edu/event/mba-online-i-courses-end-7/
LOCATION:Online
CATEGORIES:Academic-GRAD
END:VEVENT
BEGIN:VEVENT
DTSTART;TZID=America/New_York:20240712T000000
DTEND;TZID=America/New_York:20240712T235959
DTSTAMP:20260421T050857
CREATED:20240822T211645Z
LAST-MODIFIED:20240822T211645Z
UID:10003055-1720742400-1720828799@www.lasalle.edu
SUMMARY:Summer I Online Grades Due
DESCRIPTION:
URL:https://www.lasalle.edu/event/summer-i-online-grades-due-4/
LOCATION:Online
END:VEVENT
BEGIN:VEVENT
DTSTART;TZID=America/New_York:20240712T000000
DTEND;TZID=America/New_York:20240712T235959
DTSTAMP:20260421T050857
CREATED:20240822T211644Z
LAST-MODIFIED:20240822T211644Z
UID:10003054-1720742400-1720828799@www.lasalle.edu
SUMMARY:RN-BSN/FNP/ANP ONLINE I Grades Due
DESCRIPTION:
URL:https://www.lasalle.edu/event/rn-bsn-fnp-anp-online-i-grades-due-11/
LOCATION:Online
END:VEVENT
BEGIN:VEVENT
DTSTART;TZID=America/New_York:20240712T000000
DTEND;TZID=America/New_York:20240712T235959
DTSTAMP:20260421T050857
CREATED:20240118T165217Z
LAST-MODIFIED:20240118T165217Z
UID:10002248-1720742400-1720828799@www.lasalle.edu
SUMMARY:RN-BSN/FNP/ANP ONLINE I Grades Due
DESCRIPTION:
URL:https://www.lasalle.edu/event/rn-bsn-fnp-anp-online-i-grades-due-7/
LOCATION:Online
CATEGORIES:Academic-EVE
END:VEVENT
BEGIN:VEVENT
DTSTART;TZID=America/New_York:20240709T000000
DTEND;TZID=America/New_York:20240709T235959
DTSTAMP:20260421T050857
CREATED:20240822T211643Z
LAST-MODIFIED:20240822T211643Z
UID:10003052-1720483200-1720569599@www.lasalle.edu
SUMMARY:Summer II Online Last Day to Add/Drop a Course
DESCRIPTION:
URL:https://www.lasalle.edu/event/summer-ii-online-last-day-to-add-drop-a-course-3/
LOCATION:Online
END:VEVENT
BEGIN:VEVENT
DTSTART;TZID=America/New_York:20240709T000000
DTEND;TZID=America/New_York:20240709T235959
DTSTAMP:20260421T050857
CREATED:20240822T211642Z
LAST-MODIFIED:20240822T211642Z
UID:10003051-1720483200-1720569599@www.lasalle.edu
SUMMARY:RN-BSN/FNP/ANP ONLINE II Last Day to Drop a Course
DESCRIPTION:
URL:https://www.lasalle.edu/event/rn-bsn-fnp-anp-online-ii-last-day-to-drop-a-course-10/
LOCATION:Online
END:VEVENT
BEGIN:VEVENT
DTSTART;TZID=America/New_York:20240709T000000
DTEND;TZID=America/New_York:20240709T235959
DTSTAMP:20260421T050857
CREATED:20240118T165214Z
LAST-MODIFIED:20240118T165214Z
UID:10002245-1720483200-1720569599@www.lasalle.edu
SUMMARY:RN-BSN/FNP/ANP ONLINE II Last Day to Drop a Course
DESCRIPTION:
URL:https://www.lasalle.edu/event/rn-bsn-fnp-anp-online-ii-last-day-to-drop-a-course-7/
LOCATION:Online
CATEGORIES:Academic-EVE
END:VEVENT
BEGIN:VEVENT
DTSTART;TZID=America/New_York:20240708T000000
DTEND;TZID=America/New_York:20240708T235959
DTSTAMP:20260421T050857
CREATED:20240822T211630Z
LAST-MODIFIED:20240822T211630Z
UID:10003049-1720396800-1720483199@www.lasalle.edu
SUMMARY:RN-BSN/FNP/ANP ONLINE II Courses Begin
DESCRIPTION:
URL:https://www.lasalle.edu/event/rn-bsn-fnp-anp-online-ii-courses-begin-10/
LOCATION:Online
CATEGORIES:Academic-EVE
END:VEVENT
BEGIN:VEVENT
DTSTART;TZID=America/New_York:20240708T000000
DTEND;TZID=America/New_York:20240708T235959
DTSTAMP:20260421T050857
CREATED:20240822T211630Z
LAST-MODIFIED:20240822T211630Z
UID:10003050-1720396800-1720483199@www.lasalle.edu
SUMMARY:Summer II Online Courses Begin
DESCRIPTION:
URL:https://www.lasalle.edu/event/summer-ii-online-courses-begin-4/
LOCATION:Online
CATEGORIES:Academic-DAY,Academic-EVE
END:VEVENT
BEGIN:VEVENT
DTSTART;TZID=America/New_York:20240708T000000
DTEND;TZID=America/New_York:20240708T235959
DTSTAMP:20260421T050857
CREATED:20240118T165016Z
LAST-MODIFIED:20240118T165016Z
UID:10002243-1720396800-1720483199@www.lasalle.edu
SUMMARY:RN-BSN/FNP/ANP ONLINE II Courses Begin
DESCRIPTION:
URL:https://www.lasalle.edu/event/rn-bsn-fnp-anp-online-ii-courses-begin-7/
LOCATION:Online
CATEGORIES:Academic-EVE
END:VEVENT
END:VCALENDAR