BEGIN:VCALENDAR
VERSION:2.0
PRODID:-//La Salle University - ECPv6.15.20//NONSGML v1.0//EN
CALSCALE:GREGORIAN
METHOD:PUBLISH
X-ORIGINAL-URL:https://www.lasalle.edu
X-WR-CALDESC:Events for La Salle University
REFRESH-INTERVAL;VALUE=DURATION:PT1H
X-Robots-Tag:noindex
X-PUBLISHED-TTL:PT1H
BEGIN:VTIMEZONE
TZID:America/New_York
BEGIN:DAYLIGHT
TZOFFSETFROM:-0500
TZOFFSETTO:-0400
TZNAME:EDT
DTSTART:20220313T070000
END:DAYLIGHT
BEGIN:STANDARD
TZOFFSETFROM:-0400
TZOFFSETTO:-0500
TZNAME:EST
DTSTART:20221106T060000
END:STANDARD
BEGIN:DAYLIGHT
TZOFFSETFROM:-0500
TZOFFSETTO:-0400
TZNAME:EDT
DTSTART:20230312T070000
END:DAYLIGHT
BEGIN:STANDARD
TZOFFSETFROM:-0400
TZOFFSETTO:-0500
TZNAME:EST
DTSTART:20231105T060000
END:STANDARD
BEGIN:DAYLIGHT
TZOFFSETFROM:-0500
TZOFFSETTO:-0400
TZNAME:EDT
DTSTART:20240310T070000
END:DAYLIGHT
BEGIN:STANDARD
TZOFFSETFROM:-0400
TZOFFSETTO:-0500
TZNAME:EST
DTSTART:20241103T060000
END:STANDARD
BEGIN:DAYLIGHT
TZOFFSETFROM:-0500
TZOFFSETTO:-0400
TZNAME:EDT
DTSTART:20250309T070000
END:DAYLIGHT
BEGIN:STANDARD
TZOFFSETFROM:-0400
TZOFFSETTO:-0500
TZNAME:EST
DTSTART:20251102T060000
END:STANDARD
END:VTIMEZONE
BEGIN:VEVENT
DTSTART;TZID=America/New_York:20240314T000000
DTEND;TZID=America/New_York:20240314T235959
DTSTAMP:20260421T131025
CREATED:20230420T175419Z
LAST-MODIFIED:20231027T173337Z
UID:10001609-1710374400-1710460799@www.lasalle.edu
SUMMARY:MBA ONLINE II Last Day to Add a Course
DESCRIPTION:
URL:https://www.lasalle.edu/event/mba-online-ii-last-day-to-add-a-course-5/
LOCATION:Online
CATEGORIES:Academic-GRAD
END:VEVENT
BEGIN:VEVENT
DTSTART;TZID=America/New_York:20240313T000000
DTEND;TZID=America/New_York:20240313T235959
DTSTAMP:20260421T131025
CREATED:20230420T175416Z
LAST-MODIFIED:20230420T175416Z
UID:10001604-1710288000-1710374399@www.lasalle.edu
SUMMARY:MBA ONLINE II Last Day to Add a Course
DESCRIPTION:
URL:https://www.lasalle.edu/event/mba-online-ii-last-day-to-add-a-course-4/
LOCATION:Online
CATEGORIES:Academic-GRAD
END:VEVENT
BEGIN:VEVENT
DTSTART;TZID=America/New_York:20240310T000000
DTEND;TZID=America/New_York:20240310T235959
DTSTAMP:20260421T131025
CREATED:20230420T175410Z
LAST-MODIFIED:20230420T175410Z
UID:10001601-1710028800-1710115199@www.lasalle.edu
SUMMARY:MBA ONLINE I Courses End
DESCRIPTION:
URL:https://www.lasalle.edu/event/mba-online-i-courses-end-6/
LOCATION:Online
CATEGORIES:Academic-GRAD
END:VEVENT
BEGIN:VEVENT
DTSTART;TZID=America/New_York:20240308T000000
DTEND;TZID=America/New_York:20240308T235959
DTSTAMP:20260421T131025
CREATED:20230420T175409Z
LAST-MODIFIED:20230420T175409Z
UID:10001598-1709856000-1709942399@www.lasalle.edu
SUMMARY:RN-BSN/FNP/ANP ONLINE I Grades Due
DESCRIPTION:
URL:https://www.lasalle.edu/event/rn-bsn-fnp-anp-online-i-grades-due-6/
LOCATION:Online
CATEGORIES:Academic-EVE
END:VEVENT
BEGIN:VEVENT
DTSTART;TZID=America/New_York:20240306T000000
DTEND;TZID=America/New_York:20240306T235959
DTSTAMP:20260421T131025
CREATED:20230420T175402Z
LAST-MODIFIED:20231027T173718Z
UID:10001594-1709683200-1709769599@www.lasalle.edu
SUMMARY:RN-BSN/FNP/ANP ONLINE II Last Day to Drop a Course
DESCRIPTION:
URL:https://www.lasalle.edu/event/rn-bsn-fnp-anp-online-ii-last-day-to-drop-a-course-6/
LOCATION:Online
CATEGORIES:Academic-EVE
END:VEVENT
BEGIN:VEVENT
DTSTART;TZID=America/New_York:20240304T000000
DTEND;TZID=America/New_York:20240304T235959
DTSTAMP:20260421T131025
CREATED:20230420T175401Z
LAST-MODIFIED:20230420T175401Z
UID:10001592-1709510400-1709596799@www.lasalle.edu
SUMMARY:RN-BSN/FNP/ANP ONLINE II Courses Begin
DESCRIPTION:
URL:https://www.lasalle.edu/event/rn-bsn-fnp-anp-online-ii-courses-begin-6/
LOCATION:Online
CATEGORIES:Academic-EVE
END:VEVENT
BEGIN:VEVENT
DTSTART;TZID=America/New_York:20240303T000000
DTEND;TZID=America/New_York:20240303T235959
DTSTAMP:20260421T131025
CREATED:20230420T175400Z
LAST-MODIFIED:20230420T175400Z
UID:10001590-1709424000-1709510399@www.lasalle.edu
SUMMARY:RN-BSN/FNP/ANP ONLINE I Courses End
DESCRIPTION:
URL:https://www.lasalle.edu/event/rn-bsn-fnp-anp-online-i-courses-end-6/
LOCATION:Online
CATEGORIES:Academic-EVE
END:VEVENT
BEGIN:VEVENT
DTSTART;TZID=America/New_York:20240229T000000
DTEND;TZID=America/New_York:20240229T235959
DTSTAMP:20260421T131025
CREATED:20230420T175357Z
LAST-MODIFIED:20231027T173721Z
UID:10001586-1709164800-1709251199@www.lasalle.edu
SUMMARY:RN-BSN/FNP/ANP ONLINE II Last Day to Add a Course
DESCRIPTION:
URL:https://www.lasalle.edu/event/rn-bsn-fnp-anp-online-ii-last-day-to-add-a-course-6/
LOCATION:Online
CATEGORIES:Academic-EVE
END:VEVENT
BEGIN:VEVENT
DTSTART;TZID=America/New_York:20240222T000000
DTEND;TZID=America/New_York:20240222T235959
DTSTAMP:20260421T131025
CREATED:20230420T175357Z
LAST-MODIFIED:20230420T175357Z
UID:10001585-1708560000-1708646399@www.lasalle.edu
SUMMARY:MBA ONLINE I Last Day for Withdrawal
DESCRIPTION:
URL:https://www.lasalle.edu/event/mba-online-i-last-day-for-withdrawal-6/
LOCATION:Online
CATEGORIES:Academic-GRAD
END:VEVENT
BEGIN:VEVENT
DTSTART;TZID=America/New_York:20240218T000000
DTEND;TZID=America/New_York:20240218T235959
DTSTAMP:20260421T131025
CREATED:20230420T175356Z
LAST-MODIFIED:20231027T173524Z
UID:10001583-1708214400-1708300799@www.lasalle.edu
SUMMARY:RN-BSN/FNP/ANP ONLINE I Last Day for Withdrawal
DESCRIPTION:
URL:https://www.lasalle.edu/event/rn-bsn-fnp-anp-online-i-last-day-for-withdrawal-6/
LOCATION:Online
CATEGORIES:Academic-EVE
END:VEVENT
BEGIN:VEVENT
DTSTART;TZID=America/New_York:20240126T000000
DTEND;TZID=America/New_York:20240126T235959
DTSTAMP:20260421T131025
CREATED:20230420T175350Z
LAST-MODIFIED:20231027T173515Z
UID:10001579-1706227200-1706313599@www.lasalle.edu
SUMMARY:RN-BSN/FNP/ANP ONLINE I Last Day for Filing P/F Option
DESCRIPTION:
URL:https://www.lasalle.edu/event/rn-bsn-fnp-anp-online-i-last-day-for-filing-p-f-option-6/
LOCATION:Online
CATEGORIES:Academic-EVE
END:VEVENT
BEGIN:VEVENT
DTSTART;TZID=America/New_York:20240117T000000
DTEND;TZID=America/New_York:20240117T235959
DTSTAMP:20260421T131025
CREATED:20230420T175343Z
LAST-MODIFIED:20230420T175343Z
UID:10001573-1705449600-1705535999@www.lasalle.edu
SUMMARY:MBA ONLINE I Last Day to Drop a Course
DESCRIPTION:
URL:https://www.lasalle.edu/event/mba-online-i-last-day-to-drop-a-course-7/
LOCATION:Online
CATEGORIES:Academic-GRAD
END:VEVENT
BEGIN:VEVENT
DTSTART;TZID=America/New_York:20240117T000000
DTEND;TZID=America/New_York:20240117T235959
DTSTAMP:20260421T131025
CREATED:20230420T175343Z
LAST-MODIFIED:20230420T175343Z
UID:10001574-1705449600-1705535999@www.lasalle.edu
SUMMARY:RN-BSN/FNP/ANP ONLINE I Last Day to Drop a Course
DESCRIPTION:
URL:https://www.lasalle.edu/event/rn-bsn-fnp-anp-online-i-last-day-to-drop-a-course-7/
LOCATION:Online
CATEGORIES:Academic-EVE
END:VEVENT
BEGIN:VEVENT
DTSTART;TZID=America/New_York:20240117T000000
DTEND;TZID=America/New_York:20240117T235959
DTSTAMP:20260421T131025
CREATED:20230420T175340Z
LAST-MODIFIED:20230420T175340Z
UID:10001568-1705449600-1705535999@www.lasalle.edu
SUMMARY:MBA ONLINE I Last Day to Drop a Course
DESCRIPTION:
URL:https://www.lasalle.edu/event/mba-online-i-last-day-to-drop-a-course-6/
LOCATION:Online
CATEGORIES:Academic-GRAD
END:VEVENT
BEGIN:VEVENT
DTSTART;TZID=America/New_York:20240117T000000
DTEND;TZID=America/New_York:20240117T235959
DTSTAMP:20260421T131025
CREATED:20230420T175340Z
LAST-MODIFIED:20230420T175340Z
UID:10001569-1705449600-1705535999@www.lasalle.edu
SUMMARY:RN-BSN/FNP/ANP ONLINE I Last Day to Drop a Course
DESCRIPTION:
URL:https://www.lasalle.edu/event/rn-bsn-fnp-anp-online-i-last-day-to-drop-a-course-6/
LOCATION:Online
CATEGORIES:Academic-EVE
END:VEVENT
BEGIN:VEVENT
DTSTART;TZID=America/New_York:20240116T000000
DTEND;TZID=America/New_York:20240116T235959
DTSTAMP:20260421T131025
CREATED:20230420T175337Z
LAST-MODIFIED:20230420T175337Z
UID:10001563-1705363200-1705449599@www.lasalle.edu
SUMMARY:RN-BSN/FNP/ANP ONLINE I Courses Begin
DESCRIPTION:
URL:https://www.lasalle.edu/event/rn-bsn-fnp-anp-online-i-courses-begin-6/
LOCATION:Online
CATEGORIES:Academic-EVE
END:VEVENT
BEGIN:VEVENT
DTSTART;TZID=America/New_York:20240116T000000
DTEND;TZID=America/New_York:20240116T235959
DTSTAMP:20260421T131025
CREATED:20230420T175337Z
LAST-MODIFIED:20230420T175337Z
UID:10001564-1705363200-1705449599@www.lasalle.edu
SUMMARY:RN-BSN/FNP/ANP ONLINE Registration for ONLINE II Begin
DESCRIPTION:
URL:https://www.lasalle.edu/event/rn-bsn-fnp-anp-online-registration-for-online-ii-begin-6/
LOCATION:Online
CATEGORIES:Academic-EVE
END:VEVENT
BEGIN:VEVENT
DTSTART;TZID=America/New_York:20240116T000000
DTEND;TZID=America/New_York:20240116T235959
DTSTAMP:20260421T131025
CREATED:20230420T175336Z
LAST-MODIFIED:20230420T175336Z
UID:10001562-1705363200-1705449599@www.lasalle.edu
SUMMARY:MBA ONLINE Registration for ONLINE II Begin
DESCRIPTION:
URL:https://www.lasalle.edu/event/mba-online-registration-for-online-ii-begin-4/
LOCATION:Online
CATEGORIES:Academic-GRAD
END:VEVENT
BEGIN:VEVENT
DTSTART;TZID=America/New_York:20240116T000000
DTEND;TZID=America/New_York:20240116T235959
DTSTAMP:20260421T131025
CREATED:20230420T175333Z
LAST-MODIFIED:20230420T175333Z
UID:10001561-1705363200-1705449599@www.lasalle.edu
SUMMARY:MBA ONLINE I Courses Begin
DESCRIPTION:
URL:https://www.lasalle.edu/event/mba-online-i-courses-begin-6/
LOCATION:Online
CATEGORIES:Academic-GRAD
END:VEVENT
BEGIN:VEVENT
DTSTART;TZID=America/New_York:20240111T000000
DTEND;TZID=America/New_York:20240111T235959
DTSTAMP:20260421T131025
CREATED:20230420T175325Z
LAST-MODIFIED:20231027T173303Z
UID:10001554-1704931200-1705017599@www.lasalle.edu
SUMMARY:MBA ONLINE I Last Day to Add a Course
DESCRIPTION:
URL:https://www.lasalle.edu/event/mba-online-i-last-day-to-add-a-course-6/
LOCATION:Online
CATEGORIES:Academic-GRAD
END:VEVENT
BEGIN:VEVENT
DTSTART;TZID=America/New_York:20240111T000000
DTEND;TZID=America/New_York:20240111T235959
DTSTAMP:20260421T131025
CREATED:20230420T175325Z
LAST-MODIFIED:20231027T173503Z
UID:10001555-1704931200-1705017599@www.lasalle.edu
SUMMARY:RN-BSN/FNP/ANP ONLINE I Last Day to Add a Course
DESCRIPTION:
URL:https://www.lasalle.edu/event/rn-bsn-fnp-anp-online-i-last-day-to-add-a-course-6/
LOCATION:Online
CATEGORIES:Academic-EVE
END:VEVENT
BEGIN:VEVENT
DTSTART;TZID=America/New_York:20231222T000000
DTEND;TZID=America/New_York:20231222T235959
DTSTAMP:20260421T131025
CREATED:20230420T175322Z
LAST-MODIFIED:20230420T175322Z
UID:10001551-1703203200-1703289599@www.lasalle.edu
SUMMARY:MBA ONLINE II Grades Due
DESCRIPTION:
URL:https://www.lasalle.edu/event/mba-online-ii-grades-due-3/
LOCATION:Online
CATEGORIES:Academic-GRAD
END:VEVENT
BEGIN:VEVENT
DTSTART;TZID=America/New_York:20231217T000000
DTEND;TZID=America/New_York:20231217T235959
DTSTAMP:20260421T131025
CREATED:20230420T175316Z
LAST-MODIFIED:20230420T175316Z
UID:10001545-1702771200-1702857599@www.lasalle.edu
SUMMARY:MBA ONLINE II Courses End
DESCRIPTION:
URL:https://www.lasalle.edu/event/mba-online-ii-courses-end-3/
LOCATION:Online
CATEGORIES:Academic-GRAD
END:VEVENT
BEGIN:VEVENT
DTSTART;TZID=America/New_York:20231215T000000
DTEND;TZID=America/New_York:20231215T235959
DTSTAMP:20260421T131025
CREATED:20230420T175306Z
LAST-MODIFIED:20230420T175306Z
UID:10001541-1702598400-1702684799@www.lasalle.edu
SUMMARY:RN-BSN/FNP/ANP ONLINE II Grades Due
DESCRIPTION:
URL:https://www.lasalle.edu/event/rn-bsn-fnp-anp-online-ii-grades-due-5/
LOCATION:Online
CATEGORIES:Academic-EVE
END:VEVENT
BEGIN:VEVENT
DTSTART;TZID=America/New_York:20231210T000000
DTEND;TZID=America/New_York:20231210T235959
DTSTAMP:20260421T131025
CREATED:20230420T175302Z
LAST-MODIFIED:20230420T175302Z
UID:10001534-1702166400-1702252799@www.lasalle.edu
SUMMARY:RN-BSN/FNP/ANP ONLINE II Courses End
DESCRIPTION:
URL:https://www.lasalle.edu/event/rn-bsn-fnp-anp-online-ii-courses-end-5/
LOCATION:Online
CATEGORIES:Academic-EVE
END:VEVENT
BEGIN:VEVENT
DTSTART;TZID=America/New_York:20231129T000000
DTEND;TZID=America/New_York:20231129T235959
DTSTAMP:20260421T131025
CREATED:20230420T175247Z
LAST-MODIFIED:20231027T171951Z
UID:10001529-1701216000-1701302399@www.lasalle.edu
SUMMARY:MBA ONLINE II Last Day for Withdrawal
DESCRIPTION:
URL:https://www.lasalle.edu/event/mba-online-ii-last-day-for-withdrawal-3/
LOCATION:Online
CATEGORIES:Academic-GRAD
END:VEVENT
BEGIN:VEVENT
DTSTART;TZID=America/New_York:20231120T000000
DTEND;TZID=America/New_York:20231120T235959
DTSTAMP:20260421T131025
CREATED:20230420T175230Z
LAST-MODIFIED:20231027T171238Z
UID:10001517-1700438400-1700524799@www.lasalle.edu
SUMMARY:RN-BSN/FNP/ANP ONLINE II Last Day for Withdrawal
DESCRIPTION:
URL:https://www.lasalle.edu/event/rn-bsn-fnp-anp-online-ii-last-day-for-withdrawal-5/
LOCATION:Online
CATEGORIES:Academic-EVE
END:VEVENT
BEGIN:VEVENT
DTSTART;TZID=America/New_York:20231028T000000
DTEND;TZID=America/New_York:20231028T235959
DTSTAMP:20260421T131025
CREATED:20230420T175213Z
LAST-MODIFIED:20231027T171105Z
UID:10001508-1698451200-1698537599@www.lasalle.edu
SUMMARY:RN-BSN/FNP/ANP ONLINE II Last Day for Filing P/F Option
DESCRIPTION:
URL:https://www.lasalle.edu/event/rn-bsn-fnp-anp-online-ii-last-day-for-filing-p-f-option-5/
LOCATION:Online
CATEGORIES:Academic-EVE
END:VEVENT
BEGIN:VEVENT
DTSTART;TZID=America/New_York:20231027T000000
DTEND;TZID=America/New_York:20231027T235959
DTSTAMP:20260421T131025
CREATED:20230420T175206Z
LAST-MODIFIED:20230420T175206Z
UID:10001505-1698364800-1698451199@www.lasalle.edu
SUMMARY:MBA ONLINE I Grades Due
DESCRIPTION:
URL:https://www.lasalle.edu/event/mba-online-i-grades-due-5/
LOCATION:Online
CATEGORIES:Academic-GRAD
END:VEVENT
BEGIN:VEVENT
DTSTART;TZID=America/New_York:20231024T000000
DTEND;TZID=America/New_York:20231024T235959
DTSTAMP:20260421T131025
CREATED:20230420T175158Z
LAST-MODIFIED:20230420T175158Z
UID:10001500-1698105600-1698191999@www.lasalle.edu
SUMMARY:MBA ONLINE II Last Day to Drop a Course
DESCRIPTION:
URL:https://www.lasalle.edu/event/mba-online-ii-last-day-to-drop-a-course-3/
LOCATION:Online
CATEGORIES:Academic-GRAD
END:VEVENT
END:VCALENDAR