BEGIN:VCALENDAR
VERSION:2.0
PRODID:-//La Salle University - ECPv6.15.20//NONSGML v1.0//EN
CALSCALE:GREGORIAN
METHOD:PUBLISH
X-WR-CALNAME:La Salle University
X-ORIGINAL-URL:https://www.lasalle.edu
X-WR-CALDESC:Events for La Salle University
REFRESH-INTERVAL;VALUE=DURATION:PT1H
X-Robots-Tag:noindex
X-PUBLISHED-TTL:PT1H
BEGIN:VTIMEZONE
TZID:America/New_York
BEGIN:DAYLIGHT
TZOFFSETFROM:-0500
TZOFFSETTO:-0400
TZNAME:EDT
DTSTART:20220313T070000
END:DAYLIGHT
BEGIN:STANDARD
TZOFFSETFROM:-0400
TZOFFSETTO:-0500
TZNAME:EST
DTSTART:20221106T060000
END:STANDARD
BEGIN:DAYLIGHT
TZOFFSETFROM:-0500
TZOFFSETTO:-0400
TZNAME:EDT
DTSTART:20230312T070000
END:DAYLIGHT
BEGIN:STANDARD
TZOFFSETFROM:-0400
TZOFFSETTO:-0500
TZNAME:EST
DTSTART:20231105T060000
END:STANDARD
BEGIN:DAYLIGHT
TZOFFSETFROM:-0500
TZOFFSETTO:-0400
TZNAME:EDT
DTSTART:20240310T070000
END:DAYLIGHT
BEGIN:STANDARD
TZOFFSETFROM:-0400
TZOFFSETTO:-0500
TZNAME:EST
DTSTART:20241103T060000
END:STANDARD
END:VTIMEZONE
BEGIN:VEVENT
DTSTART;TZID=America/New_York:20231015T000000
DTEND;TZID=America/New_York:20231015T235959
DTSTAMP:20260421T172348
CREATED:20230420T175120Z
LAST-MODIFIED:20230420T175120Z
UID:10001480-1697328000-1697414399@www.lasalle.edu
SUMMARY:RN-BSN/FNP/ANP ONLINE I Courses End
DESCRIPTION:
URL:https://www.lasalle.edu/event/rn-bsn-fnp-anp-online-i-courses-end-5/
LOCATION:Online
CATEGORIES:Academic-EVE
END:VEVENT
BEGIN:VEVENT
DTSTART;TZID=America/New_York:20231011T000000
DTEND;TZID=America/New_York:20231011T235959
DTSTAMP:20260421T172348
CREATED:20230420T175119Z
LAST-MODIFIED:20230420T175119Z
UID:10001478-1696982400-1697068799@www.lasalle.edu
SUMMARY:RN-BSN/FNP/ANP ONLINE II Last Day to Add a Course
DESCRIPTION:
URL:https://www.lasalle.edu/event/rn-bsn-fnp-anp-online-ii-last-day-to-add-a-course-5/
LOCATION:Online
CATEGORIES:Academic-EVE
END:VEVENT
BEGIN:VEVENT
DTSTART;TZID=America/New_York:20231003T000000
DTEND;TZID=America/New_York:20231003T235959
DTSTAMP:20260421T172348
CREATED:20230420T175110Z
LAST-MODIFIED:20230420T175110Z
UID:10001476-1696291200-1696377599@www.lasalle.edu
SUMMARY:MBA ONLINE I Last Day for Withdrawal
DESCRIPTION:
URL:https://www.lasalle.edu/event/mba-online-i-last-day-for-withdrawal-5/
LOCATION:Online
CATEGORIES:Academic-GRAD
END:VEVENT
BEGIN:VEVENT
DTSTART;TZID=America/New_York:20230927T000000
DTEND;TZID=America/New_York:20230927T235959
DTSTAMP:20260421T172348
CREATED:20230420T175109Z
LAST-MODIFIED:20230420T175109Z
UID:10001472-1695772800-1695859199@www.lasalle.edu
SUMMARY:RN-BSN/FNP/ANP ONLINE I Last Day for Withdrawal
DESCRIPTION:
URL:https://www.lasalle.edu/event/rn-bsn-fnp-anp-online-i-last-day-for-withdrawal-5/
LOCATION:Online
CATEGORIES:Academic-EVE
END:VEVENT
BEGIN:VEVENT
DTSTART;TZID=America/New_York:20230906T000000
DTEND;TZID=America/New_York:20230906T235959
DTSTAMP:20260421T172348
CREATED:20230420T175051Z
LAST-MODIFIED:20230420T175051Z
UID:10001464-1693958400-1694044799@www.lasalle.edu
SUMMARY:RN-BSN/FNP/ANP ONLINE I Last Day for Filing P/F Option
DESCRIPTION:
URL:https://www.lasalle.edu/event/rn-bsn-fnp-anp-online-i-last-day-for-filing-p-f-option-5/
LOCATION:Online
CATEGORIES:Academic-EVE
END:VEVENT
BEGIN:VEVENT
DTSTART;TZID=America/New_York:20230901T000000
DTEND;TZID=America/New_York:20230901T235959
DTSTAMP:20260421T172348
CREATED:20230420T175044Z
LAST-MODIFIED:20230420T175044Z
UID:10001458-1693526400-1693612799@www.lasalle.edu
SUMMARY:RN-BSN/FNP/ANP ONLINE II Grades Due
DESCRIPTION:
URL:https://www.lasalle.edu/event/rn-bsn-fnp-anp-online-ii-grades-due-4/
LOCATION:Online
CATEGORIES:Academic-EVE
END:VEVENT
BEGIN:VEVENT
DTSTART;TZID=America/New_York:20230901T000000
DTEND;TZID=America/New_York:20230901T235959
DTSTAMP:20260421T172348
CREATED:20230420T175043Z
LAST-MODIFIED:20230420T175043Z
UID:10001457-1693526400-1693612799@www.lasalle.edu
SUMMARY:Summer II Online Grades Due
DESCRIPTION:
URL:https://www.lasalle.edu/event/summer-ii-online-grades-due-2/
LOCATION:Online
CATEGORIES:Academic-DAY,Academic-EVE
END:VEVENT
BEGIN:VEVENT
DTSTART;TZID=America/New_York:20230829T000000
DTEND;TZID=America/New_York:20230829T235959
DTSTAMP:20260421T172348
CREATED:20230420T175034Z
LAST-MODIFIED:20230420T175034Z
UID:10001456-1693267200-1693353599@www.lasalle.edu
SUMMARY:RN-BSN/FNP/ANP ONLINE I Last Day to Drop a Course
DESCRIPTION:
URL:https://www.lasalle.edu/event/rn-bsn-fnp-anp-online-i-last-day-to-drop-a-course-5/
LOCATION:Online
CATEGORIES:Academic-EVE
END:VEVENT
BEGIN:VEVENT
DTSTART;TZID=America/New_York:20230829T000000
DTEND;TZID=America/New_York:20230829T235959
DTSTAMP:20260421T172348
CREATED:20230420T175033Z
LAST-MODIFIED:20230420T175033Z
UID:10001455-1693267200-1693353599@www.lasalle.edu
SUMMARY:MBA ONLINE I Last Day to Drop a Course
DESCRIPTION:
URL:https://www.lasalle.edu/event/mba-online-i-last-day-to-drop-a-course-5/
LOCATION:Online
CATEGORIES:Academic-GRAD
END:VEVENT
BEGIN:VEVENT
DTSTART;TZID=America/New_York:20230828T000000
DTEND;TZID=America/New_York:20230828T235959
DTSTAMP:20260421T172348
CREATED:20230420T175027Z
LAST-MODIFIED:20230420T175027Z
UID:10001448-1693180800-1693267199@www.lasalle.edu
SUMMARY:RN-BSN/FNP/ANP ONLINE I Courses Begin
DESCRIPTION:
URL:https://www.lasalle.edu/event/rn-bsn-fnp-anp-online-i-courses-begin-5/
LOCATION:Online
CATEGORIES:Academic-EVE
END:VEVENT
BEGIN:VEVENT
DTSTART;TZID=America/New_York:20230828T000000
DTEND;TZID=America/New_York:20230828T235959
DTSTAMP:20260421T172348
CREATED:20230420T175027Z
LAST-MODIFIED:20230420T175027Z
UID:10001449-1693180800-1693267199@www.lasalle.edu
SUMMARY:RN-BSN/FNP/ANP ONLINE Registration for ONLINE II Begin
DESCRIPTION:
URL:https://www.lasalle.edu/event/rn-bsn-fnp-anp-online-registration-for-online-ii-begin-5/
LOCATION:Online
CATEGORIES:Academic-EVE
END:VEVENT
BEGIN:VEVENT
DTSTART;TZID=America/New_York:20230828T000000
DTEND;TZID=America/New_York:20230828T235959
DTSTAMP:20260421T172348
CREATED:20230420T175026Z
LAST-MODIFIED:20230420T175026Z
UID:10001447-1693180800-1693267199@www.lasalle.edu
SUMMARY:MBA ONLINE Registration for ONLINE II Begin
DESCRIPTION:
URL:https://www.lasalle.edu/event/mba-online-registration-for-online-ii-begin-3/
LOCATION:Online
CATEGORIES:Academic-GRAD
END:VEVENT
BEGIN:VEVENT
DTSTART;TZID=America/New_York:20230828T000000
DTEND;TZID=America/New_York:20230828T235959
DTSTAMP:20260421T172348
CREATED:20230420T175015Z
LAST-MODIFIED:20230420T175015Z
UID:10001446-1693180800-1693267199@www.lasalle.edu
SUMMARY:MBA ONLINE I Courses Begin
DESCRIPTION:
URL:https://www.lasalle.edu/event/mba-online-i-courses-begin-5/
LOCATION:Online
CATEGORIES:Academic-GRAD
END:VEVENT
BEGIN:VEVENT
DTSTART;TZID=America/New_York:20230827T000000
DTEND;TZID=America/New_York:20230827T235959
DTSTAMP:20260421T172348
CREATED:20230420T175012Z
LAST-MODIFIED:20230420T175012Z
UID:10001442-1693094400-1693180799@www.lasalle.edu
SUMMARY:Summer II Online Courses End
DESCRIPTION:
URL:https://www.lasalle.edu/event/summer-ii-online-courses-end-2/
LOCATION:Online
CATEGORIES:Academic-DAY,Academic-EVE
END:VEVENT
BEGIN:VEVENT
DTSTART;TZID=America/New_York:20230827T000000
DTEND;TZID=America/New_York:20230827T235959
DTSTAMP:20260421T172348
CREATED:20230420T175010Z
LAST-MODIFIED:20230420T175010Z
UID:10001441-1693094400-1693180799@www.lasalle.edu
SUMMARY:RN-BSN/FNP/ANP ONLINE II Courses End
DESCRIPTION:
URL:https://www.lasalle.edu/event/rn-bsn-fnp-anp-online-ii-courses-end-4/
LOCATION:Online
CATEGORIES:Academic-EVE
END:VEVENT
BEGIN:VEVENT
DTSTART;TZID=America/New_York:20230823T000000
DTEND;TZID=America/New_York:20230823T235959
DTSTAMP:20260421T172348
CREATED:20230420T175009Z
LAST-MODIFIED:20230420T175009Z
UID:10001439-1692748800-1692835199@www.lasalle.edu
SUMMARY:MBA ONLINE I Last Day to Add a Course
DESCRIPTION:
URL:https://www.lasalle.edu/event/mba-online-i-last-day-to-add-a-course-5/
LOCATION:Online
CATEGORIES:Academic-GRAD
END:VEVENT
BEGIN:VEVENT
DTSTART;TZID=America/New_York:20230823T000000
DTEND;TZID=America/New_York:20230823T235959
DTSTAMP:20260421T172348
CREATED:20230420T175009Z
LAST-MODIFIED:20230420T175009Z
UID:10001440-1692748800-1692835199@www.lasalle.edu
SUMMARY:RN-BSN/FNP/ANP ONLINE I Last Day to Add a Course
DESCRIPTION:
URL:https://www.lasalle.edu/event/rn-bsn-fnp-anp-online-i-last-day-to-add-a-course-5/
LOCATION:Online
CATEGORIES:Academic-EVE
END:VEVENT
BEGIN:VEVENT
DTSTART;TZID=America/New_York:20230815T000000
DTEND;TZID=America/New_York:20230815T235959
DTSTAMP:20260421T172348
CREATED:20230420T174951Z
LAST-MODIFIED:20230420T174951Z
UID:10001435-1692057600-1692143999@www.lasalle.edu
SUMMARY:12-Week Pre-SLH Online Grades Due
DESCRIPTION:
URL:https://www.lasalle.edu/event/12-week-pre-slh-online-grades-due-2/
LOCATION:Online
CATEGORIES:Academic-DAY,Academic-EVE
END:VEVENT
BEGIN:VEVENT
DTSTART;TZID=America/New_York:20230810T000000
DTEND;TZID=America/New_York:20230810T235959
DTSTAMP:20260421T172348
CREATED:20230420T174949Z
LAST-MODIFIED:20230420T174949Z
UID:10001432-1691625600-1691711999@www.lasalle.edu
SUMMARY:Summer II Online Last Day for Withdrawal
DESCRIPTION:
URL:https://www.lasalle.edu/event/summer-ii-online-last-day-for-withdrawal-2/
LOCATION:Online
CATEGORIES:Academic-DAY,Academic-EVE
END:VEVENT
BEGIN:VEVENT
DTSTART;TZID=America/New_York:20230810T000000
DTEND;TZID=America/New_York:20230810T235959
DTSTAMP:20260421T172348
CREATED:20230420T174933Z
LAST-MODIFIED:20230420T174933Z
UID:10001431-1691625600-1691711999@www.lasalle.edu
SUMMARY:RN-BSN/FNP/ANP ONLINE II Last Day for Withdrawal
DESCRIPTION:
URL:https://www.lasalle.edu/event/rn-bsn-fnp-anp-online-ii-last-day-for-withdrawal-4/
LOCATION:Online
CATEGORIES:Academic-EVE
END:VEVENT
BEGIN:VEVENT
DTSTART;TZID=America/New_York:20230810T000000
DTEND;TZID=America/New_York:20230810T235959
DTSTAMP:20260421T172348
CREATED:20230420T174932Z
LAST-MODIFIED:20230420T174932Z
UID:10001430-1691625600-1691711999@www.lasalle.edu
SUMMARY:12-Week Pre-SLH Online Courses End
DESCRIPTION:
URL:https://www.lasalle.edu/event/12-week-pre-slh-online-courses-end-2/
LOCATION:Online
CATEGORIES:Academic-DAY,Academic-EVE
END:VEVENT
BEGIN:VEVENT
DTSTART;TZID=America/New_York:20230721T000000
DTEND;TZID=America/New_York:20230721T235959
DTSTAMP:20260421T172348
CREATED:20230420T174855Z
LAST-MODIFIED:20230420T174855Z
UID:10001419-1689897600-1689983999@www.lasalle.edu
SUMMARY:MBA ONLINE I Grades Due
DESCRIPTION:
URL:https://www.lasalle.edu/event/mba-online-i-grades-due-4/
LOCATION:Online
CATEGORIES:Academic-GRAD
END:VEVENT
BEGIN:VEVENT
DTSTART;TZID=America/New_York:20230719T000000
DTEND;TZID=America/New_York:20230719T235959
DTSTAMP:20260421T172348
CREATED:20230420T174854Z
LAST-MODIFIED:20230420T174854Z
UID:10001417-1689724800-1689811199@www.lasalle.edu
SUMMARY:Summer II Online Last Day for Filing P/F Option
DESCRIPTION:
URL:https://www.lasalle.edu/event/summer-ii-online-last-day-for-filing-p-f-option-2/
LOCATION:Online
CATEGORIES:Academic-DAY,Academic-EVE
END:VEVENT
BEGIN:VEVENT
DTSTART;TZID=America/New_York:20230719T000000
DTEND;TZID=America/New_York:20230719T235959
DTSTAMP:20260421T172348
CREATED:20230420T174853Z
LAST-MODIFIED:20230420T174853Z
UID:10001416-1689724800-1689811199@www.lasalle.edu
SUMMARY:RN-BSN/FNP/ANP ONLINE II Last Day for Filing P/F Option
DESCRIPTION:
URL:https://www.lasalle.edu/event/rn-bsn-fnp-anp-online-ii-last-day-for-filing-p-f-option-4/
LOCATION:Online
CATEGORIES:Academic-EVE
END:VEVENT
BEGIN:VEVENT
DTSTART;TZID=America/New_York:20230716T000000
DTEND;TZID=America/New_York:20230716T235959
DTSTAMP:20260421T172348
CREATED:20230420T174852Z
LAST-MODIFIED:20230420T174852Z
UID:10001415-1689465600-1689551999@www.lasalle.edu
SUMMARY:MBA ONLINE I Courses End
DESCRIPTION:
URL:https://www.lasalle.edu/event/mba-online-i-courses-end-4/
LOCATION:Online
CATEGORIES:Academic-GRAD
END:VEVENT
BEGIN:VEVENT
DTSTART;TZID=America/New_York:20230714T000000
DTEND;TZID=America/New_York:20230714T235959
DTSTAMP:20260421T172348
CREATED:20230420T174851Z
LAST-MODIFIED:20230420T174851Z
UID:10001412-1689292800-1689379199@www.lasalle.edu
SUMMARY:12-Week Pre-SLH Online Last Day for Withdrawal
DESCRIPTION:
URL:https://www.lasalle.edu/event/12-week-pre-slh-online-last-day-for-withdrawal-2/
LOCATION:Online
CATEGORIES:Academic-DAY,Academic-EVE
END:VEVENT
BEGIN:VEVENT
DTSTART;TZID=America/New_York:20230714T000000
DTEND;TZID=America/New_York:20230714T235959
DTSTAMP:20260421T172348
CREATED:20230420T174844Z
LAST-MODIFIED:20230420T174844Z
UID:10001410-1689292800-1689379199@www.lasalle.edu
SUMMARY:RN-BSN/FNP/ANP ONLINE I Grades Due
DESCRIPTION:
URL:https://www.lasalle.edu/event/rn-bsn-fnp-anp-online-i-grades-due-4/
LOCATION:Online
CATEGORIES:Academic-EVE
END:VEVENT
BEGIN:VEVENT
DTSTART;TZID=America/New_York:20230714T000000
DTEND;TZID=America/New_York:20230714T235959
DTSTAMP:20260421T172348
CREATED:20230420T174844Z
LAST-MODIFIED:20230420T174844Z
UID:10001411-1689292800-1689379199@www.lasalle.edu
SUMMARY:Summer I Online Grades Due
DESCRIPTION:
URL:https://www.lasalle.edu/event/summer-i-online-grades-due-2/
LOCATION:Online
CATEGORIES:Academic-DAY,Academic-EVE
END:VEVENT
BEGIN:VEVENT
DTSTART;TZID=America/New_York:20230711T000000
DTEND;TZID=America/New_York:20230711T235959
DTSTAMP:20260421T172348
CREATED:20230420T174843Z
LAST-MODIFIED:20230420T174843Z
UID:10001408-1689033600-1689119999@www.lasalle.edu
SUMMARY:Summer II Online Last Day to Add/Drop a Course
DESCRIPTION:
URL:https://www.lasalle.edu/event/summer-ii-online-last-day-to-add-drop-a-course/
LOCATION:Online
CATEGORIES:Academic-DAY,Academic-EVE
END:VEVENT
BEGIN:VEVENT
DTSTART;TZID=America/New_York:20230711T000000
DTEND;TZID=America/New_York:20230711T235959
DTSTAMP:20260421T172348
CREATED:20230420T174843Z
LAST-MODIFIED:20230420T174843Z
UID:10001407-1689033600-1689119999@www.lasalle.edu
SUMMARY:RN-BSN/FNP/ANP ONLINE II Last Day to Drop a Course
DESCRIPTION:
URL:https://www.lasalle.edu/event/rn-bsn-fnp-anp-online-ii-last-day-to-drop-a-course-4/
LOCATION:Online
CATEGORIES:Academic-EVE
END:VEVENT
END:VCALENDAR