BEGIN:VCALENDAR
VERSION:2.0
PRODID:-//La Salle University - ECPv6.15.20//NONSGML v1.0//EN
CALSCALE:GREGORIAN
METHOD:PUBLISH
X-ORIGINAL-URL:https://www.lasalle.edu
X-WR-CALDESC:Events for La Salle University
REFRESH-INTERVAL;VALUE=DURATION:PT1H
X-Robots-Tag:noindex
X-PUBLISHED-TTL:PT1H
BEGIN:VTIMEZONE
TZID:America/New_York
BEGIN:DAYLIGHT
TZOFFSETFROM:-0500
TZOFFSETTO:-0400
TZNAME:EDT
DTSTART:20210314T070000
END:DAYLIGHT
BEGIN:STANDARD
TZOFFSETFROM:-0400
TZOFFSETTO:-0500
TZNAME:EST
DTSTART:20211107T060000
END:STANDARD
BEGIN:DAYLIGHT
TZOFFSETFROM:-0500
TZOFFSETTO:-0400
TZNAME:EDT
DTSTART:20220313T070000
END:DAYLIGHT
BEGIN:STANDARD
TZOFFSETFROM:-0400
TZOFFSETTO:-0500
TZNAME:EST
DTSTART:20221106T060000
END:STANDARD
BEGIN:DAYLIGHT
TZOFFSETFROM:-0500
TZOFFSETTO:-0400
TZNAME:EDT
DTSTART:20230312T070000
END:DAYLIGHT
BEGIN:STANDARD
TZOFFSETFROM:-0400
TZOFFSETTO:-0500
TZNAME:EST
DTSTART:20231105T060000
END:STANDARD
END:VTIMEZONE
BEGIN:VEVENT
DTSTART;TZID=America/New_York:20221012T000000
DTEND;TZID=America/New_York:20221012T235959
DTSTAMP:20260422T103219
CREATED:20230420T150645Z
LAST-MODIFIED:20230420T150645Z
UID:10001183-1665532800-1665619199@www.lasalle.edu
SUMMARY:RN-BSN/FNP/ANP ONLINE II Last Day to Add a Course
DESCRIPTION:
URL:https://www.lasalle.edu/event/rn-bsn-fnp-anp-online-ii-last-day-to-add-a-course-2/
LOCATION:Online
CATEGORIES:Academic-EVE
END:VEVENT
BEGIN:VEVENT
DTSTART;TZID=America/New_York:20221004T000000
DTEND;TZID=America/New_York:20221004T235959
DTSTAMP:20260422T103219
CREATED:20230420T150632Z
LAST-MODIFIED:20230420T150632Z
UID:10001181-1664841600-1664927999@www.lasalle.edu
SUMMARY:MBA ONLINE I Last Day for Withdrawal
DESCRIPTION:
URL:https://www.lasalle.edu/event/mba-online-i-last-day-for-withdrawal-2/
LOCATION:Online
CATEGORIES:Academic-GRAD
END:VEVENT
BEGIN:VEVENT
DTSTART;TZID=America/New_York:20220928T000000
DTEND;TZID=America/New_York:20220928T235959
DTSTAMP:20260422T103219
CREATED:20230420T150617Z
LAST-MODIFIED:20230420T150617Z
UID:10001177-1664323200-1664409599@www.lasalle.edu
SUMMARY:RN-BSN/FNP/ANP ONLINE I Last Day for Withdrawal
DESCRIPTION:
URL:https://www.lasalle.edu/event/rn-bsn-fnp-anp-online-i-last-day-for-withdrawal-2/
LOCATION:Online
CATEGORIES:Academic-EVE
END:VEVENT
BEGIN:VEVENT
DTSTART;TZID=America/New_York:20220907T000000
DTEND;TZID=America/New_York:20220907T235959
DTSTAMP:20260422T103219
CREATED:20230420T150600Z
LAST-MODIFIED:20230420T150600Z
UID:10001168-1662508800-1662595199@www.lasalle.edu
SUMMARY:RN-BSN/FNP/ANP ONLINE I Last Day for Filing P/F Option
DESCRIPTION:
URL:https://www.lasalle.edu/event/rn-bsn-fnp-anp-online-i-last-day-for-filing-p-f-option-2/
LOCATION:Online
CATEGORIES:Academic-EVE
END:VEVENT
BEGIN:VEVENT
DTSTART;TZID=America/New_York:20220902T000000
DTEND;TZID=America/New_York:20220902T235959
DTSTAMP:20260422T103219
CREATED:20230420T150532Z
LAST-MODIFIED:20230420T150532Z
UID:10001161-1662076800-1662163199@www.lasalle.edu
SUMMARY:Summer II Online Grades Due
DESCRIPTION:
URL:https://www.lasalle.edu/event/summer-ii-online-grades-due/
LOCATION:Online
CATEGORIES:Academic-DAY,Academic-EVE
END:VEVENT
BEGIN:VEVENT
DTSTART;TZID=America/New_York:20220902T000000
DTEND;TZID=America/New_York:20220902T235959
DTSTAMP:20260422T103219
CREATED:20230420T150532Z
LAST-MODIFIED:20230420T150532Z
UID:10001162-1662076800-1662163199@www.lasalle.edu
SUMMARY:RN-BSN/FNP/ANP ONLINE II Grades Due
DESCRIPTION:
URL:https://www.lasalle.edu/event/rn-bsn-fnp-anp-online-ii-grades-due/
LOCATION:Online
CATEGORIES:Academic-EVE
END:VEVENT
BEGIN:VEVENT
DTSTART;TZID=America/New_York:20220830T000000
DTEND;TZID=America/New_York:20220830T235959
DTSTAMP:20260422T103219
CREATED:20230420T150531Z
LAST-MODIFIED:20230420T150531Z
UID:10001159-1661817600-1661903999@www.lasalle.edu
SUMMARY:MBA ONLINE I Last Day to Drop a Course
DESCRIPTION:
URL:https://www.lasalle.edu/event/mba-online-i-last-day-to-drop-a-course-2/
LOCATION:Online
CATEGORIES:Academic-GRAD
END:VEVENT
BEGIN:VEVENT
DTSTART;TZID=America/New_York:20220830T000000
DTEND;TZID=America/New_York:20220830T235959
DTSTAMP:20260422T103219
CREATED:20230420T150531Z
LAST-MODIFIED:20230420T150531Z
UID:10001160-1661817600-1661903999@www.lasalle.edu
SUMMARY:RN-BSN/FNP/ANP ONLINE I Last Day to Drop a Course
DESCRIPTION:
URL:https://www.lasalle.edu/event/rn-bsn-fnp-anp-online-i-last-day-to-drop-a-course-2/
LOCATION:Online
CATEGORIES:Academic-EVE
END:VEVENT
BEGIN:VEVENT
DTSTART;TZID=America/New_York:20220829T000000
DTEND;TZID=America/New_York:20220829T235959
DTSTAMP:20260422T103219
CREATED:20230420T150515Z
LAST-MODIFIED:20230420T150515Z
UID:10001153-1661731200-1661817599@www.lasalle.edu
SUMMARY:RN-BSN/FNP/ANP ONLINE Registration for ONLINE II Begin
DESCRIPTION:
URL:https://www.lasalle.edu/event/rn-bsn-fnp-anp-online-registration-for-online-ii-begin-2/
LOCATION:Online
CATEGORIES:Academic-EVE
END:VEVENT
BEGIN:VEVENT
DTSTART;TZID=America/New_York:20220829T000000
DTEND;TZID=America/New_York:20220829T235959
DTSTAMP:20260422T103219
CREATED:20230420T150502Z
LAST-MODIFIED:20230420T150502Z
UID:10001151-1661731200-1661817599@www.lasalle.edu
SUMMARY:MBA ONLINE Registration for ONLINE II Begin
DESCRIPTION:
URL:https://www.lasalle.edu/event/mba-online-registration-for-online-ii-begin/
LOCATION:Online
CATEGORIES:Academic-GRAD
END:VEVENT
BEGIN:VEVENT
DTSTART;TZID=America/New_York:20220829T000000
DTEND;TZID=America/New_York:20220829T235959
DTSTAMP:20260422T103219
CREATED:20230420T150502Z
LAST-MODIFIED:20230420T150502Z
UID:10001152-1661731200-1661817599@www.lasalle.edu
SUMMARY:RN-BSN/FNP/ANP ONLINE I Courses Begin
DESCRIPTION:
URL:https://www.lasalle.edu/event/rn-bsn-fnp-anp-online-i-courses-begin-2/
LOCATION:Online
CATEGORIES:Academic-EVE
END:VEVENT
BEGIN:VEVENT
DTSTART;TZID=America/New_York:20220829T000000
DTEND;TZID=America/New_York:20220829T235959
DTSTAMP:20260422T103219
CREATED:20230420T150501Z
LAST-MODIFIED:20230420T150501Z
UID:10001150-1661731200-1661817599@www.lasalle.edu
SUMMARY:MBA ONLINE I Courses Begin
DESCRIPTION:
URL:https://www.lasalle.edu/event/mba-online-i-courses-begin-2/
LOCATION:Online
CATEGORIES:Academic-GRAD
END:VEVENT
BEGIN:VEVENT
DTSTART;TZID=America/New_York:20220828T000000
DTEND;TZID=America/New_York:20220828T235959
DTSTAMP:20260422T103219
CREATED:20230420T150447Z
LAST-MODIFIED:20230420T150447Z
UID:10001146-1661644800-1661731199@www.lasalle.edu
SUMMARY:Summer II Online Courses End
DESCRIPTION:
URL:https://www.lasalle.edu/event/summer-ii-online-courses-end/
LOCATION:Online
CATEGORIES:Academic-DAY,Academic-EVE
END:VEVENT
BEGIN:VEVENT
DTSTART;TZID=America/New_York:20220828T000000
DTEND;TZID=America/New_York:20220828T235959
DTSTAMP:20260422T103219
CREATED:20230420T150446Z
LAST-MODIFIED:20230420T150446Z
UID:10001145-1661644800-1661731199@www.lasalle.edu
SUMMARY:RN-BSN/FNP/ANP ONLINE II Courses End
DESCRIPTION:
URL:https://www.lasalle.edu/event/rn-bsn-fnp-anp-online-ii-courses-end/
LOCATION:Online
CATEGORIES:Academic-EVE
END:VEVENT
BEGIN:VEVENT
DTSTART;TZID=America/New_York:20220824T000000
DTEND;TZID=America/New_York:20220824T235959
DTSTAMP:20260422T103219
CREATED:20230420T150446Z
LAST-MODIFIED:20230420T150446Z
UID:10001144-1661299200-1661385599@www.lasalle.edu
SUMMARY:RN-BSN/FNP/ANP ONLINE I Last Day to Add a Course
DESCRIPTION:
URL:https://www.lasalle.edu/event/rn-bsn-fnp-anp-online-i-last-day-to-add-a-course-2/
LOCATION:Online
CATEGORIES:Academic-EVE
END:VEVENT
BEGIN:VEVENT
DTSTART;TZID=America/New_York:20220824T000000
DTEND;TZID=America/New_York:20220824T235959
DTSTAMP:20260422T103219
CREATED:20230420T150445Z
LAST-MODIFIED:20230420T150445Z
UID:10001143-1661299200-1661385599@www.lasalle.edu
SUMMARY:MBA ONLINE I Last Day to Add a Course
DESCRIPTION:
URL:https://www.lasalle.edu/event/mba-online-i-last-day-to-add-a-course-2/
LOCATION:Online
CATEGORIES:Academic-GRAD
END:VEVENT
BEGIN:VEVENT
DTSTART;TZID=America/New_York:20220816T000000
DTEND;TZID=America/New_York:20220816T235959
DTSTAMP:20260422T103219
CREATED:20230420T150431Z
LAST-MODIFIED:20230420T150431Z
UID:10001139-1660608000-1660694399@www.lasalle.edu
SUMMARY:12-Week Pre-SLH Online Grades Due
DESCRIPTION:
URL:https://www.lasalle.edu/event/12-week-pre-slh-online-grades-due/
LOCATION:Online
CATEGORIES:Academic-DAY,Academic-EVE
END:VEVENT
BEGIN:VEVENT
DTSTART;TZID=America/New_York:20220811T000000
DTEND;TZID=America/New_York:20220811T235959
DTSTAMP:20260422T103219
CREATED:20230420T150417Z
LAST-MODIFIED:20230420T150417Z
UID:10001136-1660176000-1660262399@www.lasalle.edu
SUMMARY:Summer II Online Last Day for Withdrawal
DESCRIPTION:
URL:https://www.lasalle.edu/event/summer-ii-online-last-day-for-withdrawal/
LOCATION:Online
CATEGORIES:Academic-DAY,Academic-EVE
END:VEVENT
BEGIN:VEVENT
DTSTART;TZID=America/New_York:20220811T000000
DTEND;TZID=America/New_York:20220811T235959
DTSTAMP:20260422T103219
CREATED:20230420T150416Z
LAST-MODIFIED:20230420T150416Z
UID:10001134-1660176000-1660262399@www.lasalle.edu
SUMMARY:12-Week Pre-SLH Online Courses End
DESCRIPTION:
URL:https://www.lasalle.edu/event/12-week-pre-slh-online-courses-end/
LOCATION:Online
CATEGORIES:Academic-DAY,Academic-EVE
END:VEVENT
BEGIN:VEVENT
DTSTART;TZID=America/New_York:20220811T000000
DTEND;TZID=America/New_York:20220811T235959
DTSTAMP:20260422T103219
CREATED:20230420T150416Z
LAST-MODIFIED:20230420T150416Z
UID:10001135-1660176000-1660262399@www.lasalle.edu
SUMMARY:RN-BSN/FNP/ANP ONLINE II Last Day for Withdrawal
DESCRIPTION:
URL:https://www.lasalle.edu/event/rn-bsn-fnp-anp-online-ii-last-day-for-withdrawal/
LOCATION:Online
CATEGORIES:Academic-EVE
END:VEVENT
BEGIN:VEVENT
DTSTART;TZID=America/New_York:20220722T000000
DTEND;TZID=America/New_York:20220722T235959
DTSTAMP:20260422T103219
CREATED:20230420T150344Z
LAST-MODIFIED:20230420T150344Z
UID:10001123-1658448000-1658534399@www.lasalle.edu
SUMMARY:MBA ONLINE I Grades Due
DESCRIPTION:
URL:https://www.lasalle.edu/event/mba-online-i-grades-due/
LOCATION:Online
CATEGORIES:Academic-GRAD
END:VEVENT
BEGIN:VEVENT
DTSTART;TZID=America/New_York:20220720T000000
DTEND;TZID=America/New_York:20220720T235959
DTSTAMP:20260422T103219
CREATED:20230420T150145Z
LAST-MODIFIED:20230420T150145Z
UID:10001120-1658275200-1658361599@www.lasalle.edu
SUMMARY:RN-BSN/FNP/ANP ONLINE II Last Day for Filing P/F Option
DESCRIPTION:
URL:https://www.lasalle.edu/event/rn-bsn-fnp-anp-online-ii-last-day-for-filing-p-f-option/
LOCATION:Online
CATEGORIES:Academic-EVE
END:VEVENT
BEGIN:VEVENT
DTSTART;TZID=America/New_York:20220720T000000
DTEND;TZID=America/New_York:20220720T235959
DTSTAMP:20260422T103219
CREATED:20230420T150145Z
LAST-MODIFIED:20230420T150145Z
UID:10001121-1658275200-1658361599@www.lasalle.edu
SUMMARY:Summer II Online Last Day for Filing P/F Option
DESCRIPTION:
URL:https://www.lasalle.edu/event/summer-ii-online-last-day-for-filing-p-f-option/
LOCATION:Online
CATEGORIES:Academic-DAY,Academic-EVE
END:VEVENT
BEGIN:VEVENT
DTSTART;TZID=America/New_York:20220717T000000
DTEND;TZID=America/New_York:20220717T235959
DTSTAMP:20260422T103219
CREATED:20230420T150145Z
LAST-MODIFIED:20230420T150145Z
UID:10001119-1658016000-1658102399@www.lasalle.edu
SUMMARY:MBA ONLINE I Courses End
DESCRIPTION:
URL:https://www.lasalle.edu/event/mba-online-i-courses-end/
LOCATION:Online
CATEGORIES:Academic-GRAD
END:VEVENT
BEGIN:VEVENT
DTSTART;TZID=America/New_York:20220715T000000
DTEND;TZID=America/New_York:20220715T235959
DTSTAMP:20260422T103219
CREATED:20230420T150055Z
LAST-MODIFIED:20230420T150055Z
UID:10001116-1657843200-1657929599@www.lasalle.edu
SUMMARY:12-Week Pre-SLH Online Last Day for Withdrawal
DESCRIPTION:
URL:https://www.lasalle.edu/event/12-week-pre-slh-online-last-day-for-withdrawal/
LOCATION:Online
CATEGORIES:Academic-DAY,Academic-EVE
END:VEVENT
BEGIN:VEVENT
DTSTART;TZID=America/New_York:20220715T000000
DTEND;TZID=America/New_York:20220715T235959
DTSTAMP:20260422T103219
CREATED:20230420T150054Z
LAST-MODIFIED:20230420T150054Z
UID:10001114-1657843200-1657929599@www.lasalle.edu
SUMMARY:RN-BSN/FNP/ANP ONLINE I Grades Due
DESCRIPTION:
URL:https://www.lasalle.edu/event/rn-bsn-fnp-anp-online-i-grades-due/
LOCATION:Online
CATEGORIES:Academic-EVE
END:VEVENT
BEGIN:VEVENT
DTSTART;TZID=America/New_York:20220715T000000
DTEND;TZID=America/New_York:20220715T235959
DTSTAMP:20260422T103219
CREATED:20230420T150054Z
LAST-MODIFIED:20230420T150054Z
UID:10001115-1657843200-1657929599@www.lasalle.edu
SUMMARY:Summer I Online Grades Due
DESCRIPTION:
URL:https://www.lasalle.edu/event/summer-i-online-grades-due/
LOCATION:Online
CATEGORIES:Academic-DAY,Academic-EVE
END:VEVENT
BEGIN:VEVENT
DTSTART;TZID=America/New_York:20220712T000000
DTEND;TZID=America/New_York:20220712T235959
DTSTAMP:20260422T103219
CREATED:20230420T145854Z
LAST-MODIFIED:20230420T145854Z
UID:10001111-1657584000-1657670399@www.lasalle.edu
SUMMARY:RN-BSN/FNP/ANP ONLINE II Last Day to Drop a Course
DESCRIPTION:
URL:https://www.lasalle.edu/event/rn-bsn-fnp-anp-online-ii-last-day-to-drop-a-course/
LOCATION:Online
CATEGORIES:Academic-EVE
END:VEVENT
BEGIN:VEVENT
DTSTART;TZID=America/New_York:20220712T000000
DTEND;TZID=America/New_York:20220712T235959
DTSTAMP:20260422T103219
CREATED:20230420T145854Z
LAST-MODIFIED:20230420T145854Z
UID:10001112-1657584000-1657670399@www.lasalle.edu
SUMMARY:Summer II Online Last Day for Registration and Change of Roster
DESCRIPTION:
URL:https://www.lasalle.edu/event/summer-ii-online-last-day-for-registration-and-change-of-roster/
LOCATION:Online
CATEGORIES:Academic-DAY,Academic-EVE
END:VEVENT
BEGIN:VEVENT
DTSTART;TZID=America/New_York:20220711T000000
DTEND;TZID=America/New_York:20220711T235959
DTSTAMP:20260422T103219
CREATED:20230420T145853Z
LAST-MODIFIED:20230420T145853Z
UID:10001109-1657497600-1657583999@www.lasalle.edu
SUMMARY:RN-BSN/FNP/ANP ONLINE II Courses Begin
DESCRIPTION:
URL:https://www.lasalle.edu/event/rn-bsn-fnp-anp-online-ii-courses-begin/
LOCATION:Online
CATEGORIES:Academic-EVE
END:VEVENT
END:VCALENDAR