BEGIN:VCALENDAR
VERSION:2.0
PRODID:-//La Salle University - ECPv6.15.20//NONSGML v1.0//EN
CALSCALE:GREGORIAN
METHOD:PUBLISH
X-WR-CALNAME:La Salle University
X-ORIGINAL-URL:https://www.lasalle.edu
X-WR-CALDESC:Events for La Salle University
REFRESH-INTERVAL;VALUE=DURATION:PT1H
X-Robots-Tag:noindex
X-PUBLISHED-TTL:PT1H
BEGIN:VTIMEZONE
TZID:America/New_York
BEGIN:DAYLIGHT
TZOFFSETFROM:-0500
TZOFFSETTO:-0400
TZNAME:EDT
DTSTART:20240310T070000
END:DAYLIGHT
BEGIN:STANDARD
TZOFFSETFROM:-0400
TZOFFSETTO:-0500
TZNAME:EST
DTSTART:20241103T060000
END:STANDARD
BEGIN:DAYLIGHT
TZOFFSETFROM:-0500
TZOFFSETTO:-0400
TZNAME:EDT
DTSTART:20250309T070000
END:DAYLIGHT
BEGIN:STANDARD
TZOFFSETFROM:-0400
TZOFFSETTO:-0500
TZNAME:EST
DTSTART:20251102T060000
END:STANDARD
BEGIN:DAYLIGHT
TZOFFSETFROM:-0500
TZOFFSETTO:-0400
TZNAME:EDT
DTSTART:20260308T070000
END:DAYLIGHT
BEGIN:STANDARD
TZOFFSETFROM:-0400
TZOFFSETTO:-0500
TZNAME:EST
DTSTART:20261101T060000
END:STANDARD
END:VTIMEZONE
BEGIN:VEVENT
DTSTART;TZID=America/New_York:20250305T000000
DTEND;TZID=America/New_York:20250305T235959
DTSTAMP:20260420T180821
CREATED:20240822T214729Z
LAST-MODIFIED:20240822T214729Z
UID:10003235-1741132800-1741219199@www.lasalle.edu
SUMMARY:MBA ONLINE II Last Day to Add a Course
DESCRIPTION:
URL:https://www.lasalle.edu/event/mba-online-ii-last-day-to-add-a-course-12/
LOCATION:Online
CATEGORIES:Academic-GRAD
END:VEVENT
BEGIN:VEVENT
DTSTART;TZID=America/New_York:20250305T000000
DTEND;TZID=America/New_York:20250305T235959
DTSTAMP:20260420T180821
CREATED:20240118T172937Z
LAST-MODIFIED:20240118T172937Z
UID:10002449-1741132800-1741219199@www.lasalle.edu
SUMMARY:MBA ONLINE II Last Day to Add a Course
DESCRIPTION:
URL:https://www.lasalle.edu/event/mba-online-ii-last-day-to-add-a-course-9/
LOCATION:Online
CATEGORIES:Academic-GRAD
END:VEVENT
BEGIN:VEVENT
DTSTART;TZID=America/New_York:20250304T000000
DTEND;TZID=America/New_York:20250304T235959
DTSTAMP:20260420T180821
CREATED:20240822T214727Z
LAST-MODIFIED:20240822T214727Z
UID:10003233-1741046400-1741132799@www.lasalle.edu
SUMMARY:RN-BSN/FNP/ANP ONLINE II Last Day to Drop a Course
DESCRIPTION:
URL:https://www.lasalle.edu/event/rn-bsn-fnp-anp-online-ii-last-day-to-drop-a-course-12/
LOCATION:Online
CATEGORIES:Academic-EVE
END:VEVENT
BEGIN:VEVENT
DTSTART;TZID=America/New_York:20250304T000000
DTEND;TZID=America/New_York:20250304T235959
DTSTAMP:20260420T180821
CREATED:20240118T172935Z
LAST-MODIFIED:20240118T172935Z
UID:10002447-1741046400-1741132799@www.lasalle.edu
SUMMARY:RN-BSN/FNP/ANP ONLINE II Last Day to Drop a Course
DESCRIPTION:
URL:https://www.lasalle.edu/event/rn-bsn-fnp-anp-online-ii-last-day-to-drop-a-course-9/
LOCATION:Online
CATEGORIES:Academic-EVE
END:VEVENT
BEGIN:VEVENT
DTSTART;TZID=America/New_York:20250303T000000
DTEND;TZID=America/New_York:20250303T235959
DTSTAMP:20260420T180821
CREATED:20240822T214726Z
LAST-MODIFIED:20240822T214726Z
UID:10003231-1740960000-1741046399@www.lasalle.edu
SUMMARY:RN-BSN/FNP/ANP ONLINE II Courses Begin
DESCRIPTION:
URL:https://www.lasalle.edu/event/rn-bsn-fnp-anp-online-ii-courses-begin-12/
LOCATION:Online
CATEGORIES:Academic-EVE
END:VEVENT
BEGIN:VEVENT
DTSTART;TZID=America/New_York:20250303T000000
DTEND;TZID=America/New_York:20250303T235959
DTSTAMP:20260420T180821
CREATED:20240118T172933Z
LAST-MODIFIED:20240118T172933Z
UID:10002445-1740960000-1741046399@www.lasalle.edu
SUMMARY:RN-BSN/FNP/ANP ONLINE II Courses Begin
DESCRIPTION:
URL:https://www.lasalle.edu/event/rn-bsn-fnp-anp-online-ii-courses-begin-9/
LOCATION:Online
CATEGORIES:Academic-EVE
END:VEVENT
BEGIN:VEVENT
DTSTART;TZID=America/New_York:20250301T000000
DTEND;TZID=America/New_York:20250301T235959
DTSTAMP:20260420T180821
CREATED:20240822T214353Z
LAST-MODIFIED:20240822T214353Z
UID:10003229-1740787200-1740873599@www.lasalle.edu
SUMMARY:RN-BSN/FNP/ANP ONLINE I Courses End
DESCRIPTION:
URL:https://www.lasalle.edu/event/rn-bsn-fnp-anp-online-i-courses-end-10/
LOCATION:Online
CATEGORIES:Academic-EVE
END:VEVENT
BEGIN:VEVENT
DTSTART;TZID=America/New_York:20250301T000000
DTEND;TZID=America/New_York:20250301T235959
DTSTAMP:20260420T180821
CREATED:20240118T172930Z
LAST-MODIFIED:20240118T172930Z
UID:10002443-1740787200-1740873599@www.lasalle.edu
SUMMARY:RN-BSN/FNP/ANP ONLINE I Courses End
DESCRIPTION:
URL:https://www.lasalle.edu/event/rn-bsn-fnp-anp-online-i-courses-end-8/
LOCATION:Online
CATEGORIES:Academic-EVE
END:VEVENT
BEGIN:VEVENT
DTSTART;TZID=America/New_York:20250227T000000
DTEND;TZID=America/New_York:20250227T235959
DTSTAMP:20260420T180821
CREATED:20240822T214154Z
LAST-MODIFIED:20240822T214154Z
UID:10003225-1740614400-1740700799@www.lasalle.edu
SUMMARY:RN-BSN/FNP/ANP ONLINE II Last Day to Add a Course
DESCRIPTION:
URL:https://www.lasalle.edu/event/rn-bsn-fnp-anp-online-ii-last-day-to-add-a-course-12/
LOCATION:Online
CATEGORIES:Academic-EVE
END:VEVENT
BEGIN:VEVENT
DTSTART;TZID=America/New_York:20250227T000000
DTEND;TZID=America/New_York:20250227T235959
DTSTAMP:20260420T180821
CREATED:20240118T172925Z
LAST-MODIFIED:20240118T172925Z
UID:10002439-1740614400-1740700799@www.lasalle.edu
SUMMARY:RN-BSN/FNP/ANP ONLINE II Last Day to Add a Course
DESCRIPTION:
URL:https://www.lasalle.edu/event/rn-bsn-fnp-anp-online-ii-last-day-to-add-a-course-9/
LOCATION:Online
CATEGORIES:Academic-EVE
END:VEVENT
BEGIN:VEVENT
DTSTART;TZID=America/New_York:20250219T000000
DTEND;TZID=America/New_York:20250219T235959
DTSTAMP:20260420T180821
CREATED:20240822T214153Z
LAST-MODIFIED:20240822T214153Z
UID:10003224-1739923200-1740009599@www.lasalle.edu
SUMMARY:MBA ONLINE I Last Day for Withdrawal
DESCRIPTION:
URL:https://www.lasalle.edu/event/mba-online-i-last-day-for-withdrawal-12/
LOCATION:Online
CATEGORIES:Academic-GRAD
END:VEVENT
BEGIN:VEVENT
DTSTART;TZID=America/New_York:20250219T000000
DTEND;TZID=America/New_York:20250219T235959
DTSTAMP:20260420T180821
CREATED:20240118T172924Z
LAST-MODIFIED:20240118T172924Z
UID:10002438-1739923200-1740009599@www.lasalle.edu
SUMMARY:MBA ONLINE I Last Day for Withdrawal
DESCRIPTION:
URL:https://www.lasalle.edu/event/mba-online-i-last-day-for-withdrawal-9/
LOCATION:Online
CATEGORIES:Academic-GRAD
END:VEVENT
BEGIN:VEVENT
DTSTART;TZID=America/New_York:20250215T000000
DTEND;TZID=America/New_York:20250215T235959
DTSTAMP:20260420T180821
CREATED:20240822T214152Z
LAST-MODIFIED:20240822T214152Z
UID:10003222-1739577600-1739663999@www.lasalle.edu
SUMMARY:RN-BSN/FNP/ANP ONLINE I Last Day for Withdrawal
DESCRIPTION:
URL:https://www.lasalle.edu/event/rn-bsn-fnp-anp-online-i-last-day-for-withdrawal-12/
LOCATION:Online
CATEGORIES:Academic-EVE
END:VEVENT
BEGIN:VEVENT
DTSTART;TZID=America/New_York:20250215T000000
DTEND;TZID=America/New_York:20250215T235959
DTSTAMP:20260420T180821
CREATED:20240118T172922Z
LAST-MODIFIED:20240118T172922Z
UID:10002436-1739577600-1739663999@www.lasalle.edu
SUMMARY:RN-BSN/FNP/ANP ONLINE I Last Day for Withdrawal
DESCRIPTION:
URL:https://www.lasalle.edu/event/rn-bsn-fnp-anp-online-i-last-day-for-withdrawal-9/
LOCATION:Online
CATEGORIES:Academic-EVE
END:VEVENT
BEGIN:VEVENT
DTSTART;TZID=America/New_York:20250123T000000
DTEND;TZID=America/New_York:20250123T235959
DTSTAMP:20260420T180821
CREATED:20240822T213953Z
LAST-MODIFIED:20240822T213953Z
UID:10003218-1737590400-1737676799@www.lasalle.edu
SUMMARY:RN-BSN/FNP/ANP ONLINE I Last Day for Filing P/F Option
DESCRIPTION:
URL:https://www.lasalle.edu/event/rn-bsn-fnp-anp-online-i-last-day-for-filing-p-f-option-12/
LOCATION:Online
CATEGORIES:Academic-EVE
END:VEVENT
BEGIN:VEVENT
DTSTART;TZID=America/New_York:20250123T000000
DTEND;TZID=America/New_York:20250123T235959
DTSTAMP:20260420T180821
CREATED:20240118T172915Z
LAST-MODIFIED:20240118T172915Z
UID:10002432-1737590400-1737676799@www.lasalle.edu
SUMMARY:RN-BSN/FNP/ANP ONLINE I Last Day for Filing P/F Option
DESCRIPTION:
URL:https://www.lasalle.edu/event/rn-bsn-fnp-anp-online-i-last-day-for-filing-p-f-option-9/
LOCATION:Online
CATEGORIES:Academic-EVE
END:VEVENT
BEGIN:VEVENT
DTSTART;TZID=America/New_York:20250114T000000
DTEND;TZID=America/New_York:20250114T235959
DTSTAMP:20260420T180821
CREATED:20240822T213752Z
LAST-MODIFIED:20240822T213752Z
UID:10003212-1736812800-1736899199@www.lasalle.edu
SUMMARY:RN-BSN/FNP/ANP ONLINE I Last Day to Drop a Course
DESCRIPTION:
URL:https://www.lasalle.edu/event/rn-bsn-fnp-anp-online-i-last-day-to-drop-a-course-13/
LOCATION:Online
CATEGORIES:Academic-EVE
END:VEVENT
BEGIN:VEVENT
DTSTART;TZID=America/New_York:20250114T000000
DTEND;TZID=America/New_York:20250114T235959
DTSTAMP:20260420T180821
CREATED:20240822T213751Z
LAST-MODIFIED:20240822T213751Z
UID:10003211-1736812800-1736899199@www.lasalle.edu
SUMMARY:MBA ONLINE I Last Day to Drop a Course
DESCRIPTION:
URL:https://www.lasalle.edu/event/mba-online-i-last-day-to-drop-a-course-13/
LOCATION:Online
CATEGORIES:Academic-GRAD
END:VEVENT
BEGIN:VEVENT
DTSTART;TZID=America/New_York:20250114T000000
DTEND;TZID=America/New_York:20250114T235959
DTSTAMP:20260420T180821
CREATED:20240118T172906Z
LAST-MODIFIED:20240118T172906Z
UID:10002426-1736812800-1736899199@www.lasalle.edu
SUMMARY:RN-BSN/FNP/ANP ONLINE I Last Day to Drop a Course
DESCRIPTION:
URL:https://www.lasalle.edu/event/rn-bsn-fnp-anp-online-i-last-day-to-drop-a-course-10/
LOCATION:Online
CATEGORIES:Academic-EVE
END:VEVENT
BEGIN:VEVENT
DTSTART;TZID=America/New_York:20250114T000000
DTEND;TZID=America/New_York:20250114T235959
DTSTAMP:20260420T180821
CREATED:20240118T172905Z
LAST-MODIFIED:20240118T172905Z
UID:10002425-1736812800-1736899199@www.lasalle.edu
SUMMARY:MBA ONLINE I Last Day to Drop a Course
DESCRIPTION:
URL:https://www.lasalle.edu/event/mba-online-i-last-day-to-drop-a-course-10/
LOCATION:Online
CATEGORIES:Academic-GRAD
END:VEVENT
BEGIN:VEVENT
DTSTART;TZID=America/New_York:20250113T000000
DTEND;TZID=America/New_York:20250113T235959
DTSTAMP:20260420T180821
CREATED:20240822T213552Z
LAST-MODIFIED:20240822T213552Z
UID:10003207-1736726400-1736812799@www.lasalle.edu
SUMMARY:RN-BSN/FNP/ANP ONLINE Registration for ONLINE II Begins
DESCRIPTION:
URL:https://www.lasalle.edu/event/rn-bsn-fnp-anp-online-registration-for-online-ii-begins-3/
LOCATION:Online
CATEGORIES:Academic-EVE
END:VEVENT
BEGIN:VEVENT
DTSTART;TZID=America/New_York:20250113T000000
DTEND;TZID=America/New_York:20250113T235959
DTSTAMP:20260420T180821
CREATED:20240822T213551Z
LAST-MODIFIED:20240822T213551Z
UID:10003206-1736726400-1736812799@www.lasalle.edu
SUMMARY:RN-BSN/FNP/ANP ONLINE I Courses Begin
DESCRIPTION:
URL:https://www.lasalle.edu/event/rn-bsn-fnp-anp-online-i-courses-begin-11/
LOCATION:Online
CATEGORIES:Academic-EVE
END:VEVENT
BEGIN:VEVENT
DTSTART;TZID=America/New_York:20250113T000000
DTEND;TZID=America/New_York:20250113T235959
DTSTAMP:20260420T180821
CREATED:20240822T213539Z
LAST-MODIFIED:20240822T213539Z
UID:10003205-1736726400-1736812799@www.lasalle.edu
SUMMARY:MBA ONLINE Registration for ONLINE II Begin
DESCRIPTION:
URL:https://www.lasalle.edu/event/mba-online-registration-for-online-ii-begin-8/
LOCATION:Online
CATEGORIES:Academic-GRAD
END:VEVENT
BEGIN:VEVENT
DTSTART;TZID=America/New_York:20250113T000000
DTEND;TZID=America/New_York:20250113T235959
DTSTAMP:20260420T180821
CREATED:20240822T213538Z
LAST-MODIFIED:20240822T213538Z
UID:10003204-1736726400-1736812799@www.lasalle.edu
SUMMARY:MBA ONLINE I Courses Begin
DESCRIPTION:
URL:https://www.lasalle.edu/event/mba-online-i-courses-begin-12/
LOCATION:Online
CATEGORIES:Academic-GRAD
END:VEVENT
BEGIN:VEVENT
DTSTART;TZID=America/New_York:20250113T000000
DTEND;TZID=America/New_York:20250113T235959
DTSTAMP:20260420T180821
CREATED:20240118T172900Z
LAST-MODIFIED:20240118T172900Z
UID:10002421-1736726400-1736812799@www.lasalle.edu
SUMMARY:RN-BSN/FNP/ANP ONLINE Registration for ONLINE II Begins
DESCRIPTION:
URL:https://www.lasalle.edu/event/rn-bsn-fnp-anp-online-registration-for-online-ii-begins-2/
LOCATION:Online
CATEGORIES:Academic-EVE
END:VEVENT
BEGIN:VEVENT
DTSTART;TZID=America/New_York:20250113T000000
DTEND;TZID=America/New_York:20250113T235959
DTSTAMP:20260420T180821
CREATED:20240118T172859Z
LAST-MODIFIED:20240118T172859Z
UID:10002420-1736726400-1736812799@www.lasalle.edu
SUMMARY:RN-BSN/FNP/ANP ONLINE I Courses Begin
DESCRIPTION:
URL:https://www.lasalle.edu/event/rn-bsn-fnp-anp-online-i-courses-begin-9/
LOCATION:Online
CATEGORIES:Academic-EVE
END:VEVENT
BEGIN:VEVENT
DTSTART;TZID=America/New_York:20250113T000000
DTEND;TZID=America/New_York:20250113T235959
DTSTAMP:20260420T180821
CREATED:20240118T172855Z
LAST-MODIFIED:20240118T172855Z
UID:10002416-1736726400-1736812799@www.lasalle.edu
SUMMARY:RN-BSN/FNP/ANP ONLINE Registration for ONLINE II Begins
DESCRIPTION:
URL:https://www.lasalle.edu/event/rn-bsn-fnp-anp-online-registration-for-online-ii-begins/
LOCATION:Online
CATEGORIES:Academic-EVE
END:VEVENT
BEGIN:VEVENT
DTSTART;TZID=America/New_York:20250113T000000
DTEND;TZID=America/New_York:20250113T235959
DTSTAMP:20260420T180821
CREATED:20240118T172854Z
LAST-MODIFIED:20240118T172854Z
UID:10002415-1736726400-1736812799@www.lasalle.edu
SUMMARY:RN-BSN/FNP/ANP ONLINE I Courses Begin
DESCRIPTION:
URL:https://www.lasalle.edu/event/rn-bsn-fnp-anp-online-i-courses-begin-8/
LOCATION:Online
CATEGORIES:Academic-EVE
END:VEVENT
BEGIN:VEVENT
DTSTART;TZID=America/New_York:20250113T000000
DTEND;TZID=America/New_York:20250113T235959
DTSTAMP:20260420T180821
CREATED:20240118T172847Z
LAST-MODIFIED:20240118T172847Z
UID:10002414-1736726400-1736812799@www.lasalle.edu
SUMMARY:MBA ONLINE Registration for ONLINE II Begin
DESCRIPTION:
URL:https://www.lasalle.edu/event/mba-online-registration-for-online-ii-begin-6/
LOCATION:Online
CATEGORIES:Academic-GRAD
END:VEVENT
BEGIN:VEVENT
DTSTART;TZID=America/New_York:20250113T000000
DTEND;TZID=America/New_York:20250113T235959
DTSTAMP:20260420T180821
CREATED:20240118T172846Z
LAST-MODIFIED:20240118T172846Z
UID:10002413-1736726400-1736812799@www.lasalle.edu
SUMMARY:MBA ONLINE I Courses Begin
DESCRIPTION:
URL:https://www.lasalle.edu/event/mba-online-i-courses-begin-9/
LOCATION:Online
CATEGORIES:Academic-GRAD
END:VEVENT
END:VCALENDAR