BEGIN:VCALENDAR
VERSION:2.0
PRODID:-//La Salle University - ECPv6.15.20//NONSGML v1.0//EN
CALSCALE:GREGORIAN
METHOD:PUBLISH
X-WR-CALNAME:La Salle University
X-ORIGINAL-URL:https://www.lasalle.edu
X-WR-CALDESC:Events for La Salle University
REFRESH-INTERVAL;VALUE=DURATION:PT1H
X-Robots-Tag:noindex
X-PUBLISHED-TTL:PT1H
BEGIN:VTIMEZONE
TZID:America/New_York
BEGIN:DAYLIGHT
TZOFFSETFROM:-0500
TZOFFSETTO:-0400
TZNAME:EDT
DTSTART:20210314T070000
END:DAYLIGHT
BEGIN:STANDARD
TZOFFSETFROM:-0400
TZOFFSETTO:-0500
TZNAME:EST
DTSTART:20211107T060000
END:STANDARD
BEGIN:DAYLIGHT
TZOFFSETFROM:-0500
TZOFFSETTO:-0400
TZNAME:EDT
DTSTART:20220313T070000
END:DAYLIGHT
BEGIN:STANDARD
TZOFFSETFROM:-0400
TZOFFSETTO:-0500
TZNAME:EST
DTSTART:20221106T060000
END:STANDARD
BEGIN:DAYLIGHT
TZOFFSETFROM:-0500
TZOFFSETTO:-0400
TZNAME:EDT
DTSTART:20230312T070000
END:DAYLIGHT
BEGIN:STANDARD
TZOFFSETFROM:-0400
TZOFFSETTO:-0500
TZNAME:EST
DTSTART:20231105T060000
END:STANDARD
END:VTIMEZONE
BEGIN:VEVENT
DTSTART;TZID=America/New_York:20220623T000000
DTEND;TZID=America/New_York:20220623T235959
DTSTAMP:20260422T174854
CREATED:20230420T145425Z
LAST-MODIFIED:20230420T145425Z
UID:10001095-1655942400-1656028799@www.lasalle.edu
SUMMARY:RN-BSN/FNP/ANP ONLINE I Last Day for Withdrawal
DESCRIPTION:
URL:https://www.lasalle.edu/event/rn-bsn-fnp-anp-online-i-last-day-for-withdrawal/
LOCATION:Online
CATEGORIES:Academic-EVE
END:VEVENT
BEGIN:VEVENT
DTSTART;TZID=America/New_York:20220608T000000
DTEND;TZID=America/New_York:20220608T235959
DTSTAMP:20260422T174854
CREATED:20230420T145225Z
LAST-MODIFIED:20230420T145225Z
UID:10001092-1654646400-1654732799@www.lasalle.edu
SUMMARY:12-Week Pre-SLH Online Last Day for Filing P/F Option
DESCRIPTION:
URL:https://www.lasalle.edu/event/12-week-pre-slh-online-last-day-for-filing-p-f-option/
LOCATION:Online
CATEGORIES:Academic-DAY,Academic-EVE
END:VEVENT
BEGIN:VEVENT
DTSTART;TZID=America/New_York:20220602T000000
DTEND;TZID=America/New_York:20220602T235959
DTSTAMP:20260422T174854
CREATED:20230420T145024Z
LAST-MODIFIED:20230420T145024Z
UID:10001086-1654128000-1654214399@www.lasalle.edu
SUMMARY:RN-BSN/FNP/ANP ONLINE I Last Day for Filing P/F Option
DESCRIPTION:
URL:https://www.lasalle.edu/event/rn-bsn-fnp-anp-online-i-last-day-for-filing-p-f-option/
LOCATION:Online
CATEGORIES:Academic-EVE
END:VEVENT
BEGIN:VEVENT
DTSTART;TZID=America/New_York:20220602T000000
DTEND;TZID=America/New_York:20220602T235959
DTSTAMP:20260422T174854
CREATED:20230420T145024Z
LAST-MODIFIED:20230420T145024Z
UID:10001087-1654128000-1654214399@www.lasalle.edu
SUMMARY:Summer I Online Last Day for Filing P/F Option
DESCRIPTION:
URL:https://www.lasalle.edu/event/summer-i-online-last-day-for-filing-p-f-option/
LOCATION:Online
CATEGORIES:Academic-DAY,Academic-EVE
END:VEVENT
BEGIN:VEVENT
DTSTART;TZID=America/New_York:20220529T000000
DTEND;TZID=America/New_York:20220529T235959
DTSTAMP:20260422T174854
CREATED:20230420T144823Z
LAST-MODIFIED:20230420T144823Z
UID:10001081-1653782400-1653868799@www.lasalle.edu
SUMMARY:12-Week Pre-SLH Online Last Day for Registration and Change of Roster
DESCRIPTION:
URL:https://www.lasalle.edu/event/12-week-pre-slh-online-last-day-for-registration-and-change-of-roster/
LOCATION:Online
CATEGORIES:Academic-DAY,Academic-EVE
END:VEVENT
BEGIN:VEVENT
DTSTART;TZID=America/New_York:20220525T000000
DTEND;TZID=America/New_York:20220525T235959
DTSTAMP:20260422T174854
CREATED:20230420T144622Z
LAST-MODIFIED:20230420T144622Z
UID:10001076-1653436800-1653523199@www.lasalle.edu
SUMMARY:MBA ONLINE I Last Day to Drop a Course
DESCRIPTION:
URL:https://www.lasalle.edu/event/mba-online-i-last-day-to-drop-a-course/
LOCATION:Online
CATEGORIES:Academic-GRAD
END:VEVENT
BEGIN:VEVENT
DTSTART;TZID=America/New_York:20220524T000000
DTEND;TZID=America/New_York:20220524T235959
DTSTAMP:20260422T174854
CREATED:20230420T144822Z
LAST-MODIFIED:20230420T144822Z
UID:10001079-1653350400-1653436799@www.lasalle.edu
SUMMARY:Summer I Online Last Day for Registration and Change of Roster
DESCRIPTION:
URL:https://www.lasalle.edu/event/summer-i-online-last-day-for-registration-and-change-of-roster/
LOCATION:Online
CATEGORIES:Academic-DAY,Academic-EVE
END:VEVENT
BEGIN:VEVENT
DTSTART;TZID=America/New_York:20220524T000000
DTEND;TZID=America/New_York:20220524T235959
DTSTAMP:20260422T174854
CREATED:20230420T144622Z
LAST-MODIFIED:20230420T144622Z
UID:10001077-1653350400-1653436799@www.lasalle.edu
SUMMARY:RN-BSN/FNP/ANP ONLINE I Last Day to Drop a Course
DESCRIPTION:
URL:https://www.lasalle.edu/event/rn-bsn-fnp-anp-online-i-last-day-to-drop-a-course/
LOCATION:Online
CATEGORIES:Academic-EVE
END:VEVENT
BEGIN:VEVENT
DTSTART;TZID=America/New_York:20220523T000000
DTEND;TZID=America/New_York:20220523T235959
DTSTAMP:20260422T174854
CREATED:20230420T144620Z
LAST-MODIFIED:20230420T144620Z
UID:10001073-1653264000-1653350399@www.lasalle.edu
SUMMARY:Summer I Online Courses Begin
DESCRIPTION:
URL:https://www.lasalle.edu/event/summer-i-online-courses-begin/
LOCATION:Online
CATEGORIES:Academic-DAY,Academic-EVE
END:VEVENT
BEGIN:VEVENT
DTSTART;TZID=America/New_York:20220523T000000
DTEND;TZID=America/New_York:20220523T235959
DTSTAMP:20260422T174854
CREATED:20230420T144604Z
LAST-MODIFIED:20230420T144604Z
UID:10001069-1653264000-1653350399@www.lasalle.edu
SUMMARY:RN-BSN/FNP/ANP ONLINE I Courses Begin
DESCRIPTION:
URL:https://www.lasalle.edu/event/rn-bsn-fnp-anp-online-i-courses-begin/
LOCATION:Online
CATEGORIES:Academic-EVE
END:VEVENT
BEGIN:VEVENT
DTSTART;TZID=America/New_York:20220523T000000
DTEND;TZID=America/New_York:20220523T235959
DTSTAMP:20260422T174854
CREATED:20230420T144604Z
LAST-MODIFIED:20230420T144604Z
UID:10001070-1653264000-1653350399@www.lasalle.edu
SUMMARY:RN-BSN/FNP/ANP ONLINE Registration for ONLINE II Begin
DESCRIPTION:
URL:https://www.lasalle.edu/event/rn-bsn-fnp-anp-online-registration-for-online-ii-begin/
LOCATION:Online
CATEGORIES:Academic-EVE
END:VEVENT
BEGIN:VEVENT
DTSTART;TZID=America/New_York:20220523T000000
DTEND;TZID=America/New_York:20220523T235959
DTSTAMP:20260422T174854
CREATED:20230420T144603Z
LAST-MODIFIED:20230420T144603Z
UID:10001068-1653264000-1653350399@www.lasalle.edu
SUMMARY:MBA ONLINE I Courses Begin
DESCRIPTION:
URL:https://www.lasalle.edu/event/mba-online-i-courses-begin/
LOCATION:Online
CATEGORIES:Academic-GRAD
END:VEVENT
BEGIN:VEVENT
DTSTART;TZID=America/New_York:20220523T000000
DTEND;TZID=America/New_York:20220523T235959
DTSTAMP:20260422T174854
CREATED:20230420T144601Z
LAST-MODIFIED:20230420T144601Z
UID:10001066-1653264000-1653350399@www.lasalle.edu
SUMMARY:12-Week Pre-SLH Online Courses Begin
DESCRIPTION:
URL:https://www.lasalle.edu/event/12-week-pre-slh-online-courses-begin/
LOCATION:Online
CATEGORIES:Academic-DAY,Academic-EVE
END:VEVENT
BEGIN:VEVENT
DTSTART;TZID=America/New_York:20220518T000000
DTEND;TZID=America/New_York:20220518T235959
DTSTAMP:20260422T174855
CREATED:20230420T144601Z
LAST-MODIFIED:20230420T144601Z
UID:10001064-1652832000-1652918399@www.lasalle.edu
SUMMARY:RN-BSN/FNP/ANP ONLINE I Last Day to Add a Course
DESCRIPTION:
URL:https://www.lasalle.edu/event/rn-bsn-fnp-anp-online-i-last-day-to-add-a-course/
LOCATION:Online
CATEGORIES:Academic-EVE
END:VEVENT
BEGIN:VEVENT
DTSTART;TZID=America/New_York:20220518T000000
DTEND;TZID=America/New_York:20220518T235959
DTSTAMP:20260422T174855
CREATED:20230420T144600Z
LAST-MODIFIED:20230420T144600Z
UID:10001063-1652832000-1652918399@www.lasalle.edu
SUMMARY:MBA ONLINE I Last Day to Add a Course
DESCRIPTION:
URL:https://www.lasalle.edu/event/mba-online-i-last-day-to-add-a-course/
LOCATION:Online
CATEGORIES:Academic-GRAD
END:VEVENT
END:VCALENDAR