BEGIN:VCALENDAR
VERSION:2.0
PRODID:-//La Salle University - ECPv6.15.20//NONSGML v1.0//EN
CALSCALE:GREGORIAN
METHOD:PUBLISH
X-ORIGINAL-URL:https://www.lasalle.edu
X-WR-CALDESC:Events for La Salle University
REFRESH-INTERVAL;VALUE=DURATION:PT1H
X-Robots-Tag:noindex
X-PUBLISHED-TTL:PT1H
BEGIN:VTIMEZONE
TZID:America/New_York
BEGIN:DAYLIGHT
TZOFFSETFROM:-0500
TZOFFSETTO:-0400
TZNAME:EDT
DTSTART:20230312T070000
END:DAYLIGHT
BEGIN:STANDARD
TZOFFSETFROM:-0400
TZOFFSETTO:-0500
TZNAME:EST
DTSTART:20231105T060000
END:STANDARD
BEGIN:DAYLIGHT
TZOFFSETFROM:-0500
TZOFFSETTO:-0400
TZNAME:EDT
DTSTART:20240310T070000
END:DAYLIGHT
BEGIN:STANDARD
TZOFFSETFROM:-0400
TZOFFSETTO:-0500
TZNAME:EST
DTSTART:20241103T060000
END:STANDARD
BEGIN:DAYLIGHT
TZOFFSETFROM:-0500
TZOFFSETTO:-0400
TZNAME:EDT
DTSTART:20250309T070000
END:DAYLIGHT
BEGIN:STANDARD
TZOFFSETFROM:-0400
TZOFFSETTO:-0500
TZNAME:EST
DTSTART:20251102T060000
END:STANDARD
END:VTIMEZONE
BEGIN:VEVENT
DTSTART;TZID=America/New_York:20241026T000000
DTEND;TZID=America/New_York:20241026T235959
DTSTAMP:20260420T231656
CREATED:20240822T212715Z
LAST-MODIFIED:20240822T212715Z
UID:10003152-1729900800-1729987199@www.lasalle.edu
SUMMARY:RN-BSN/FNP/ANP ONLINE II Last Day for Filing P/F Option
DESCRIPTION:
URL:https://www.lasalle.edu/event/rn-bsn-fnp-anp-online-ii-last-day-for-filing-p-f-option-11/
LOCATION:Online
CATEGORIES:Academic-EVE
END:VEVENT
BEGIN:VEVENT
DTSTART;TZID=America/New_York:20241026T000000
DTEND;TZID=America/New_York:20241026T235959
DTSTAMP:20260420T231656
CREATED:20240118T172628Z
LAST-MODIFIED:20240118T172628Z
UID:10002356-1729900800-1729987199@www.lasalle.edu
SUMMARY:RN-BSN/FNP/ANP ONLINE II Last Day for Filing P/F Option
DESCRIPTION:
URL:https://www.lasalle.edu/event/rn-bsn-fnp-anp-online-ii-last-day-for-filing-p-f-option-8/
LOCATION:Online
CATEGORIES:Academic-EVE
END:VEVENT
BEGIN:VEVENT
DTSTART;TZID=America/New_York:20241025T000000
DTEND;TZID=America/New_York:20241025T235959
DTSTAMP:20260420T231656
CREATED:20240822T212519Z
LAST-MODIFIED:20240822T212519Z
UID:10003150-1729814400-1729900799@www.lasalle.edu
SUMMARY:MBA ONLINE I Grades Due
DESCRIPTION:
URL:https://www.lasalle.edu/event/mba-online-i-grades-due-12/
LOCATION:Online
CATEGORIES:Academic-GRAD
END:VEVENT
BEGIN:VEVENT
DTSTART;TZID=America/New_York:20241025T000000
DTEND;TZID=America/New_York:20241025T235959
DTSTAMP:20260420T231656
CREATED:20240118T172614Z
LAST-MODIFIED:20240118T172614Z
UID:10002354-1729814400-1729900799@www.lasalle.edu
SUMMARY:MBA ONLINE I Grades Due
DESCRIPTION:
URL:https://www.lasalle.edu/event/mba-online-i-grades-due-9/
LOCATION:Online
CATEGORIES:Academic-GRAD
END:VEVENT
BEGIN:VEVENT
DTSTART;TZID=America/New_York:20241025T000000
DTEND;TZID=America/New_York:20241025T235959
DTSTAMP:20260420T231656
CREATED:20240118T172609Z
LAST-MODIFIED:20240118T172609Z
UID:10002349-1729814400-1729900799@www.lasalle.edu
SUMMARY:MBA ONLINE I Grades Due
DESCRIPTION:
URL:https://www.lasalle.edu/event/mba-online-i-grades-due-8/
LOCATION:Online
CATEGORIES:Academic-GRAD
END:VEVENT
BEGIN:VEVENT
DTSTART;TZID=America/New_York:20241022T000000
DTEND;TZID=America/New_York:20241022T235959
DTSTAMP:20260420T231656
CREATED:20240822T212319Z
LAST-MODIFIED:20240822T212319Z
UID:10003145-1729555200-1729641599@www.lasalle.edu
SUMMARY:MBA ONLINE II Last Day to Add a Course
DESCRIPTION:
URL:https://www.lasalle.edu/event/mba-online-ii-last-day-to-add-a-course-11/
LOCATION:Online
CATEGORIES:Academic-GRAD
END:VEVENT
BEGIN:VEVENT
DTSTART;TZID=America/New_York:20241022T000000
DTEND;TZID=America/New_York:20241022T235959
DTSTAMP:20260420T231656
CREATED:20240118T172552Z
LAST-MODIFIED:20240118T172552Z
UID:10002344-1729555200-1729641599@www.lasalle.edu
SUMMARY:MBA ONLINE II Last Day to Add a Course
DESCRIPTION:
URL:https://www.lasalle.edu/event/mba-online-ii-last-day-to-add-a-course-8/
LOCATION:Online
CATEGORIES:Academic-GRAD
END:VEVENT
BEGIN:VEVENT
DTSTART;TZID=America/New_York:20241022T000000
DTEND;TZID=America/New_York:20241022T235959
DTSTAMP:20260420T231656
CREATED:20240118T172547Z
LAST-MODIFIED:20240118T172547Z
UID:10002339-1729555200-1729641599@www.lasalle.edu
SUMMARY:MBA ONLINE II Last Day to Add a Course
DESCRIPTION:
URL:https://www.lasalle.edu/event/mba-online-ii-last-day-to-add-a-course-7/
LOCATION:Online
CATEGORIES:Academic-GRAD
END:VEVENT
BEGIN:VEVENT
DTSTART;TZID=America/New_York:20241021T000000
DTEND;TZID=America/New_York:20241021T235959
DTSTAMP:20260420T231656
CREATED:20240822T212315Z
LAST-MODIFIED:20240822T212315Z
UID:10003141-1729468800-1729555199@www.lasalle.edu
SUMMARY:MBA ONLINE II Courses Begin
DESCRIPTION:
URL:https://www.lasalle.edu/event/mba-online-ii-courses-begin-8/
LOCATION:Online
CATEGORIES:Academic-GRAD
END:VEVENT
BEGIN:VEVENT
DTSTART;TZID=America/New_York:20241021T000000
DTEND;TZID=America/New_York:20241021T235959
DTSTAMP:20260420T231656
CREATED:20240118T172548Z
LAST-MODIFIED:20240118T172548Z
UID:10002340-1729468800-1729555199@www.lasalle.edu
SUMMARY:MBA ONLINE II Courses Begin
DESCRIPTION:
URL:https://www.lasalle.edu/event/mba-online-ii-courses-begin-6/
LOCATION:Online
CATEGORIES:Academic-GRAD
END:VEVENT
BEGIN:VEVENT
DTSTART;TZID=America/New_York:20241021T000000
DTEND;TZID=America/New_York:20241021T235959
DTSTAMP:20260420T231656
CREATED:20240118T172543Z
LAST-MODIFIED:20240118T172543Z
UID:10002335-1729468800-1729555199@www.lasalle.edu
SUMMARY:MBA ONLINE II Courses Begin
DESCRIPTION:
URL:https://www.lasalle.edu/event/mba-online-ii-courses-begin-5/
LOCATION:Online
CATEGORIES:Academic-GRAD
END:VEVENT
BEGIN:VEVENT
DTSTART;TZID=America/New_York:20241020T000000
DTEND;TZID=America/New_York:20241020T235959
DTSTAMP:20260420T231656
CREATED:20240822T212117Z
LAST-MODIFIED:20240822T212117Z
UID:10003138-1729382400-1729468799@www.lasalle.edu
SUMMARY:MBA ONLINE I Courses End
DESCRIPTION:
URL:https://www.lasalle.edu/event/mba-online-i-courses-end-12/
LOCATION:Online
CATEGORIES:Academic-GRAD
END:VEVENT
BEGIN:VEVENT
DTSTART;TZID=America/New_York:20241020T000000
DTEND;TZID=America/New_York:20241020T235959
DTSTAMP:20260420T231656
CREATED:20240118T172528Z
LAST-MODIFIED:20240118T172528Z
UID:10002332-1729382400-1729468799@www.lasalle.edu
SUMMARY:MBA ONLINE I Courses End
DESCRIPTION:
URL:https://www.lasalle.edu/event/mba-online-i-courses-end-8/
LOCATION:Online
CATEGORIES:Academic-GRAD
END:VEVENT
BEGIN:VEVENT
DTSTART;TZID=America/New_York:20241018T000000
DTEND;TZID=America/New_York:20241018T235959
DTSTAMP:20260420T231656
CREATED:20240822T212102Z
LAST-MODIFIED:20240822T212102Z
UID:10003135-1729209600-1729295999@www.lasalle.edu
SUMMARY:RN-BSN/FNP/ANP/ONLINE I Grades Due
DESCRIPTION:
URL:https://www.lasalle.edu/event/rn-bsn-fnp-anp-online-i-grades-due-12/
LOCATION:Online
CATEGORIES:Academic-EVE
END:VEVENT
BEGIN:VEVENT
DTSTART;TZID=America/New_York:20241018T000000
DTEND;TZID=America/New_York:20241018T235959
DTSTAMP:20260420T231656
CREATED:20240118T172508Z
LAST-MODIFIED:20240118T172508Z
UID:10002329-1729209600-1729295999@www.lasalle.edu
SUMMARY:RN-BSN/FNP/ANP/ONLINE I Grades Due
DESCRIPTION:
URL:https://www.lasalle.edu/event/rn-bsn-fnp-anp-online-i-grades-due-8/
LOCATION:Online
CATEGORIES:Academic-EVE
END:VEVENT
BEGIN:VEVENT
DTSTART;TZID=America/New_York:20241017T000000
DTEND;TZID=America/New_York:20241017T235959
DTSTAMP:20260420T231656
CREATED:20240822T212101Z
LAST-MODIFIED:20240822T212101Z
UID:10003133-1729123200-1729209599@www.lasalle.edu
SUMMARY:RN-BSN/FNP/ANP ONLINE II Last Day to Drop a Course
DESCRIPTION:
URL:https://www.lasalle.edu/event/rn-bsn-fnp-anp-online-ii-last-day-to-drop-a-course-11/
LOCATION:Online
CATEGORIES:Academic-EVE
END:VEVENT
BEGIN:VEVENT
DTSTART;TZID=America/New_York:20241017T000000
DTEND;TZID=America/New_York:20241017T235959
DTSTAMP:20260420T231656
CREATED:20240118T172506Z
LAST-MODIFIED:20240118T172506Z
UID:10002327-1729123200-1729209599@www.lasalle.edu
SUMMARY:RN-BSN/FNP/ANP ONLINE II Last Day to Drop a Course
DESCRIPTION:
URL:https://www.lasalle.edu/event/rn-bsn-fnp-anp-online-ii-last-day-to-drop-a-course-8/
LOCATION:Online
CATEGORIES:Academic-EVE
END:VEVENT
BEGIN:VEVENT
DTSTART;TZID=America/New_York:20241016T000000
DTEND;TZID=America/New_York:20241016T235959
DTSTAMP:20260420T231656
CREATED:20240822T212049Z
LAST-MODIFIED:20240822T212049Z
UID:10003130-1729036800-1729123199@www.lasalle.edu
SUMMARY:RN-BSN/FNP/ANP ONLINE II Courses Begin
DESCRIPTION:
URL:https://www.lasalle.edu/event/rn-bsn-fnp-anp-online-ii-courses-begin-11/
LOCATION:Online
CATEGORIES:Academic-EVE
END:VEVENT
BEGIN:VEVENT
DTSTART;TZID=America/New_York:20241016T000000
DTEND;TZID=America/New_York:20241016T235959
DTSTAMP:20260420T231656
CREATED:20240822T212047Z
LAST-MODIFIED:20240822T212047Z
UID:10003128-1729036800-1729123199@www.lasalle.edu
SUMMARY:MBA ONLINE II Last Day to Add a Course
DESCRIPTION:
URL:https://www.lasalle.edu/event/mba-online-ii-last-day-to-add-a-course-10/
LOCATION:Online
CATEGORIES:Academic-GRAD
END:VEVENT
BEGIN:VEVENT
DTSTART;TZID=America/New_York:20241016T000000
DTEND;TZID=America/New_York:20241016T235959
DTSTAMP:20260420T231656
CREATED:20240118T172446Z
LAST-MODIFIED:20240118T172446Z
UID:10002324-1729036800-1729123199@www.lasalle.edu
SUMMARY:RN-BSN/FNP/ANP ONLINE II Courses Begin
DESCRIPTION:
URL:https://www.lasalle.edu/event/rn-bsn-fnp-anp-online-ii-courses-begin-8/
LOCATION:Online
CATEGORIES:Academic-EVE
END:VEVENT
BEGIN:VEVENT
DTSTART;TZID=America/New_York:20241016T000000
DTEND;TZID=America/New_York:20241016T235959
DTSTAMP:20260420T231656
CREATED:20240118T172444Z
LAST-MODIFIED:20240118T172444Z
UID:10002322-1729036800-1729123199@www.lasalle.edu
SUMMARY:MBA ONLINE II Last Day to Add a Course
DESCRIPTION:
URL:https://www.lasalle.edu/event/mba-online-ii-last-day-to-add-a-course-6/
LOCATION:Online
CATEGORIES:Academic-GRAD
END:VEVENT
BEGIN:VEVENT
DTSTART;TZID=America/New_York:20241013T000000
DTEND;TZID=America/New_York:20241013T235959
DTSTAMP:20260420T231656
CREATED:20240822T212032Z
LAST-MODIFIED:20240822T212032Z
UID:10003125-1728777600-1728863999@www.lasalle.edu
SUMMARY:RN-BSN/FNP/ANP/ONLINE I Courses End
DESCRIPTION:
URL:https://www.lasalle.edu/event/rn-bsn-fnp-anp-online-i-courses-end-9/
LOCATION:Online
CATEGORIES:Academic-EVE
END:VEVENT
BEGIN:VEVENT
DTSTART;TZID=America/New_York:20241013T000000
DTEND;TZID=America/New_York:20241013T235959
DTSTAMP:20260420T231656
CREATED:20240118T171033Z
LAST-MODIFIED:20240118T171033Z
UID:10002319-1728777600-1728863999@www.lasalle.edu
SUMMARY:RN-BSN/FNP/ANP/ONLINE I Courses End
DESCRIPTION:
URL:https://www.lasalle.edu/event/rn-bsn-fnp-anp-online-i-courses-end-7/
LOCATION:Online
CATEGORIES:Academic-EVE
END:VEVENT
BEGIN:VEVENT
DTSTART;TZID=America/New_York:20241009T000000
DTEND;TZID=America/New_York:20241009T235959
DTSTAMP:20260420T231656
CREATED:20240822T212031Z
LAST-MODIFIED:20240822T212031Z
UID:10003123-1728432000-1728518399@www.lasalle.edu
SUMMARY:RN-BSN/FNP/ANP ONLINE II Last Day to Add a Course
DESCRIPTION:
URL:https://www.lasalle.edu/event/rn-bsn-fnp-anp-online-ii-last-day-to-add-a-course-11/
LOCATION:Online
CATEGORIES:Academic-EVE
END:VEVENT
BEGIN:VEVENT
DTSTART;TZID=America/New_York:20241009T000000
DTEND;TZID=America/New_York:20241009T235959
DTSTAMP:20260420T231656
CREATED:20240118T171031Z
LAST-MODIFIED:20240118T171031Z
UID:10002317-1728432000-1728518399@www.lasalle.edu
SUMMARY:RN-BSN/FNP/ANP ONLINE II Last Day to Add a Course
DESCRIPTION:
URL:https://www.lasalle.edu/event/rn-bsn-fnp-anp-online-ii-last-day-to-add-a-course-8/
LOCATION:Online
CATEGORIES:Academic-EVE
END:VEVENT
BEGIN:VEVENT
DTSTART;TZID=America/New_York:20241002T000000
DTEND;TZID=America/New_York:20241002T235959
DTSTAMP:20260420T231656
CREATED:20240822T212029Z
LAST-MODIFIED:20240822T212029Z
UID:10003121-1727827200-1727913599@www.lasalle.edu
SUMMARY:MBA ONLINE I Last Day for Withdrawal
DESCRIPTION:
URL:https://www.lasalle.edu/event/mba-online-i-last-day-for-withdrawal-11/
LOCATION:Online
CATEGORIES:Academic-GRAD
END:VEVENT
BEGIN:VEVENT
DTSTART;TZID=America/New_York:20241002T000000
DTEND;TZID=America/New_York:20241002T235959
DTSTAMP:20260420T231656
CREATED:20240118T171029Z
LAST-MODIFIED:20240118T171029Z
UID:10002315-1727827200-1727913599@www.lasalle.edu
SUMMARY:MBA ONLINE I Last Day for Withdrawal
DESCRIPTION:
URL:https://www.lasalle.edu/event/mba-online-i-last-day-for-withdrawal-8/
LOCATION:Online
CATEGORIES:Academic-GRAD
END:VEVENT
BEGIN:VEVENT
DTSTART;TZID=America/New_York:20240928T000000
DTEND;TZID=America/New_York:20240928T235959
DTSTAMP:20260420T231656
CREATED:20240822T212016Z
LAST-MODIFIED:20240822T212016Z
UID:10003118-1727481600-1727567999@www.lasalle.edu
SUMMARY:RN-BSN/FNP/ANP ONLINE I Last Day for Withdrawal
DESCRIPTION:
URL:https://www.lasalle.edu/event/rn-bsn-fnp-anp-online-i-last-day-for-withdrawal-11/
LOCATION:Online
CATEGORIES:Academic-EVE
END:VEVENT
BEGIN:VEVENT
DTSTART;TZID=America/New_York:20240928T000000
DTEND;TZID=America/New_York:20240928T235959
DTSTAMP:20260420T231656
CREATED:20240822T212015Z
LAST-MODIFIED:20240822T212015Z
UID:10003117-1727481600-1727567999@www.lasalle.edu
SUMMARY:7-Week 1 Last Day for Withdrawal
DESCRIPTION:
URL:https://www.lasalle.edu/event/7-week-1-last-day-for-withdrawal-2/
LOCATION:Online
CATEGORIES:Academic-EVE
END:VEVENT
BEGIN:VEVENT
DTSTART;TZID=America/New_York:20240928T000000
DTEND;TZID=America/New_York:20240928T235959
DTSTAMP:20260420T231656
CREATED:20240118T170831Z
LAST-MODIFIED:20240118T170831Z
UID:10002312-1727481600-1727567999@www.lasalle.edu
SUMMARY:RN-BSN/FNP/ANP ONLINE I Last Day for Withdrawal
DESCRIPTION:
URL:https://www.lasalle.edu/event/rn-bsn-fnp-anp-online-i-last-day-for-withdrawal-8/
LOCATION:Online
CATEGORIES:Academic-EVE
END:VEVENT
END:VCALENDAR