BEGIN:VCALENDAR
VERSION:2.0
PRODID:-//La Salle University - ECPv6.15.20//NONSGML v1.0//EN
CALSCALE:GREGORIAN
METHOD:PUBLISH
X-ORIGINAL-URL:https://www.lasalle.edu
X-WR-CALDESC:Events for La Salle University
REFRESH-INTERVAL;VALUE=DURATION:PT1H
X-Robots-Tag:noindex
X-PUBLISHED-TTL:PT1H
BEGIN:VTIMEZONE
TZID:America/New_York
BEGIN:DAYLIGHT
TZOFFSETFROM:-0500
TZOFFSETTO:-0400
TZNAME:EDT
DTSTART:20230312T070000
END:DAYLIGHT
BEGIN:STANDARD
TZOFFSETFROM:-0400
TZOFFSETTO:-0500
TZNAME:EST
DTSTART:20231105T060000
END:STANDARD
BEGIN:DAYLIGHT
TZOFFSETFROM:-0500
TZOFFSETTO:-0400
TZNAME:EDT
DTSTART:20240310T070000
END:DAYLIGHT
BEGIN:STANDARD
TZOFFSETFROM:-0400
TZOFFSETTO:-0500
TZNAME:EST
DTSTART:20241103T060000
END:STANDARD
BEGIN:DAYLIGHT
TZOFFSETFROM:-0500
TZOFFSETTO:-0400
TZNAME:EDT
DTSTART:20250309T070000
END:DAYLIGHT
BEGIN:STANDARD
TZOFFSETFROM:-0400
TZOFFSETTO:-0500
TZNAME:EST
DTSTART:20251102T060000
END:STANDARD
END:VTIMEZONE
BEGIN:VEVENT
DTSTART;TZID=America/New_York:20241020T080000
DTEND;TZID=America/New_York:20241020T200000
DTSTAMP:20260421T122120
CREATED:20241020T004141Z
LAST-MODIFIED:20241020T233857Z
UID:10003622-1729411200-1729454400@www.lasalle.edu
SUMMARY:Mock Trial Tournament
DESCRIPTION:Mock Trial Tournament
URL:https://www.lasalle.edu/event/mock-trial-tournament-39/
LOCATION:St. Benilde Tower 215
CATEGORIES:Leadership Development
END:VEVENT
BEGIN:VEVENT
DTSTART;TZID=America/New_York:20241019T080000
DTEND;TZID=America/New_York:20241019T200000
DTSTAMP:20260421T122120
CREATED:20241019T014125Z
LAST-MODIFIED:20241019T234509Z
UID:10003606-1729324800-1729368000@www.lasalle.edu
SUMMARY:Mock Trial Tournament
DESCRIPTION:Mock Trial Tournament
URL:https://www.lasalle.edu/event/mock-trial-tournament-25/
LOCATION:St. Benilde Tower 215
CATEGORIES:Leadership Development
END:VEVENT
BEGIN:VEVENT
DTSTART;TZID=America/New_York:20241018T080000
DTEND;TZID=America/New_York:20241018T200000
DTSTAMP:20260421T122120
CREATED:20241018T015303Z
LAST-MODIFIED:20241019T003556Z
UID:10003588-1729238400-1729281600@www.lasalle.edu
SUMMARY:Mock Trial Tournament
DESCRIPTION:Mock Trial Tournament
URL:https://www.lasalle.edu/event/mock-trial-tournament-10/
LOCATION:St. Benilde Tower 215
CATEGORIES:Leadership Development
END:VEVENT
END:VCALENDAR