BEGIN:VCALENDAR
VERSION:2.0
PRODID:-//La Salle University - ECPv6.15.20//NONSGML v1.0//EN
CALSCALE:GREGORIAN
METHOD:PUBLISH
X-WR-CALNAME:La Salle University
X-ORIGINAL-URL:https://www.lasalle.edu
X-WR-CALDESC:Events for La Salle University
REFRESH-INTERVAL;VALUE=DURATION:PT1H
X-Robots-Tag:noindex
X-PUBLISHED-TTL:PT1H
BEGIN:VTIMEZONE
TZID:America/New_York
BEGIN:DAYLIGHT
TZOFFSETFROM:-0500
TZOFFSETTO:-0400
TZNAME:EDT
DTSTART:20250309T070000
END:DAYLIGHT
BEGIN:STANDARD
TZOFFSETFROM:-0400
TZOFFSETTO:-0500
TZNAME:EST
DTSTART:20251102T060000
END:STANDARD
BEGIN:DAYLIGHT
TZOFFSETFROM:-0500
TZOFFSETTO:-0400
TZNAME:EDT
DTSTART:20260308T070000
END:DAYLIGHT
BEGIN:STANDARD
TZOFFSETFROM:-0400
TZOFFSETTO:-0500
TZNAME:EST
DTSTART:20261101T060000
END:STANDARD
BEGIN:DAYLIGHT
TZOFFSETFROM:-0500
TZOFFSETTO:-0400
TZNAME:EDT
DTSTART:20270314T070000
END:DAYLIGHT
BEGIN:STANDARD
TZOFFSETFROM:-0400
TZOFFSETTO:-0500
TZNAME:EST
DTSTART:20271107T060000
END:STANDARD
END:VTIMEZONE
BEGIN:VEVENT
DTSTART;TZID=America/New_York:20260422T170000
DTEND;TZID=America/New_York:20260422T190000
DTSTAMP:20260422T105336
CREATED:20260418T043747Z
LAST-MODIFIED:20260422T144833Z
UID:10005745-1776877200-1776884400@www.lasalle.edu
SUMMARY:Praise dance
DESCRIPTION:Praise dance
URL:https://www.lasalle.edu/event/praise-dance-20/
LOCATION:La Salle Union 301
CATEGORIES:Meeting - General
END:VEVENT
BEGIN:VEVENT
DTSTART;TZID=America/New_York:20260423T090000
DTEND;TZID=America/New_York:20260423T103000
DTSTAMP:20260422T105336
CREATED:20260418T214513Z
LAST-MODIFIED:20260422T144833Z
UID:10005746-1776934800-1776940200@www.lasalle.edu
SUMMARY:Campus tours
DESCRIPTION:Campus tours
URL:https://www.lasalle.edu/event/campus-tours-11/
LOCATION:Founders’ Hall Auditorium (105)
CATEGORIES:Entertainment
END:VEVENT
BEGIN:VEVENT
DTSTART;TZID=America/New_York:20260423T173000
DTEND;TZID=America/New_York:20260423T200000
DTSTAMP:20260422T105336
CREATED:20260418T214514Z
LAST-MODIFIED:20260422T144834Z
UID:10005747-1776965400-1776974400@www.lasalle.edu
SUMMARY:Communication and DART Showcase
DESCRIPTION:Communication and DART Showcase
URL:https://www.lasalle.edu/event/communication-and-dart-showcase/
LOCATION:Holroyd Science Center Atrium
CATEGORIES:University Celebrations
END:VEVENT
BEGIN:VEVENT
DTSTART;TZID=America/New_York:20260423T181500
DTEND;TZID=America/New_York:20260423T191500
DTSTAMP:20260422T105336
CREATED:20260418T214515Z
LAST-MODIFIED:20260422T144834Z
UID:10005748-1776968100-1776971700@www.lasalle.edu
SUMMARY:Stretching
DESCRIPTION:stretching
URL:https://www.lasalle.edu/event/stretching-6/
LOCATION:La Salle Union 301
CATEGORIES:Wellness/Recreation
END:VEVENT
BEGIN:VEVENT
DTSTART;TZID=America/New_York:20260424T110000
DTEND;TZID=America/New_York:20260424T120000
DTSTAMP:20260422T105336
CREATED:20260418T214516Z
LAST-MODIFIED:20260419T214210Z
UID:10005749-1777028400-1777032000@www.lasalle.edu
SUMMARY:Bankers Day
DESCRIPTION:Bankers Day – LSB
URL:https://www.lasalle.edu/event/bankers-day-11/
LOCATION:Founders’ Hall 284
CATEGORIES:Leadership Development
END:VEVENT
BEGIN:VEVENT
DTSTART;TZID=America/New_York:20260424T110000
DTEND;TZID=America/New_York:20260424T173000
DTSTAMP:20260422T105336
CREATED:20260418T214910Z
LAST-MODIFIED:20260419T224905Z
UID:10005750-1777028400-1777051800@www.lasalle.edu
SUMMARY:Bankers Day
DESCRIPTION:Bankers Day – LSB
URL:https://www.lasalle.edu/event/bankers-day-12/
LOCATION:Founders’ Hall 284
CATEGORIES:Leadership Development
END:VEVENT
BEGIN:VEVENT
DTSTART;TZID=America/New_York:20260424T143000
DTEND;TZID=America/New_York:20260424T173000
DTSTAMP:20260422T105336
CREATED:20260418T214911Z
LAST-MODIFIED:20260419T223729Z
UID:10005752-1777041000-1777051800@www.lasalle.edu
SUMMARY:Bankers Day
DESCRIPTION:Bankers Day – LSB
URL:https://www.lasalle.edu/event/bankers-day-13/
LOCATION:Founders’ Hall 178
CATEGORIES:Leadership Development
END:VEVENT
BEGIN:VEVENT
DTSTART;TZID=America/New_York:20260424T143000
DTEND;TZID=America/New_York:20260424T173000
DTSTAMP:20260422T105336
CREATED:20260418T214912Z
LAST-MODIFIED:20260419T223728Z
UID:10005753-1777041000-1777051800@www.lasalle.edu
SUMMARY:Bankers Day
DESCRIPTION:Bankers Day – LSB
URL:https://www.lasalle.edu/event/bankers-day-14/
LOCATION:Founders’ Hall 339
CATEGORIES:Leadership Development
END:VEVENT
BEGIN:VEVENT
DTSTART;TZID=America/New_York:20260424T143000
DTEND;TZID=America/New_York:20260424T173000
DTSTAMP:20260422T105336
CREATED:20260418T214912Z
LAST-MODIFIED:20260419T223728Z
UID:10005754-1777041000-1777051800@www.lasalle.edu
SUMMARY:Bankers Day
DESCRIPTION:Bankers Day – LSB
URL:https://www.lasalle.edu/event/bankers-day-15/
LOCATION:Founders’ Hall 376
CATEGORIES:Leadership Development
END:VEVENT
BEGIN:VEVENT
DTSTART;TZID=America/New_York:20260424T110000
DTEND;TZID=America/New_York:20260424T173000
DTSTAMP:20260422T105336
CREATED:20260419T235019Z
LAST-MODIFIED:20260420T173715Z
UID:10005756-1777028400-1777051800@www.lasalle.edu
SUMMARY:Bankers Day
DESCRIPTION:Bankers Day – LSB
URL:https://www.lasalle.edu/event/bankers-day-17/
LOCATION:Founders’ Hall 630
CATEGORIES:Leadership Development
END:VEVENT
BEGIN:VEVENT
DTSTART;TZID=America/New_York:20260424T110000
DTEND;TZID=America/New_York:20260424T173000
DTSTAMP:20260422T105336
CREATED:20260420T044757Z
LAST-MODIFIED:20260422T144920Z
UID:10005758-1777028400-1777051800@www.lasalle.edu
SUMMARY:Bankers Day
DESCRIPTION:Bankers Day – LSB
URL:https://www.lasalle.edu/event/bankers-day-18/
LOCATION:Founders’ Hall 439
CATEGORIES:Leadership Development
END:VEVENT
BEGIN:VEVENT
DTSTART;TZID=America/New_York:20260424T110000
DTEND;TZID=America/New_York:20260424T173000
DTSTAMP:20260422T105336
CREATED:20260420T073625Z
LAST-MODIFIED:20260422T083839Z
UID:10005759-1777028400-1777051800@www.lasalle.edu
SUMMARY:Bankers Day
DESCRIPTION:Bankers Day – LSB
URL:https://www.lasalle.edu/event/bankers-day-19/
LOCATION:Founders’ Hall 148
CATEGORIES:Leadership Development
END:VEVENT
BEGIN:VEVENT
DTSTART;TZID=America/New_York:20260424T110000
DTEND;TZID=America/New_York:20260424T173000
DTSTAMP:20260422T105336
CREATED:20260420T073625Z
LAST-MODIFIED:20260422T144919Z
UID:10005760-1777028400-1777051800@www.lasalle.edu
SUMMARY:Bankers Day
DESCRIPTION:Bankers Day – LSB
URL:https://www.lasalle.edu/event/bankers-day-20/
LOCATION:Founders’ Hall 335
CATEGORIES:Leadership Development
END:VEVENT
BEGIN:VEVENT
DTSTART;TZID=America/New_York:20260424T110000
DTEND;TZID=America/New_York:20260424T173000
DTSTAMP:20260422T105336
CREATED:20260421T133936Z
LAST-MODIFIED:20260421T133936Z
UID:10005761-1777028400-1777051800@www.lasalle.edu
SUMMARY:Bankers Day
DESCRIPTION:Bankers Day – LSB
URL:https://www.lasalle.edu/event/bankers-day-21/
LOCATION:Founders’ Hall Auditorium (105)
CATEGORIES:Leadership Development
END:VEVENT
BEGIN:VEVENT
DTSTART;TZID=America/New_York:20260424T110000
DTEND;TZID=America/New_York:20260424T173000
DTSTAMP:20260422T105336
CREATED:20260422T013919Z
LAST-MODIFIED:20260422T083839Z
UID:10005762-1777028400-1777051800@www.lasalle.edu
SUMMARY:Bankers Day
DESCRIPTION:Bankers Day – LSB
URL:https://www.lasalle.edu/event/bankers-day-22/
LOCATION:Founders’ Hall Atrium
CATEGORIES:Leadership Development
END:VEVENT
BEGIN:VEVENT
DTSTART;TZID=America/New_York:20260424T130000
DTEND;TZID=America/New_York:20260424T143000
DTSTAMP:20260422T105336
CREATED:20260420T015134Z
LAST-MODIFIED:20260422T144919Z
UID:10005757-1777035600-1777041000@www.lasalle.edu
SUMMARY:SEC Meeting
DESCRIPTION:SEC Meeting
URL:https://www.lasalle.edu/event/sec-meeting-15/
LOCATION:La Salle Union McShain Boardroom
CATEGORIES:Meeting - General
END:VEVENT
BEGIN:VEVENT
DTSTART;TZID=America/New_York:20260424T143000
DTEND;TZID=America/New_York:20260424T173000
DTSTAMP:20260422T105336
CREATED:20260419T044013Z
LAST-MODIFIED:20260422T144918Z
UID:10005755-1777041000-1777051800@www.lasalle.edu
SUMMARY:Bankers Day
DESCRIPTION:Bankers Day – LSB
URL:https://www.lasalle.edu/event/bankers-day-16/
LOCATION:Founders’ Hall 255
CATEGORIES:Leadership Development
END:VEVENT
BEGIN:VEVENT
DTSTART;TZID=America/New_York:20260424T170000
DTEND;TZID=America/New_York:20260424T190000
DTSTAMP:20260422T105336
CREATED:20260418T214910Z
LAST-MODIFIED:20260420T173715Z
UID:10005751-1777050000-1777057200@www.lasalle.edu
SUMMARY:Praise dance
DESCRIPTION:Praise dance
URL:https://www.lasalle.edu/event/praise-dance-21/
LOCATION:La Salle Union 301
CATEGORIES:Meeting - General
END:VEVENT
BEGIN:VEVENT
DTSTART;TZID=America/New_York:20260425T163000
DTEND;TZID=America/New_York:20260425T183000
DTSTAMP:20260422T105336
CREATED:20260422T013920Z
LAST-MODIFIED:20260422T083840Z
UID:10005763-1777134600-1777141800@www.lasalle.edu
SUMMARY:Sig Ep
DESCRIPTION:Sig Ep Reunion
URL:https://www.lasalle.edu/event/sig-ep/
LOCATION:La Salle Union Dunleavy Room
CATEGORIES:Meeting - General
END:VEVENT
BEGIN:VEVENT
DTSTART;TZID=America/New_York:20260425T170000
DTEND;TZID=America/New_York:20260425T220000
DTSTAMP:20260422T105336
CREATED:20260422T044630Z
LAST-MODIFIED:20260422T083840Z
UID:10005764-1777136400-1777154400@www.lasalle.edu
SUMMARY:The masque
DESCRIPTION:The masque
URL:https://www.lasalle.edu/event/the-masque-66/
LOCATION:La Salle Union Dan Rodden Theatre
CATEGORIES:Entertainment
END:VEVENT
BEGIN:VEVENT
DTSTART;TZID=America/New_York:20260427T153000
DTEND;TZID=America/New_York:20260427T173000
DTSTAMP:20260422T105336
CREATED:20260422T044631Z
LAST-MODIFIED:20260422T083841Z
UID:10005765-1777303800-1777311000@www.lasalle.edu
SUMMARY:Bankers Day
DESCRIPTION:Bankers Day – LSB
URL:https://www.lasalle.edu/event/bankers-day-23/
LOCATION:Founders’ Hall 174
CATEGORIES:Leadership Development
END:VEVENT
END:VCALENDAR